Workbook
Name Μαθήματα: Σύνοψη!$E$8:$E$204

Sheet Πρόγραμμα
A1: =Σύνοψη!C2 -> Εξεταστική | B1: =Σύνοψη!E2 -> Σεπτεμβρίου | C1: =Σύνοψη!C3 -> Από | D1: =Σύνοψη!E3 -> 46265 | E1: =Σύνοψη!C4 -> Έως | F1: =Σύνοψη!E4 -> 46283 | G1: =Σύνοψη!C5 -> Διάρκεια | H1: =Σύνοψη!E5 -> 3 εβδομάδες
A3: Ημερομηνία | B3: Ώρα | C3: 1ο Έτος | D3: 2ο Έτος | E3: 3ο Έτος | F3: 4ο Έτος | G3: 5ο Έτος | H3: Επί Πτυχίω
A4: =$D$1 -> 46265 | B4: 0.33333333 | C4: =IFERROR(__xludf.DUMMYFUNCTION("IFERROR(IF(SUMPRODUCT(('Σύνοψη'!$F$2:$F289=$A4)*('Σύνοψη'!$C$2:$C289=C$3)*('Σύνοψη'!$G$2:$G289=$B4))>0, TEXTJOIN(CHAR(10) & ""-----------------------"" & CHAR(10), TRUE, FILTER('Σύνοψη'!$E$2:$E289 & "" - "" & 'Σύνοψη'!$I$2:$I289 & "" ("" & 'Σύνοψη'!$J$2:$"&"J289 & "")"", 'Σύνοψη'!$F$2:$F289=$A4, 'Σύνοψη'!$G$2:$G289=$B4, 'Σύνοψη'!$C$2:$C289=C$3)), IF(SUMPRODUCT(('Σύνοψη'!$F$2:$F289=$A4)*('Σύνοψη'!$C$2:$C289=C$3)*('Σύνοψη'!$G$2:$G289<$B4)*('Σύνοψη'!$H$2:$H289>$B4))>0, CHAR(34), """") ), """")"),"") | D4: =IFERROR(__xludf.DUMMYFUNCTION("IFERROR(IF(SUMPRODUCT(('Σύνοψη'!$F$2:$F289=$A4)*('Σύνοψη'!$C$2:$C289=D$3)*('Σύνοψη'!$G$2:$G289=$B4))>0, TEXTJOIN(CHAR(10) & ""-----------------------"" & CHAR(10), TRUE, FILTER('Σύνοψη'!$E$2:$E289 & "" - "" & 'Σύνοψη'!$I$2:$I289 & "" ("" & 'Σύνοψη'!$J$2:$"&"J289 & "")"", 'Σύνοψη'!$F$2:$F289=$A4, 'Σύνοψη'!$G$2:$G289=$B4, 'Σύνοψη'!$C$2:$C289=D$3)), IF(SUMPRODUCT(('Σύνοψη'!$F$2:$F289=$A4)*('Σύνοψη'!$C$2:$C289=D$3)*('Σύνοψη'!$G$2:$G289<$B4)*('Σύνοψη'!$H$2:$H289>$B4))>0, CHAR(34), """") ), """")"),"") | E4: =IFERROR(__xludf.DUMMYFUNCTION("IFERROR(IF(SUMPRODUCT(('Σύνοψη'!$F$2:$F289=$A4)*('Σύνοψη'!$C$2:$C289=E$3)*('Σύνοψη'!$G$2:$G289=$B4))>0, TEXTJOIN(CHAR(10) & ""-----------------------"" & CHAR(10), TRUE, FILTER('Σύνοψη'!$E$2:$E289 & "" - "" & 'Σύνοψη'!$I$2:$I289 & "" ("" & 'Σύνοψη'!$J$2:$"&"J289 & "")"", 'Σύνοψη'!$F$2:$F289=$A4, 'Σύνοψη'!$G$2:$G289=$B4, 'Σύνοψη'!$C$2:$C289=E$3)), IF(SUMPRODUCT(('Σύνοψη'!$F$2:$F289=$A4)*('Σύνοψη'!$C$2:$C289=E$3)*('Σύνοψη'!$G$2:$G289<$B4)*('Σύνοψη'!$H$2:$H289>$B4))>0, CHAR(34), """") ), """")"),"") | F4: =IFERROR(__xludf.DUMMYFUNCTION("IFERROR(IF(SUMPRODUCT(('Σύνοψη'!$F$2:$F289=$A4)*('Σύνοψη'!$C$2:$C289=F$3)*('Σύνοψη'!$G$2:$G289=$B4))>0, TEXTJOIN(CHAR(10) & ""-----------------------"" & CHAR(10), TRUE, FILTER('Σύνοψη'!$E$2:$E289 & "" - "" & 'Σύνοψη'!$I$2:$I289 & "" ("" & 'Σύνοψη'!$J$2:$"&"J289 & "")"", 'Σύνοψη'!$F$2:$F289=$A4, 'Σύνοψη'!$G$2:$G289=$B4, 'Σύνοψη'!$C$2:$C289=F$3)), IF(SUMPRODUCT(('Σύνοψη'!$F$2:$F289=$A4)*('Σύνοψη'!$C$2:$C289=F$3)*('Σύνοψη'!$G$2:$G289<$B4)*('Σύνοψη'!$H$2:$H289>$B4))>0, CHAR(34), """") ), """")"),"") | G4: =IFERROR(__xludf.DUMMYFUNCTION("IFERROR(IF(SUMPRODUCT(('Σύνοψη'!$F$2:$F289=$A4)*('Σύνοψη'!$C$2:$C289=G$3)*('Σύνοψη'!$G$2:$G289=$B4))>0, TEXTJOIN(CHAR(10) & ""-----------------------"" & CHAR(10), TRUE, FILTER('Σύνοψη'!$E$2:$E289 & "" - "" & 'Σύνοψη'!$I$2:$I289 & "" ("" & 'Σύνοψη'!$J$2:$"&"J289 & "")"", 'Σύνοψη'!$F$2:$F289=$A4, 'Σύνοψη'!$G$2:$G289=$B4, 'Σύνοψη'!$C$2:$C289=G$3)), IF(SUMPRODUCT(('Σύνοψη'!$F$2:$F289=$A4)*('Σύνοψη'!$C$2:$C289=G$3)*('Σύνοψη'!$G$2:$G289<$B4)*('Σύνοψη'!$H$2:$H289>$B4))>0, CHAR(34), """") ), """")"),"") | H4: =IFERROR(__xludf.DUMMYFUNCTION("IFERROR(IF(SUMPRODUCT(('Σύνοψη'!$F$2:$F289=$A4)*('Σύνοψη'!$C$2:$C289=H$3)*('Σύνοψη'!$G$2:$G289=$B4))>0, TEXTJOIN(CHAR(10) & ""-----------------------"" & CHAR(10), TRUE, FILTER('Σύνοψη'!$E$2:$E289 & "" - "" & 'Σύνοψη'!$I$2:$I289 & "" ("" & 'Σύνοψη'!$J$2:$"&"J289 & "")"", 'Σύνοψη'!$F$2:$F289=$A4, 'Σύνοψη'!$G$2:$G289=$B4, 'Σύνοψη'!$C$2:$C289=H$3)), IF(SUMPRODUCT(('Σύνοψη'!$F$2:$F289=$A4)*('Σύνοψη'!$C$2:$C289=H$3)*('Σύνοψη'!$G$2:$G289<$B4)*('Σύνοψη'!$H$2:$H289>$B4))>0, CHAR(34), """") ), """")"),"")
A5: =$A$4 -> 46265 | B5: 0.375 | C5: =IFERROR(__xludf.DUMMYFUNCTION("IFERROR(IF(SUMPRODUCT(('Σύνοψη'!$F$2:$F289=$A5)*('Σύνοψη'!$C$2:$C289=C$3)*('Σύνοψη'!$G$2:$G289=$B5))>0, TEXTJOIN(CHAR(10) & ""-----------------------"" & CHAR(10), TRUE, FILTER('Σύνοψη'!$E$2:$E289 & "" - "" & 'Σύνοψη'!$I$2:$I289 & "" ("" & 'Σύνοψη'!$J$2:$"&"J289 & "")"", 'Σύνοψη'!$F$2:$F289=$A5, 'Σύνοψη'!$G$2:$G289=$B5, 'Σύνοψη'!$C$2:$C289=C$3)), IF(SUMPRODUCT(('Σύνοψη'!$F$2:$F289=$A5)*('Σύνοψη'!$C$2:$C289=C$3)*('Σύνοψη'!$G$2:$G289<$B5)*('Σύνοψη'!$H$2:$H289>$B5))>0, CHAR(34), """") ), """")"),"") | D5: =IFERROR(__xludf.DUMMYFUNCTION("IFERROR(IF(SUMPRODUCT(('Σύνοψη'!$F$2:$F289=$A5)*('Σύνοψη'!$C$2:$C289=D$3)*('Σύνοψη'!$G$2:$G289=$B5))>0, TEXTJOIN(CHAR(10) & ""-----------------------"" & CHAR(10), TRUE, FILTER('Σύνοψη'!$E$2:$E289 & "" - "" & 'Σύνοψη'!$I$2:$I289 & "" ("" & 'Σύνοψη'!$J$2:$"&"J289 & "")"", 'Σύνοψη'!$F$2:$F289=$A5, 'Σύνοψη'!$G$2:$G289=$B5, 'Σύνοψη'!$C$2:$C289=D$3)), IF(SUMPRODUCT(('Σύνοψη'!$F$2:$F289=$A5)*('Σύνοψη'!$C$2:$C289=D$3)*('Σύνοψη'!$G$2:$G289<$B5)*('Σύνοψη'!$H$2:$H289>$B5))>0, CHAR(34), """") ), """")"),"") | E5: =IFERROR(__xludf.DUMMYFUNCTION("IFERROR(IF(SUMPRODUCT(('Σύνοψη'!$F$2:$F289=$A5)*('Σύνοψη'!$C$2:$C289=E$3)*('Σύνοψη'!$G$2:$G289=$B5))>0, TEXTJOIN(CHAR(10) & ""-----------------------"" & CHAR(10), TRUE, FILTER('Σύνοψη'!$E$2:$E289 & "" - "" & 'Σύνοψη'!$I$2:$I289 & "" ("" & 'Σύνοψη'!$J$2:$"&"J289 & "")"", 'Σύνοψη'!$F$2:$F289=$A5, 'Σύνοψη'!$G$2:$G289=$B5, 'Σύνοψη'!$C$2:$C289=E$3)), IF(SUMPRODUCT(('Σύνοψη'!$F$2:$F289=$A5)*('Σύνοψη'!$C$2:$C289=E$3)*('Σύνοψη'!$G$2:$G289<$B5)*('Σύνοψη'!$H$2:$H289>$B5))>0, CHAR(34), """") ), """")"),"") | F5: =IFERROR(__xludf.DUMMYFUNCTION("IFERROR(IF(SUMPRODUCT(('Σύνοψη'!$F$2:$F289=$A5)*('Σύνοψη'!$C$2:$C289=F$3)*('Σύνοψη'!$G$2:$G289=$B5))>0, TEXTJOIN(CHAR(10) & ""-----------------------"" & CHAR(10), TRUE, FILTER('Σύνοψη'!$E$2:$E289 & "" - "" & 'Σύνοψη'!$I$2:$I289 & "" ("" & 'Σύνοψη'!$J$2:$"&"J289 & "")"", 'Σύνοψη'!$F$2:$F289=$A5, 'Σύνοψη'!$G$2:$G289=$B5, 'Σύνοψη'!$C$2:$C289=F$3)), IF(SUMPRODUCT(('Σύνοψη'!$F$2:$F289=$A5)*('Σύνοψη'!$C$2:$C289=F$3)*('Σύνοψη'!$G$2:$G289<$B5)*('Σύνοψη'!$H$2:$H289>$B5))>0, CHAR(34), """") ), """")"),"") | G5: =IFERROR(__xludf.DUMMYFUNCTION("IFERROR(IF(SUMPRODUCT(('Σύνοψη'!$F$2:$F289=$A5)*('Σύνοψη'!$C$2:$C289=G$3)*('Σύνοψη'!$G$2:$G289=$B5))>0, TEXTJOIN(CHAR(10) & ""-----------------------"" & CHAR(10), TRUE, FILTER('Σύνοψη'!$E$2:$E289 & "" - "" & 'Σύνοψη'!$I$2:$I289 & "" ("" & 'Σύνοψη'!$J$2:$"&"J289 & "")"", 'Σύνοψη'!$F$2:$F289=$A5, 'Σύνοψη'!$G$2:$G289=$B5, 'Σύνοψη'!$C$2:$C289=G$3)), IF(SUMPRODUCT(('Σύνοψη'!$F$2:$F289=$A5)*('Σύνοψη'!$C$2:$C289=G$3)*('Σύνοψη'!$G$2:$G289<$B5)*('Σύνοψη'!$H$2:$H289>$B5))>0, CHAR(34), """") ), """")"),"Πρακτική Άσκηση στη Διαγνωστική Παθολογική Ανατομική ΙΙ (Γραπτά) - 09:00 - 12:00 (Αίθουσα Έναντι Χειρουργικής)") -> Πρακτική Άσκηση στη Διαγνωστική Παθολογική Ανατομική ΙΙ (Γραπτά) - 09:00 - 12:00 (Αίθουσα Έναντι Χειρουργικής) | H5: =IFERROR(__xludf.DUMMYFUNCTION("IFERROR(IF(SUMPRODUCT(('Σύνοψη'!$F$2:$F289=$A5)*('Σύνοψη'!$C$2:$C289=H$3)*('Σύνοψη'!$G$2:$G289=$B5))>0, TEXTJOIN(CHAR(10) & ""-----------------------"" & CHAR(10), TRUE, FILTER('Σύνοψη'!$E$2:$E289 & "" - "" & 'Σύνοψη'!$I$2:$I289 & "" ("" & 'Σύνοψη'!$J$2:$"&"J289 & "")"", 'Σύνοψη'!$F$2:$F289=$A5, 'Σύνοψη'!$G$2:$G289=$B5, 'Σύνοψη'!$C$2:$C289=H$3)), IF(SUMPRODUCT(('Σύνοψη'!$F$2:$F289=$A5)*('Σύνοψη'!$C$2:$C289=H$3)*('Σύνοψη'!$G$2:$G289<$B5)*('Σύνοψη'!$H$2:$H289>$B5))>0, CHAR(34), """") ), """")"),"")
A6: =$A$4 -> 46265 | B6: 0.41666667 | C6: =IFERROR(__xludf.DUMMYFUNCTION("IFERROR(IF(SUMPRODUCT(('Σύνοψη'!$F$2:$F289=$A6)*('Σύνοψη'!$C$2:$C289=C$3)*('Σύνοψη'!$G$2:$G289=$B6))>0, TEXTJOIN(CHAR(10) & ""-----------------------"" & CHAR(10), TRUE, FILTER('Σύνοψη'!$E$2:$E289 & "" - "" & 'Σύνοψη'!$I$2:$I289 & "" ("" & 'Σύνοψη'!$J$2:$"&"J289 & "")"", 'Σύνοψη'!$F$2:$F289=$A6, 'Σύνοψη'!$G$2:$G289=$B6, 'Σύνοψη'!$C$2:$C289=C$3)), IF(SUMPRODUCT(('Σύνοψη'!$F$2:$F289=$A6)*('Σύνοψη'!$C$2:$C289=C$3)*('Σύνοψη'!$G$2:$G289<$B6)*('Σύνοψη'!$H$2:$H289>$B6))>0, CHAR(34), """") ), """")"),"") | D6: =IFERROR(__xludf.DUMMYFUNCTION("IFERROR(IF(SUMPRODUCT(('Σύνοψη'!$F$2:$F289=$A6)*('Σύνοψη'!$C$2:$C289=D$3)*('Σύνοψη'!$G$2:$G289=$B6))>0, TEXTJOIN(CHAR(10) & ""-----------------------"" & CHAR(10), TRUE, FILTER('Σύνοψη'!$E$2:$E289 & "" - "" & 'Σύνοψη'!$I$2:$I289 & "" ("" & 'Σύνοψη'!$J$2:$"&"J289 & "")"", 'Σύνοψη'!$F$2:$F289=$A6, 'Σύνοψη'!$G$2:$G289=$B6, 'Σύνοψη'!$C$2:$C289=D$3)), IF(SUMPRODUCT(('Σύνοψη'!$F$2:$F289=$A6)*('Σύνοψη'!$C$2:$C289=D$3)*('Σύνοψη'!$G$2:$G289<$B6)*('Σύνοψη'!$H$2:$H289>$B6))>0, CHAR(34), """") ), """")"),"") | E6: =IFERROR(__xludf.DUMMYFUNCTION("IFERROR(IF(SUMPRODUCT(('Σύνοψη'!$F$2:$F289=$A6)*('Σύνοψη'!$C$2:$C289=E$3)*('Σύνοψη'!$G$2:$G289=$B6))>0, TEXTJOIN(CHAR(10) & ""-----------------------"" & CHAR(10), TRUE, FILTER('Σύνοψη'!$E$2:$E289 & "" - "" & 'Σύνοψη'!$I$2:$I289 & "" ("" & 'Σύνοψη'!$J$2:$"&"J289 & "")"", 'Σύνοψη'!$F$2:$F289=$A6, 'Σύνοψη'!$G$2:$G289=$B6, 'Σύνοψη'!$C$2:$C289=E$3)), IF(SUMPRODUCT(('Σύνοψη'!$F$2:$F289=$A6)*('Σύνοψη'!$C$2:$C289=E$3)*('Σύνοψη'!$G$2:$G289<$B6)*('Σύνοψη'!$H$2:$H289>$B6))>0, CHAR(34), """") ), """")"),"") | F6: =IFERROR(__xludf.DUMMYFUNCTION("IFERROR(IF(SUMPRODUCT(('Σύνοψη'!$F$2:$F289=$A6)*('Σύνοψη'!$C$2:$C289=F$3)*('Σύνοψη'!$G$2:$G289=$B6))>0, TEXTJOIN(CHAR(10) & ""-----------------------"" & CHAR(10), TRUE, FILTER('Σύνοψη'!$E$2:$E289 & "" - "" & 'Σύνοψη'!$I$2:$I289 & "" ("" & 'Σύνοψη'!$J$2:$"&"J289 & "")"", 'Σύνοψη'!$F$2:$F289=$A6, 'Σύνοψη'!$G$2:$G289=$B6, 'Σύνοψη'!$C$2:$C289=F$3)), IF(SUMPRODUCT(('Σύνοψη'!$F$2:$F289=$A6)*('Σύνοψη'!$C$2:$C289=F$3)*('Σύνοψη'!$G$2:$G289<$B6)*('Σύνοψη'!$H$2:$H289>$B6))>0, CHAR(34), """") ), """")"),"") | G6: =IFERROR(__xludf.DUMMYFUNCTION("IFERROR(IF(SUMPRODUCT(('Σύνοψη'!$F$2:$F289=$A6)*('Σύνοψη'!$C$2:$C289=G$3)*('Σύνοψη'!$G$2:$G289=$B6))>0, TEXTJOIN(CHAR(10) & ""-----------------------"" & CHAR(10), TRUE, FILTER('Σύνοψη'!$E$2:$E289 & "" - "" & 'Σύνοψη'!$I$2:$I289 & "" ("" & 'Σύνοψη'!$J$2:$"&"J289 & "")"", 'Σύνοψη'!$F$2:$F289=$A6, 'Σύνοψη'!$G$2:$G289=$B6, 'Σύνοψη'!$C$2:$C289=G$3)), IF(SUMPRODUCT(('Σύνοψη'!$F$2:$F289=$A6)*('Σύνοψη'!$C$2:$C289=G$3)*('Σύνοψη'!$G$2:$G289<$B6)*('Σύνοψη'!$H$2:$H289>$B6))>0, CHAR(34), """") ), """")"),"""") -> " | H6: =IFERROR(__xludf.DUMMYFUNCTION("IFERROR(IF(SUMPRODUCT(('Σύνοψη'!$F$2:$F289=$A6)*('Σύνοψη'!$C$2:$C289=H$3)*('Σύνοψη'!$G$2:$G289=$B6))>0, TEXTJOIN(CHAR(10) & ""-----------------------"" & CHAR(10), TRUE, FILTER('Σύνοψη'!$E$2:$E289 & "" - "" & 'Σύνοψη'!$I$2:$I289 & "" ("" & 'Σύνοψη'!$J$2:$"&"J289 & "")"", 'Σύνοψη'!$F$2:$F289=$A6, 'Σύνοψη'!$G$2:$G289=$B6, 'Σύνοψη'!$C$2:$C289=H$3)), IF(SUMPRODUCT(('Σύνοψη'!$F$2:$F289=$A6)*('Σύνοψη'!$C$2:$C289=H$3)*('Σύνοψη'!$G$2:$G289<$B6)*('Σύνοψη'!$H$2:$H289>$B6))>0, CHAR(34), """") ), """")"),"")
A7: =$A$4 -> 46265 | B7: 0.45833333 | C7: =IFERROR(__xludf.DUMMYFUNCTION("IFERROR(IF(SUMPRODUCT(('Σύνοψη'!$F$2:$F289=$A7)*('Σύνοψη'!$C$2:$C289=C$3)*('Σύνοψη'!$G$2:$G289=$B7))>0, TEXTJOIN(CHAR(10) & ""-----------------------"" & CHAR(10), TRUE, FILTER('Σύνοψη'!$E$2:$E289 & "" - "" & 'Σύνοψη'!$I$2:$I289 & "" ("" & 'Σύνοψη'!$J$2:$"&"J289 & "")"", 'Σύνοψη'!$F$2:$F289=$A7, 'Σύνοψη'!$G$2:$G289=$B7, 'Σύνοψη'!$C$2:$C289=C$3)), IF(SUMPRODUCT(('Σύνοψη'!$F$2:$F289=$A7)*('Σύνοψη'!$C$2:$C289=C$3)*('Σύνοψη'!$G$2:$G289<$B7)*('Σύνοψη'!$H$2:$H289>$B7))>0, CHAR(34), """") ), """")"),"") | D7: =IFERROR(__xludf.DUMMYFUNCTION("IFERROR(IF(SUMPRODUCT(('Σύνοψη'!$F$2:$F289=$A7)*('Σύνοψη'!$C$2:$C289=D$3)*('Σύνοψη'!$G$2:$G289=$B7))>0, TEXTJOIN(CHAR(10) & ""-----------------------"" & CHAR(10), TRUE, FILTER('Σύνοψη'!$E$2:$E289 & "" - "" & 'Σύνοψη'!$I$2:$I289 & "" ("" & 'Σύνοψη'!$J$2:$"&"J289 & "")"", 'Σύνοψη'!$F$2:$F289=$A7, 'Σύνοψη'!$G$2:$G289=$B7, 'Σύνοψη'!$C$2:$C289=D$3)), IF(SUMPRODUCT(('Σύνοψη'!$F$2:$F289=$A7)*('Σύνοψη'!$C$2:$C289=D$3)*('Σύνοψη'!$G$2:$G289<$B7)*('Σύνοψη'!$H$2:$H289>$B7))>0, CHAR(34), """") ), """")"),"") | E7: =IFERROR(__xludf.DUMMYFUNCTION("IFERROR(IF(SUMPRODUCT(('Σύνοψη'!$F$2:$F289=$A7)*('Σύνοψη'!$C$2:$C289=E$3)*('Σύνοψη'!$G$2:$G289=$B7))>0, TEXTJOIN(CHAR(10) & ""-----------------------"" & CHAR(10), TRUE, FILTER('Σύνοψη'!$E$2:$E289 & "" - "" & 'Σύνοψη'!$I$2:$I289 & "" ("" & 'Σύνοψη'!$J$2:$"&"J289 & "")"", 'Σύνοψη'!$F$2:$F289=$A7, 'Σύνοψη'!$G$2:$G289=$B7, 'Σύνοψη'!$C$2:$C289=E$3)), IF(SUMPRODUCT(('Σύνοψη'!$F$2:$F289=$A7)*('Σύνοψη'!$C$2:$C289=E$3)*('Σύνοψη'!$G$2:$G289<$B7)*('Σύνοψη'!$H$2:$H289>$B7))>0, CHAR(34), """") ), """")"),"") | F7: =IFERROR(__xludf.DUMMYFUNCTION("IFERROR(IF(SUMPRODUCT(('Σύνοψη'!$F$2:$F289=$A7)*('Σύνοψη'!$C$2:$C289=F$3)*('Σύνοψη'!$G$2:$G289=$B7))>0, TEXTJOIN(CHAR(10) & ""-----------------------"" & CHAR(10), TRUE, FILTER('Σύνοψη'!$E$2:$E289 & "" - "" & 'Σύνοψη'!$I$2:$I289 & "" ("" & 'Σύνοψη'!$J$2:$"&"J289 & "")"", 'Σύνοψη'!$F$2:$F289=$A7, 'Σύνοψη'!$G$2:$G289=$B7, 'Σύνοψη'!$C$2:$C289=F$3)), IF(SUMPRODUCT(('Σύνοψη'!$F$2:$F289=$A7)*('Σύνοψη'!$C$2:$C289=F$3)*('Σύνοψη'!$G$2:$G289<$B7)*('Σύνοψη'!$H$2:$H289>$B7))>0, CHAR(34), """") ), """")"),"") | G7: =IFERROR(__xludf.DUMMYFUNCTION("IFERROR(IF(SUMPRODUCT(('Σύνοψη'!$F$2:$F289=$A7)*('Σύνοψη'!$C$2:$C289=G$3)*('Σύνοψη'!$G$2:$G289=$B7))>0, TEXTJOIN(CHAR(10) & ""-----------------------"" & CHAR(10), TRUE, FILTER('Σύνοψη'!$E$2:$E289 & "" - "" & 'Σύνοψη'!$I$2:$I289 & "" ("" & 'Σύνοψη'!$J$2:$"&"J289 & "")"", 'Σύνοψη'!$F$2:$F289=$A7, 'Σύνοψη'!$G$2:$G289=$B7, 'Σύνοψη'!$C$2:$C289=G$3)), IF(SUMPRODUCT(('Σύνοψη'!$F$2:$F289=$A7)*('Σύνοψη'!$C$2:$C289=G$3)*('Σύνοψη'!$G$2:$G289<$B7)*('Σύνοψη'!$H$2:$H289>$B7))>0, CHAR(34), """") ), """")"),"""") -> " | H7: =IFERROR(__xludf.DUMMYFUNCTION("IFERROR(IF(SUMPRODUCT(('Σύνοψη'!$F$2:$F289=$A7)*('Σύνοψη'!$C$2:$C289=H$3)*('Σύνοψη'!$G$2:$G289=$B7))>0, TEXTJOIN(CHAR(10) & ""-----------------------"" & CHAR(10), TRUE, FILTER('Σύνοψη'!$E$2:$E289 & "" - "" & 'Σύνοψη'!$I$2:$I289 & "" ("" & 'Σύνοψη'!$J$2:$"&"J289 & "")"", 'Σύνοψη'!$F$2:$F289=$A7, 'Σύνοψη'!$G$2:$G289=$B7, 'Σύνοψη'!$C$2:$C289=H$3)), IF(SUMPRODUCT(('Σύνοψη'!$F$2:$F289=$A7)*('Σύνοψη'!$C$2:$C289=H$3)*('Σύνοψη'!$G$2:$G289<$B7)*('Σύνοψη'!$H$2:$H289>$B7))>0, CHAR(34), """") ), """")"),"")
A8: =$A$4 -> 46265 | B8: 0.5 | C8: =IFERROR(__xludf.DUMMYFUNCTION("IFERROR(IF(SUMPRODUCT(('Σύνοψη'!$F$2:$F289=$A8)*('Σύνοψη'!$C$2:$C289=C$3)*('Σύνοψη'!$G$2:$G289=$B8))>0, TEXTJOIN(CHAR(10) & ""-----------------------"" & CHAR(10), TRUE, FILTER('Σύνοψη'!$E$2:$E289 & "" - "" & 'Σύνοψη'!$I$2:$I289 & "" ("" & 'Σύνοψη'!$J$2:$"&"J289 & "")"", 'Σύνοψη'!$F$2:$F289=$A8, 'Σύνοψη'!$G$2:$G289=$B8, 'Σύνοψη'!$C$2:$C289=C$3)), IF(SUMPRODUCT(('Σύνοψη'!$F$2:$F289=$A8)*('Σύνοψη'!$C$2:$C289=C$3)*('Σύνοψη'!$G$2:$G289<$B8)*('Σύνοψη'!$H$2:$H289>$B8))>0, CHAR(34), """") ), """")"),"Ζωολογία - 12:00 - 15:00 (Αμφιθέατρα)") -> Ζωολογία - 12:00 - 15:00 (Αμφιθέατρα) | D8: =IFERROR(__xludf.DUMMYFUNCTION("IFERROR(IF(SUMPRODUCT(('Σύνοψη'!$F$2:$F289=$A8)*('Σύνοψη'!$C$2:$C289=D$3)*('Σύνοψη'!$G$2:$G289=$B8))>0, TEXTJOIN(CHAR(10) & ""-----------------------"" & CHAR(10), TRUE, FILTER('Σύνοψη'!$E$2:$E289 & "" - "" & 'Σύνοψη'!$I$2:$I289 & "" ("" & 'Σύνοψη'!$J$2:$"&"J289 & "")"", 'Σύνοψη'!$F$2:$F289=$A8, 'Σύνοψη'!$G$2:$G289=$B8, 'Σύνοψη'!$C$2:$C289=D$3)), IF(SUMPRODUCT(('Σύνοψη'!$F$2:$F289=$A8)*('Σύνοψη'!$C$2:$C289=D$3)*('Σύνοψη'!$G$2:$G289<$B8)*('Σύνοψη'!$H$2:$H289>$B8))>0, CHAR(34), """") ), """")"),"") | E8: =IFERROR(__xludf.DUMMYFUNCTION("IFERROR(IF(SUMPRODUCT(('Σύνοψη'!$F$2:$F289=$A8)*('Σύνοψη'!$C$2:$C289=E$3)*('Σύνοψη'!$G$2:$G289=$B8))>0, TEXTJOIN(CHAR(10) & ""-----------------------"" & CHAR(10), TRUE, FILTER('Σύνοψη'!$E$2:$E289 & "" - "" & 'Σύνοψη'!$I$2:$I289 & "" ("" & 'Σύνοψη'!$J$2:$"&"J289 & "")"", 'Σύνοψη'!$F$2:$F289=$A8, 'Σύνοψη'!$G$2:$G289=$B8, 'Σύνοψη'!$C$2:$C289=E$3)), IF(SUMPRODUCT(('Σύνοψη'!$F$2:$F289=$A8)*('Σύνοψη'!$C$2:$C289=E$3)*('Σύνοψη'!$G$2:$G289<$B8)*('Σύνοψη'!$H$2:$H289>$B8))>0, CHAR(34), """") ), """")"),"") | F8: =IFERROR(__xludf.DUMMYFUNCTION("IFERROR(IF(SUMPRODUCT(('Σύνοψη'!$F$2:$F289=$A8)*('Σύνοψη'!$C$2:$C289=F$3)*('Σύνοψη'!$G$2:$G289=$B8))>0, TEXTJOIN(CHAR(10) & ""-----------------------"" & CHAR(10), TRUE, FILTER('Σύνοψη'!$E$2:$E289 & "" - "" & 'Σύνοψη'!$I$2:$I289 & "" ("" & 'Σύνοψη'!$J$2:$"&"J289 & "")"", 'Σύνοψη'!$F$2:$F289=$A8, 'Σύνοψη'!$G$2:$G289=$B8, 'Σύνοψη'!$C$2:$C289=F$3)), IF(SUMPRODUCT(('Σύνοψη'!$F$2:$F289=$A8)*('Σύνοψη'!$C$2:$C289=F$3)*('Σύνοψη'!$G$2:$G289<$B8)*('Σύνοψη'!$H$2:$H289>$B8))>0, CHAR(34), """") ), """")"),"") | G8: =IFERROR(__xludf.DUMMYFUNCTION("IFERROR(IF(SUMPRODUCT(('Σύνοψη'!$F$2:$F289=$A8)*('Σύνοψη'!$C$2:$C289=G$3)*('Σύνοψη'!$G$2:$G289=$B8))>0, TEXTJOIN(CHAR(10) & ""-----------------------"" & CHAR(10), TRUE, FILTER('Σύνοψη'!$E$2:$E289 & "" - "" & 'Σύνοψη'!$I$2:$I289 & "" ("" & 'Σύνοψη'!$J$2:$"&"J289 & "")"", 'Σύνοψη'!$F$2:$F289=$A8, 'Σύνοψη'!$G$2:$G289=$B8, 'Σύνοψη'!$C$2:$C289=G$3)), IF(SUMPRODUCT(('Σύνοψη'!$F$2:$F289=$A8)*('Σύνοψη'!$C$2:$C289=G$3)*('Σύνοψη'!$G$2:$G289<$B8)*('Σύνοψη'!$H$2:$H289>$B8))>0, CHAR(34), """") ), """")"),"Πρακτική Άσκηση στη Διαγνωστική Παθολογική Ανατομική ΙΙ (Πρακτικά) - 12:00 - 17:00 (Νεκροτομείο)") -> Πρακτική Άσκηση στη Διαγνωστική Παθολογική Ανατομική ΙΙ (Πρακτικά) - 12:00 - 17:00 (Νεκροτομείο) | H8: =IFERROR(__xludf.DUMMYFUNCTION("IFERROR(IF(SUMPRODUCT(('Σύνοψη'!$F$2:$F289=$A8)*('Σύνοψη'!$C$2:$C289=H$3)*('Σύνοψη'!$G$2:$G289=$B8))>0, TEXTJOIN(CHAR(10) & ""-----------------------"" & CHAR(10), TRUE, FILTER('Σύνοψη'!$E$2:$E289 & "" - "" & 'Σύνοψη'!$I$2:$I289 & "" ("" & 'Σύνοψη'!$J$2:$"&"J289 & "")"", 'Σύνοψη'!$F$2:$F289=$A8, 'Σύνοψη'!$G$2:$G289=$B8, 'Σύνοψη'!$C$2:$C289=H$3)), IF(SUMPRODUCT(('Σύνοψη'!$F$2:$F289=$A8)*('Σύνοψη'!$C$2:$C289=H$3)*('Σύνοψη'!$G$2:$G289<$B8)*('Σύνοψη'!$H$2:$H289>$B8))>0, CHAR(34), """") ), """")"),"")
A9: =$A$4 -> 46265 | B9: 0.54166667 | C9: =IFERROR(__xludf.DUMMYFUNCTION("IFERROR(IF(SUMPRODUCT(('Σύνοψη'!$F$2:$F289=$A9)*('Σύνοψη'!$C$2:$C289=C$3)*('Σύνοψη'!$G$2:$G289=$B9))>0, TEXTJOIN(CHAR(10) & ""-----------------------"" & CHAR(10), TRUE, FILTER('Σύνοψη'!$E$2:$E289 & "" - "" & 'Σύνοψη'!$I$2:$I289 & "" ("" & 'Σύνοψη'!$J$2:$"&"J289 & "")"", 'Σύνοψη'!$F$2:$F289=$A9, 'Σύνοψη'!$G$2:$G289=$B9, 'Σύνοψη'!$C$2:$C289=C$3)), IF(SUMPRODUCT(('Σύνοψη'!$F$2:$F289=$A9)*('Σύνοψη'!$C$2:$C289=C$3)*('Σύνοψη'!$G$2:$G289<$B9)*('Σύνοψη'!$H$2:$H289>$B9))>0, CHAR(34), """") ), """")"),"""") -> " | D9: =IFERROR(__xludf.DUMMYFUNCTION("IFERROR(IF(SUMPRODUCT(('Σύνοψη'!$F$2:$F289=$A9)*('Σύνοψη'!$C$2:$C289=D$3)*('Σύνοψη'!$G$2:$G289=$B9))>0, TEXTJOIN(CHAR(10) & ""-----------------------"" & CHAR(10), TRUE, FILTER('Σύνοψη'!$E$2:$E289 & "" - "" & 'Σύνοψη'!$I$2:$I289 & "" ("" & 'Σύνοψη'!$J$2:$"&"J289 & "")"", 'Σύνοψη'!$F$2:$F289=$A9, 'Σύνοψη'!$G$2:$G289=$B9, 'Σύνοψη'!$C$2:$C289=D$3)), IF(SUMPRODUCT(('Σύνοψη'!$F$2:$F289=$A9)*('Σύνοψη'!$C$2:$C289=D$3)*('Σύνοψη'!$G$2:$G289<$B9)*('Σύνοψη'!$H$2:$H289>$B9))>0, CHAR(34), """") ), """")"),"") | E9: =IFERROR(__xludf.DUMMYFUNCTION("IFERROR(IF(SUMPRODUCT(('Σύνοψη'!$F$2:$F289=$A9)*('Σύνοψη'!$C$2:$C289=E$3)*('Σύνοψη'!$G$2:$G289=$B9))>0, TEXTJOIN(CHAR(10) & ""-----------------------"" & CHAR(10), TRUE, FILTER('Σύνοψη'!$E$2:$E289 & "" - "" & 'Σύνοψη'!$I$2:$I289 & "" ("" & 'Σύνοψη'!$J$2:$"&"J289 & "")"", 'Σύνοψη'!$F$2:$F289=$A9, 'Σύνοψη'!$G$2:$G289=$B9, 'Σύνοψη'!$C$2:$C289=E$3)), IF(SUMPRODUCT(('Σύνοψη'!$F$2:$F289=$A9)*('Σύνοψη'!$C$2:$C289=E$3)*('Σύνοψη'!$G$2:$G289<$B9)*('Σύνοψη'!$H$2:$H289>$B9))>0, CHAR(34), """") ), """")"),"") | F9: =IFERROR(__xludf.DUMMYFUNCTION("IFERROR(IF(SUMPRODUCT(('Σύνοψη'!$F$2:$F289=$A9)*('Σύνοψη'!$C$2:$C289=F$3)*('Σύνοψη'!$G$2:$G289=$B9))>0, TEXTJOIN(CHAR(10) & ""-----------------------"" & CHAR(10), TRUE, FILTER('Σύνοψη'!$E$2:$E289 & "" - "" & 'Σύνοψη'!$I$2:$I289 & "" ("" & 'Σύνοψη'!$J$2:$"&"J289 & "")"", 'Σύνοψη'!$F$2:$F289=$A9, 'Σύνοψη'!$G$2:$G289=$B9, 'Σύνοψη'!$C$2:$C289=F$3)), IF(SUMPRODUCT(('Σύνοψη'!$F$2:$F289=$A9)*('Σύνοψη'!$C$2:$C289=F$3)*('Σύνοψη'!$G$2:$G289<$B9)*('Σύνοψη'!$H$2:$H289>$B9))>0, CHAR(34), """") ), """")"),"") | G9: =IFERROR(__xludf.DUMMYFUNCTION("IFERROR(IF(SUMPRODUCT(('Σύνοψη'!$F$2:$F289=$A9)*('Σύνοψη'!$C$2:$C289=G$3)*('Σύνοψη'!$G$2:$G289=$B9))>0, TEXTJOIN(CHAR(10) & ""-----------------------"" & CHAR(10), TRUE, FILTER('Σύνοψη'!$E$2:$E289 & "" - "" & 'Σύνοψη'!$I$2:$I289 & "" ("" & 'Σύνοψη'!$J$2:$"&"J289 & "")"", 'Σύνοψη'!$F$2:$F289=$A9, 'Σύνοψη'!$G$2:$G289=$B9, 'Σύνοψη'!$C$2:$C289=G$3)), IF(SUMPRODUCT(('Σύνοψη'!$F$2:$F289=$A9)*('Σύνοψη'!$C$2:$C289=G$3)*('Σύνοψη'!$G$2:$G289<$B9)*('Σύνοψη'!$H$2:$H289>$B9))>0, CHAR(34), """") ), """")"),"""") -> " | H9: =IFERROR(__xludf.DUMMYFUNCTION("IFERROR(IF(SUMPRODUCT(('Σύνοψη'!$F$2:$F289=$A9)*('Σύνοψη'!$C$2:$C289=H$3)*('Σύνοψη'!$G$2:$G289=$B9))>0, TEXTJOIN(CHAR(10) & ""-----------------------"" & CHAR(10), TRUE, FILTER('Σύνοψη'!$E$2:$E289 & "" - "" & 'Σύνοψη'!$I$2:$I289 & "" ("" & 'Σύνοψη'!$J$2:$"&"J289 & "")"", 'Σύνοψη'!$F$2:$F289=$A9, 'Σύνοψη'!$G$2:$G289=$B9, 'Σύνοψη'!$C$2:$C289=H$3)), IF(SUMPRODUCT(('Σύνοψη'!$F$2:$F289=$A9)*('Σύνοψη'!$C$2:$C289=H$3)*('Σύνοψη'!$G$2:$G289<$B9)*('Σύνοψη'!$H$2:$H289>$B9))>0, CHAR(34), """") ), """")"),"")
A10: =$A$4 -> 46265 | B10: 0.58333333 | C10: =IFERROR(__xludf.DUMMYFUNCTION("IFERROR(IF(SUMPRODUCT(('Σύνοψη'!$F$2:$F289=$A10)*('Σύνοψη'!$C$2:$C289=C$3)*('Σύνοψη'!$G$2:$G289=$B10))>0, TEXTJOIN(CHAR(10) & ""-----------------------"" & CHAR(10), TRUE, FILTER('Σύνοψη'!$E$2:$E289 & "" - "" & 'Σύνοψη'!$I$2:$I289 & "" ("" & 'Σύνοψη'!$J$2"&":$J289 & "")"", 'Σύνοψη'!$F$2:$F289=$A10, 'Σύνοψη'!$G$2:$G289=$B10, 'Σύνοψη'!$C$2:$C289=C$3)), IF(SUMPRODUCT(('Σύνοψη'!$F$2:$F289=$A10)*('Σύνοψη'!$C$2:$C289=C$3)*('Σύνοψη'!$G$2:$G289<$B10)*('Σύνοψη'!$H$2:$H289>$B10))>0, CHAR(34), """") ), """")"),"""") -> " | D10: =IFERROR(__xludf.DUMMYFUNCTION("IFERROR(IF(SUMPRODUCT(('Σύνοψη'!$F$2:$F289=$A10)*('Σύνοψη'!$C$2:$C289=D$3)*('Σύνοψη'!$G$2:$G289=$B10))>0, TEXTJOIN(CHAR(10) & ""-----------------------"" & CHAR(10), TRUE, FILTER('Σύνοψη'!$E$2:$E289 & "" - "" & 'Σύνοψη'!$I$2:$I289 & "" ("" & 'Σύνοψη'!$J$2"&":$J289 & "")"", 'Σύνοψη'!$F$2:$F289=$A10, 'Σύνοψη'!$G$2:$G289=$B10, 'Σύνοψη'!$C$2:$C289=D$3)), IF(SUMPRODUCT(('Σύνοψη'!$F$2:$F289=$A10)*('Σύνοψη'!$C$2:$C289=D$3)*('Σύνοψη'!$G$2:$G289<$B10)*('Σύνοψη'!$H$2:$H289>$B10))>0, CHAR(34), """") ), """")"),"") | E10: =IFERROR(__xludf.DUMMYFUNCTION("IFERROR(IF(SUMPRODUCT(('Σύνοψη'!$F$2:$F289=$A10)*('Σύνοψη'!$C$2:$C289=E$3)*('Σύνοψη'!$G$2:$G289=$B10))>0, TEXTJOIN(CHAR(10) & ""-----------------------"" & CHAR(10), TRUE, FILTER('Σύνοψη'!$E$2:$E289 & "" - "" & 'Σύνοψη'!$I$2:$I289 & "" ("" & 'Σύνοψη'!$J$2"&":$J289 & "")"", 'Σύνοψη'!$F$2:$F289=$A10, 'Σύνοψη'!$G$2:$G289=$B10, 'Σύνοψη'!$C$2:$C289=E$3)), IF(SUMPRODUCT(('Σύνοψη'!$F$2:$F289=$A10)*('Σύνοψη'!$C$2:$C289=E$3)*('Σύνοψη'!$G$2:$G289<$B10)*('Σύνοψη'!$H$2:$H289>$B10))>0, CHAR(34), """") ), """")"),"") | F10: =IFERROR(__xludf.DUMMYFUNCTION("IFERROR(IF(SUMPRODUCT(('Σύνοψη'!$F$2:$F289=$A10)*('Σύνοψη'!$C$2:$C289=F$3)*('Σύνοψη'!$G$2:$G289=$B10))>0, TEXTJOIN(CHAR(10) & ""-----------------------"" & CHAR(10), TRUE, FILTER('Σύνοψη'!$E$2:$E289 & "" - "" & 'Σύνοψη'!$I$2:$I289 & "" ("" & 'Σύνοψη'!$J$2"&":$J289 & "")"", 'Σύνοψη'!$F$2:$F289=$A10, 'Σύνοψη'!$G$2:$G289=$B10, 'Σύνοψη'!$C$2:$C289=F$3)), IF(SUMPRODUCT(('Σύνοψη'!$F$2:$F289=$A10)*('Σύνοψη'!$C$2:$C289=F$3)*('Σύνοψη'!$G$2:$G289<$B10)*('Σύνοψη'!$H$2:$H289>$B10))>0, CHAR(34), """") ), """")"),"") | G10: =IFERROR(__xludf.DUMMYFUNCTION("IFERROR(IF(SUMPRODUCT(('Σύνοψη'!$F$2:$F289=$A10)*('Σύνοψη'!$C$2:$C289=G$3)*('Σύνοψη'!$G$2:$G289=$B10))>0, TEXTJOIN(CHAR(10) & ""-----------------------"" & CHAR(10), TRUE, FILTER('Σύνοψη'!$E$2:$E289 & "" - "" & 'Σύνοψη'!$I$2:$I289 & "" ("" & 'Σύνοψη'!$J$2"&":$J289 & "")"", 'Σύνοψη'!$F$2:$F289=$A10, 'Σύνοψη'!$G$2:$G289=$B10, 'Σύνοψη'!$C$2:$C289=G$3)), IF(SUMPRODUCT(('Σύνοψη'!$F$2:$F289=$A10)*('Σύνοψη'!$C$2:$C289=G$3)*('Σύνοψη'!$G$2:$G289<$B10)*('Σύνοψη'!$H$2:$H289>$B10))>0, CHAR(34), """") ), """")"),"""") -> " | H10: =IFERROR(__xludf.DUMMYFUNCTION("IFERROR(IF(SUMPRODUCT(('Σύνοψη'!$F$2:$F289=$A10)*('Σύνοψη'!$C$2:$C289=H$3)*('Σύνοψη'!$G$2:$G289=$B10))>0, TEXTJOIN(CHAR(10) & ""-----------------------"" & CHAR(10), TRUE, FILTER('Σύνοψη'!$E$2:$E289 & "" - "" & 'Σύνοψη'!$I$2:$I289 & "" ("" & 'Σύνοψη'!$J$2"&":$J289 & "")"", 'Σύνοψη'!$F$2:$F289=$A10, 'Σύνοψη'!$G$2:$G289=$B10, 'Σύνοψη'!$C$2:$C289=H$3)), IF(SUMPRODUCT(('Σύνοψη'!$F$2:$F289=$A10)*('Σύνοψη'!$C$2:$C289=H$3)*('Σύνοψη'!$G$2:$G289<$B10)*('Σύνοψη'!$H$2:$H289>$B10))>0, CHAR(34), """") ), """")"),"")
A11: =$A$4 -> 46265 | B11: 0.625 | C11: =IFERROR(__xludf.DUMMYFUNCTION("IFERROR(IF(SUMPRODUCT(('Σύνοψη'!$F$2:$F289=$A11)*('Σύνοψη'!$C$2:$C289=C$3)*('Σύνοψη'!$G$2:$G289=$B11))>0, TEXTJOIN(CHAR(10) & ""-----------------------"" & CHAR(10), TRUE, FILTER('Σύνοψη'!$E$2:$E289 & "" - "" & 'Σύνοψη'!$I$2:$I289 & "" ("" & 'Σύνοψη'!$J$2"&":$J289 & "")"", 'Σύνοψη'!$F$2:$F289=$A11, 'Σύνοψη'!$G$2:$G289=$B11, 'Σύνοψη'!$C$2:$C289=C$3)), IF(SUMPRODUCT(('Σύνοψη'!$F$2:$F289=$A11)*('Σύνοψη'!$C$2:$C289=C$3)*('Σύνοψη'!$G$2:$G289<$B11)*('Σύνοψη'!$H$2:$H289>$B11))>0, CHAR(34), """") ), """")"),"") | D11: =IFERROR(__xludf.DUMMYFUNCTION("IFERROR(IF(SUMPRODUCT(('Σύνοψη'!$F$2:$F289=$A11)*('Σύνοψη'!$C$2:$C289=D$3)*('Σύνοψη'!$G$2:$G289=$B11))>0, TEXTJOIN(CHAR(10) & ""-----------------------"" & CHAR(10), TRUE, FILTER('Σύνοψη'!$E$2:$E289 & "" - "" & 'Σύνοψη'!$I$2:$I289 & "" ("" & 'Σύνοψη'!$J$2"&":$J289 & "")"", 'Σύνοψη'!$F$2:$F289=$A11, 'Σύνοψη'!$G$2:$G289=$B11, 'Σύνοψη'!$C$2:$C289=D$3)), IF(SUMPRODUCT(('Σύνοψη'!$F$2:$F289=$A11)*('Σύνοψη'!$C$2:$C289=D$3)*('Σύνοψη'!$G$2:$G289<$B11)*('Σύνοψη'!$H$2:$H289>$B11))>0, CHAR(34), """") ), """")"),"Κτηνιατρική Δεοντολογία & Νομοθεσία - 15:00 - 18:00 (Αίθουσα Έναντι Χειρουργικής)") -> Κτηνιατρική Δεοντολογία & Νομοθεσία - 15:00 - 18:00 (Αίθουσα Έναντι Χειρουργικής) | E11: =IFERROR(__xludf.DUMMYFUNCTION("IFERROR(IF(SUMPRODUCT(('Σύνοψη'!$F$2:$F289=$A11)*('Σύνοψη'!$C$2:$C289=E$3)*('Σύνοψη'!$G$2:$G289=$B11))>0, TEXTJOIN(CHAR(10) & ""-----------------------"" & CHAR(10), TRUE, FILTER('Σύνοψη'!$E$2:$E289 & "" - "" & 'Σύνοψη'!$I$2:$I289 & "" ("" & 'Σύνοψη'!$J$2"&":$J289 & "")"", 'Σύνοψη'!$F$2:$F289=$A11, 'Σύνοψη'!$G$2:$G289=$B11, 'Σύνοψη'!$C$2:$C289=E$3)), IF(SUMPRODUCT(('Σύνοψη'!$F$2:$F289=$A11)*('Σύνοψη'!$C$2:$C289=E$3)*('Σύνοψη'!$G$2:$G289<$B11)*('Σύνοψη'!$H$2:$H289>$B11))>0, CHAR(34), """") ), """")"),"") | F11: =IFERROR(__xludf.DUMMYFUNCTION("IFERROR(IF(SUMPRODUCT(('Σύνοψη'!$F$2:$F289=$A11)*('Σύνοψη'!$C$2:$C289=F$3)*('Σύνοψη'!$G$2:$G289=$B11))>0, TEXTJOIN(CHAR(10) & ""-----------------------"" & CHAR(10), TRUE, FILTER('Σύνοψη'!$E$2:$E289 & "" - "" & 'Σύνοψη'!$I$2:$I289 & "" ("" & 'Σύνοψη'!$J$2"&":$J289 & "")"", 'Σύνοψη'!$F$2:$F289=$A11, 'Σύνοψη'!$G$2:$G289=$B11, 'Σύνοψη'!$C$2:$C289=F$3)), IF(SUMPRODUCT(('Σύνοψη'!$F$2:$F289=$A11)*('Σύνοψη'!$C$2:$C289=F$3)*('Σύνοψη'!$G$2:$G289<$B11)*('Σύνοψη'!$H$2:$H289>$B11))>0, CHAR(34), """") ), """")"),"") | G11: =IFERROR(__xludf.DUMMYFUNCTION("IFERROR(IF(SUMPRODUCT(('Σύνοψη'!$F$2:$F289=$A11)*('Σύνοψη'!$C$2:$C289=G$3)*('Σύνοψη'!$G$2:$G289=$B11))>0, TEXTJOIN(CHAR(10) & ""-----------------------"" & CHAR(10), TRUE, FILTER('Σύνοψη'!$E$2:$E289 & "" - "" & 'Σύνοψη'!$I$2:$I289 & "" ("" & 'Σύνοψη'!$J$2"&":$J289 & "")"", 'Σύνοψη'!$F$2:$F289=$A11, 'Σύνοψη'!$G$2:$G289=$B11, 'Σύνοψη'!$C$2:$C289=G$3)), IF(SUMPRODUCT(('Σύνοψη'!$F$2:$F289=$A11)*('Σύνοψη'!$C$2:$C289=G$3)*('Σύνοψη'!$G$2:$G289<$B11)*('Σύνοψη'!$H$2:$H289>$B11))>0, CHAR(34), """") ), """")"),"""") -> " | H11: =IFERROR(__xludf.DUMMYFUNCTION("IFERROR(IF(SUMPRODUCT(('Σύνοψη'!$F$2:$F289=$A11)*('Σύνοψη'!$C$2:$C289=H$3)*('Σύνοψη'!$G$2:$G289=$B11))>0, TEXTJOIN(CHAR(10) & ""-----------------------"" & CHAR(10), TRUE, FILTER('Σύνοψη'!$E$2:$E289 & "" - "" & 'Σύνοψη'!$I$2:$I289 & "" ("" & 'Σύνοψη'!$J$2"&":$J289 & "")"", 'Σύνοψη'!$F$2:$F289=$A11, 'Σύνοψη'!$G$2:$G289=$B11, 'Σύνοψη'!$C$2:$C289=H$3)), IF(SUMPRODUCT(('Σύνοψη'!$F$2:$F289=$A11)*('Σύνοψη'!$C$2:$C289=H$3)*('Σύνοψη'!$G$2:$G289<$B11)*('Σύνοψη'!$H$2:$H289>$B11))>0, CHAR(34), """") ), """")"),"")
A12: =$A$4 -> 46265 | B12: 0.66666667 | C12: =IFERROR(__xludf.DUMMYFUNCTION("IFERROR(IF(SUMPRODUCT(('Σύνοψη'!$F$2:$F289=$A12)*('Σύνοψη'!$C$2:$C289=C$3)*('Σύνοψη'!$G$2:$G289=$B12))>0, TEXTJOIN(CHAR(10) & ""-----------------------"" & CHAR(10), TRUE, FILTER('Σύνοψη'!$E$2:$E289 & "" - "" & 'Σύνοψη'!$I$2:$I289 & "" ("" & 'Σύνοψη'!$J$2"&":$J289 & "")"", 'Σύνοψη'!$F$2:$F289=$A12, 'Σύνοψη'!$G$2:$G289=$B12, 'Σύνοψη'!$C$2:$C289=C$3)), IF(SUMPRODUCT(('Σύνοψη'!$F$2:$F289=$A12)*('Σύνοψη'!$C$2:$C289=C$3)*('Σύνοψη'!$G$2:$G289<$B12)*('Σύνοψη'!$H$2:$H289>$B12))>0, CHAR(34), """") ), """")"),"") | D12: =IFERROR(__xludf.DUMMYFUNCTION("IFERROR(IF(SUMPRODUCT(('Σύνοψη'!$F$2:$F289=$A12)*('Σύνοψη'!$C$2:$C289=D$3)*('Σύνοψη'!$G$2:$G289=$B12))>0, TEXTJOIN(CHAR(10) & ""-----------------------"" & CHAR(10), TRUE, FILTER('Σύνοψη'!$E$2:$E289 & "" - "" & 'Σύνοψη'!$I$2:$I289 & "" ("" & 'Σύνοψη'!$J$2"&":$J289 & "")"", 'Σύνοψη'!$F$2:$F289=$A12, 'Σύνοψη'!$G$2:$G289=$B12, 'Σύνοψη'!$C$2:$C289=D$3)), IF(SUMPRODUCT(('Σύνοψη'!$F$2:$F289=$A12)*('Σύνοψη'!$C$2:$C289=D$3)*('Σύνοψη'!$G$2:$G289<$B12)*('Σύνοψη'!$H$2:$H289>$B12))>0, CHAR(34), """") ), """")"),"""") -> " | E12: =IFERROR(__xludf.DUMMYFUNCTION("IFERROR(IF(SUMPRODUCT(('Σύνοψη'!$F$2:$F289=$A12)*('Σύνοψη'!$C$2:$C289=E$3)*('Σύνοψη'!$G$2:$G289=$B12))>0, TEXTJOIN(CHAR(10) & ""-----------------------"" & CHAR(10), TRUE, FILTER('Σύνοψη'!$E$2:$E289 & "" - "" & 'Σύνοψη'!$I$2:$I289 & "" ("" & 'Σύνοψη'!$J$2"&":$J289 & "")"", 'Σύνοψη'!$F$2:$F289=$A12, 'Σύνοψη'!$G$2:$G289=$B12, 'Σύνοψη'!$C$2:$C289=E$3)), IF(SUMPRODUCT(('Σύνοψη'!$F$2:$F289=$A12)*('Σύνοψη'!$C$2:$C289=E$3)*('Σύνοψη'!$G$2:$G289<$B12)*('Σύνοψη'!$H$2:$H289>$B12))>0, CHAR(34), """") ), """")"),"") | F12: =IFERROR(__xludf.DUMMYFUNCTION("IFERROR(IF(SUMPRODUCT(('Σύνοψη'!$F$2:$F289=$A12)*('Σύνοψη'!$C$2:$C289=F$3)*('Σύνοψη'!$G$2:$G289=$B12))>0, TEXTJOIN(CHAR(10) & ""-----------------------"" & CHAR(10), TRUE, FILTER('Σύνοψη'!$E$2:$E289 & "" - "" & 'Σύνοψη'!$I$2:$I289 & "" ("" & 'Σύνοψη'!$J$2"&":$J289 & "")"", 'Σύνοψη'!$F$2:$F289=$A12, 'Σύνοψη'!$G$2:$G289=$B12, 'Σύνοψη'!$C$2:$C289=F$3)), IF(SUMPRODUCT(('Σύνοψη'!$F$2:$F289=$A12)*('Σύνοψη'!$C$2:$C289=F$3)*('Σύνοψη'!$G$2:$G289<$B12)*('Σύνοψη'!$H$2:$H289>$B12))>0, CHAR(34), """") ), """")"),"") | G12: =IFERROR(__xludf.DUMMYFUNCTION("IFERROR(IF(SUMPRODUCT(('Σύνοψη'!$F$2:$F289=$A12)*('Σύνοψη'!$C$2:$C289=G$3)*('Σύνοψη'!$G$2:$G289=$B12))>0, TEXTJOIN(CHAR(10) & ""-----------------------"" & CHAR(10), TRUE, FILTER('Σύνοψη'!$E$2:$E289 & "" - "" & 'Σύνοψη'!$I$2:$I289 & "" ("" & 'Σύνοψη'!$J$2"&":$J289 & "")"", 'Σύνοψη'!$F$2:$F289=$A12, 'Σύνοψη'!$G$2:$G289=$B12, 'Σύνοψη'!$C$2:$C289=G$3)), IF(SUMPRODUCT(('Σύνοψη'!$F$2:$F289=$A12)*('Σύνοψη'!$C$2:$C289=G$3)*('Σύνοψη'!$G$2:$G289<$B12)*('Σύνοψη'!$H$2:$H289>$B12))>0, CHAR(34), """") ), """")"),"""") -> " | H12: =IFERROR(__xludf.DUMMYFUNCTION("IFERROR(IF(SUMPRODUCT(('Σύνοψη'!$F$2:$F289=$A12)*('Σύνοψη'!$C$2:$C289=H$3)*('Σύνοψη'!$G$2:$G289=$B12))>0, TEXTJOIN(CHAR(10) & ""-----------------------"" & CHAR(10), TRUE, FILTER('Σύνοψη'!$E$2:$E289 & "" - "" & 'Σύνοψη'!$I$2:$I289 & "" ("" & 'Σύνοψη'!$J$2"&":$J289 & "")"", 'Σύνοψη'!$F$2:$F289=$A12, 'Σύνοψη'!$G$2:$G289=$B12, 'Σύνοψη'!$C$2:$C289=H$3)), IF(SUMPRODUCT(('Σύνοψη'!$F$2:$F289=$A12)*('Σύνοψη'!$C$2:$C289=H$3)*('Σύνοψη'!$G$2:$G289<$B12)*('Σύνοψη'!$H$2:$H289>$B12))>0, CHAR(34), """") ), """")"),"")
A13: =$A$4 -> 46265 | B13: 0.70833333 | C13: =IFERROR(__xludf.DUMMYFUNCTION("IFERROR(IF(SUMPRODUCT(('Σύνοψη'!$F$2:$F289=$A13)*('Σύνοψη'!$C$2:$C289=C$3)*('Σύνοψη'!$G$2:$G289=$B13))>0, TEXTJOIN(CHAR(10) & ""-----------------------"" & CHAR(10), TRUE, FILTER('Σύνοψη'!$E$2:$E289 & "" - "" & 'Σύνοψη'!$I$2:$I289 & "" ("" & 'Σύνοψη'!$J$2"&":$J289 & "")"", 'Σύνοψη'!$F$2:$F289=$A13, 'Σύνοψη'!$G$2:$G289=$B13, 'Σύνοψη'!$C$2:$C289=C$3)), IF(SUMPRODUCT(('Σύνοψη'!$F$2:$F289=$A13)*('Σύνοψη'!$C$2:$C289=C$3)*('Σύνοψη'!$G$2:$G289<$B13)*('Σύνοψη'!$H$2:$H289>$B13))>0, CHAR(34), """") ), """")"),"") | D13: =IFERROR(__xludf.DUMMYFUNCTION("IFERROR(IF(SUMPRODUCT(('Σύνοψη'!$F$2:$F289=$A13)*('Σύνοψη'!$C$2:$C289=D$3)*('Σύνοψη'!$G$2:$G289=$B13))>0, TEXTJOIN(CHAR(10) & ""-----------------------"" & CHAR(10), TRUE, FILTER('Σύνοψη'!$E$2:$E289 & "" - "" & 'Σύνοψη'!$I$2:$I289 & "" ("" & 'Σύνοψη'!$J$2"&":$J289 & "")"", 'Σύνοψη'!$F$2:$F289=$A13, 'Σύνοψη'!$G$2:$G289=$B13, 'Σύνοψη'!$C$2:$C289=D$3)), IF(SUMPRODUCT(('Σύνοψη'!$F$2:$F289=$A13)*('Σύνοψη'!$C$2:$C289=D$3)*('Σύνοψη'!$G$2:$G289<$B13)*('Σύνοψη'!$H$2:$H289>$B13))>0, CHAR(34), """") ), """")"),"""") -> " | E13: =IFERROR(__xludf.DUMMYFUNCTION("IFERROR(IF(SUMPRODUCT(('Σύνοψη'!$F$2:$F289=$A13)*('Σύνοψη'!$C$2:$C289=E$3)*('Σύνοψη'!$G$2:$G289=$B13))>0, TEXTJOIN(CHAR(10) & ""-----------------------"" & CHAR(10), TRUE, FILTER('Σύνοψη'!$E$2:$E289 & "" - "" & 'Σύνοψη'!$I$2:$I289 & "" ("" & 'Σύνοψη'!$J$2"&":$J289 & "")"", 'Σύνοψη'!$F$2:$F289=$A13, 'Σύνοψη'!$G$2:$G289=$B13, 'Σύνοψη'!$C$2:$C289=E$3)), IF(SUMPRODUCT(('Σύνοψη'!$F$2:$F289=$A13)*('Σύνοψη'!$C$2:$C289=E$3)*('Σύνοψη'!$G$2:$G289<$B13)*('Σύνοψη'!$H$2:$H289>$B13))>0, CHAR(34), """") ), """")"),"") | F13: =IFERROR(__xludf.DUMMYFUNCTION("IFERROR(IF(SUMPRODUCT(('Σύνοψη'!$F$2:$F289=$A13)*('Σύνοψη'!$C$2:$C289=F$3)*('Σύνοψη'!$G$2:$G289=$B13))>0, TEXTJOIN(CHAR(10) & ""-----------------------"" & CHAR(10), TRUE, FILTER('Σύνοψη'!$E$2:$E289 & "" - "" & 'Σύνοψη'!$I$2:$I289 & "" ("" & 'Σύνοψη'!$J$2"&":$J289 & "")"", 'Σύνοψη'!$F$2:$F289=$A13, 'Σύνοψη'!$G$2:$G289=$B13, 'Σύνοψη'!$C$2:$C289=F$3)), IF(SUMPRODUCT(('Σύνοψη'!$F$2:$F289=$A13)*('Σύνοψη'!$C$2:$C289=F$3)*('Σύνοψη'!$G$2:$G289<$B13)*('Σύνοψη'!$H$2:$H289>$B13))>0, CHAR(34), """") ), """")"),"") | G13: =IFERROR(__xludf.DUMMYFUNCTION("IFERROR(IF(SUMPRODUCT(('Σύνοψη'!$F$2:$F289=$A13)*('Σύνοψη'!$C$2:$C289=G$3)*('Σύνοψη'!$G$2:$G289=$B13))>0, TEXTJOIN(CHAR(10) & ""-----------------------"" & CHAR(10), TRUE, FILTER('Σύνοψη'!$E$2:$E289 & "" - "" & 'Σύνοψη'!$I$2:$I289 & "" ("" & 'Σύνοψη'!$J$2"&":$J289 & "")"", 'Σύνοψη'!$F$2:$F289=$A13, 'Σύνοψη'!$G$2:$G289=$B13, 'Σύνοψη'!$C$2:$C289=G$3)), IF(SUMPRODUCT(('Σύνοψη'!$F$2:$F289=$A13)*('Σύνοψη'!$C$2:$C289=G$3)*('Σύνοψη'!$G$2:$G289<$B13)*('Σύνοψη'!$H$2:$H289>$B13))>0, CHAR(34), """") ), """")"),"") | H13: =IFERROR(__xludf.DUMMYFUNCTION("IFERROR(IF(SUMPRODUCT(('Σύνοψη'!$F$2:$F289=$A13)*('Σύνοψη'!$C$2:$C289=H$3)*('Σύνοψη'!$G$2:$G289=$B13))>0, TEXTJOIN(CHAR(10) & ""-----------------------"" & CHAR(10), TRUE, FILTER('Σύνοψη'!$E$2:$E289 & "" - "" & 'Σύνοψη'!$I$2:$I289 & "" ("" & 'Σύνοψη'!$J$2"&":$J289 & "")"", 'Σύνοψη'!$F$2:$F289=$A13, 'Σύνοψη'!$G$2:$G289=$B13, 'Σύνοψη'!$C$2:$C289=H$3)), IF(SUMPRODUCT(('Σύνοψη'!$F$2:$F289=$A13)*('Σύνοψη'!$C$2:$C289=H$3)*('Σύνοψη'!$G$2:$G289<$B13)*('Σύνοψη'!$H$2:$H289>$B13))>0, CHAR(34), """") ), """")"),"")
A14: =$A$4 -> 46265 | B14: 0.75 | C14: =IFERROR(__xludf.DUMMYFUNCTION("IFERROR(IF(SUMPRODUCT(('Σύνοψη'!$F$2:$F289=$A14)*('Σύνοψη'!$C$2:$C289=C$3)*('Σύνοψη'!$G$2:$G289=$B14))>0, TEXTJOIN(CHAR(10) & ""-----------------------"" & CHAR(10), TRUE, FILTER('Σύνοψη'!$E$2:$E289 & "" - "" & 'Σύνοψη'!$I$2:$I289 & "" ("" & 'Σύνοψη'!$J$2"&":$J289 & "")"", 'Σύνοψη'!$F$2:$F289=$A14, 'Σύνοψη'!$G$2:$G289=$B14, 'Σύνοψη'!$C$2:$C289=C$3)), IF(SUMPRODUCT(('Σύνοψη'!$F$2:$F289=$A14)*('Σύνοψη'!$C$2:$C289=C$3)*('Σύνοψη'!$G$2:$G289<$B14)*('Σύνοψη'!$H$2:$H289>$B14))>0, CHAR(34), """") ), """")"),"Οικολογία - 18:00 - 21:00 (Αμφιθέατρα)") -> Οικολογία - 18:00 - 21:00 (Αμφιθέατρα) | D14: =IFERROR(__xludf.DUMMYFUNCTION("IFERROR(IF(SUMPRODUCT(('Σύνοψη'!$F$2:$F289=$A14)*('Σύνοψη'!$C$2:$C289=D$3)*('Σύνοψη'!$G$2:$G289=$B14))>0, TEXTJOIN(CHAR(10) & ""-----------------------"" & CHAR(10), TRUE, FILTER('Σύνοψη'!$E$2:$E289 & "" - "" & 'Σύνοψη'!$I$2:$I289 & "" ("" & 'Σύνοψη'!$J$2"&":$J289 & "")"", 'Σύνοψη'!$F$2:$F289=$A14, 'Σύνοψη'!$G$2:$G289=$B14, 'Σύνοψη'!$C$2:$C289=D$3)), IF(SUMPRODUCT(('Σύνοψη'!$F$2:$F289=$A14)*('Σύνοψη'!$C$2:$C289=D$3)*('Σύνοψη'!$G$2:$G289<$B14)*('Σύνοψη'!$H$2:$H289>$B14))>0, CHAR(34), """") ), """")"),"") | E14: =IFERROR(__xludf.DUMMYFUNCTION("IFERROR(IF(SUMPRODUCT(('Σύνοψη'!$F$2:$F289=$A14)*('Σύνοψη'!$C$2:$C289=E$3)*('Σύνοψη'!$G$2:$G289=$B14))>0, TEXTJOIN(CHAR(10) & ""-----------------------"" & CHAR(10), TRUE, FILTER('Σύνοψη'!$E$2:$E289 & "" - "" & 'Σύνοψη'!$I$2:$I289 & "" ("" & 'Σύνοψη'!$J$2"&":$J289 & "")"", 'Σύνοψη'!$F$2:$F289=$A14, 'Σύνοψη'!$G$2:$G289=$B14, 'Σύνοψη'!$C$2:$C289=E$3)), IF(SUMPRODUCT(('Σύνοψη'!$F$2:$F289=$A14)*('Σύνοψη'!$C$2:$C289=E$3)*('Σύνοψη'!$G$2:$G289<$B14)*('Σύνοψη'!$H$2:$H289>$B14))>0, CHAR(34), """") ), """")"),"") | F14: =IFERROR(__xludf.DUMMYFUNCTION("IFERROR(IF(SUMPRODUCT(('Σύνοψη'!$F$2:$F289=$A14)*('Σύνοψη'!$C$2:$C289=F$3)*('Σύνοψη'!$G$2:$G289=$B14))>0, TEXTJOIN(CHAR(10) & ""-----------------------"" & CHAR(10), TRUE, FILTER('Σύνοψη'!$E$2:$E289 & "" - "" & 'Σύνοψη'!$I$2:$I289 & "" ("" & 'Σύνοψη'!$J$2"&":$J289 & "")"", 'Σύνοψη'!$F$2:$F289=$A14, 'Σύνοψη'!$G$2:$G289=$B14, 'Σύνοψη'!$C$2:$C289=F$3)), IF(SUMPRODUCT(('Σύνοψη'!$F$2:$F289=$A14)*('Σύνοψη'!$C$2:$C289=F$3)*('Σύνοψη'!$G$2:$G289<$B14)*('Σύνοψη'!$H$2:$H289>$B14))>0, CHAR(34), """") ), """")"),"") | G14: =IFERROR(__xludf.DUMMYFUNCTION("IFERROR(IF(SUMPRODUCT(('Σύνοψη'!$F$2:$F289=$A14)*('Σύνοψη'!$C$2:$C289=G$3)*('Σύνοψη'!$G$2:$G289=$B14))>0, TEXTJOIN(CHAR(10) & ""-----------------------"" & CHAR(10), TRUE, FILTER('Σύνοψη'!$E$2:$E289 & "" - "" & 'Σύνοψη'!$I$2:$I289 & "" ("" & 'Σύνοψη'!$J$2"&":$J289 & "")"", 'Σύνοψη'!$F$2:$F289=$A14, 'Σύνοψη'!$G$2:$G289=$B14, 'Σύνοψη'!$C$2:$C289=G$3)), IF(SUMPRODUCT(('Σύνοψη'!$F$2:$F289=$A14)*('Σύνοψη'!$C$2:$C289=G$3)*('Σύνοψη'!$G$2:$G289<$B14)*('Σύνοψη'!$H$2:$H289>$B14))>0, CHAR(34), """") ), """")"),"Όγκοι των Ζώων Συντροφιάς - 18:00 - 21:00 (Αίθουσα Έναντι Χειρουργικής)") -> Όγκοι των Ζώων Συντροφιάς - 18:00 - 21:00 (Αίθουσα Έναντι Χειρουργικής) | H14: =IFERROR(__xludf.DUMMYFUNCTION("IFERROR(IF(SUMPRODUCT(('Σύνοψη'!$F$2:$F289=$A14)*('Σύνοψη'!$C$2:$C289=H$3)*('Σύνοψη'!$G$2:$G289=$B14))>0, TEXTJOIN(CHAR(10) & ""-----------------------"" & CHAR(10), TRUE, FILTER('Σύνοψη'!$E$2:$E289 & "" - "" & 'Σύνοψη'!$I$2:$I289 & "" ("" & 'Σύνοψη'!$J$2"&":$J289 & "")"", 'Σύνοψη'!$F$2:$F289=$A14, 'Σύνοψη'!$G$2:$G289=$B14, 'Σύνοψη'!$C$2:$C289=H$3)), IF(SUMPRODUCT(('Σύνοψη'!$F$2:$F289=$A14)*('Σύνοψη'!$C$2:$C289=H$3)*('Σύνοψη'!$G$2:$G289<$B14)*('Σύνοψη'!$H$2:$H289>$B14))>0, CHAR(34), """") ), """")"),"")
A15: =$A$4 -> 46265 | B15: 0.79166667 | C15: =IFERROR(__xludf.DUMMYFUNCTION("IFERROR(IF(SUMPRODUCT(('Σύνοψη'!$F$2:$F289=$A15)*('Σύνοψη'!$C$2:$C289=C$3)*('Σύνοψη'!$G$2:$G289=$B15))>0, TEXTJOIN(CHAR(10) & ""-----------------------"" & CHAR(10), TRUE, FILTER('Σύνοψη'!$E$2:$E289 & "" - "" & 'Σύνοψη'!$I$2:$I289 & "" ("" & 'Σύνοψη'!$J$2"&":$J289 & "")"", 'Σύνοψη'!$F$2:$F289=$A15, 'Σύνοψη'!$G$2:$G289=$B15, 'Σύνοψη'!$C$2:$C289=C$3)), IF(SUMPRODUCT(('Σύνοψη'!$F$2:$F289=$A15)*('Σύνοψη'!$C$2:$C289=C$3)*('Σύνοψη'!$G$2:$G289<$B15)*('Σύνοψη'!$H$2:$H289>$B15))>0, CHAR(34), """") ), """")"),"""") -> " | D15: =IFERROR(__xludf.DUMMYFUNCTION("IFERROR(IF(SUMPRODUCT(('Σύνοψη'!$F$2:$F289=$A15)*('Σύνοψη'!$C$2:$C289=D$3)*('Σύνοψη'!$G$2:$G289=$B15))>0, TEXTJOIN(CHAR(10) & ""-----------------------"" & CHAR(10), TRUE, FILTER('Σύνοψη'!$E$2:$E289 & "" - "" & 'Σύνοψη'!$I$2:$I289 & "" ("" & 'Σύνοψη'!$J$2"&":$J289 & "")"", 'Σύνοψη'!$F$2:$F289=$A15, 'Σύνοψη'!$G$2:$G289=$B15, 'Σύνοψη'!$C$2:$C289=D$3)), IF(SUMPRODUCT(('Σύνοψη'!$F$2:$F289=$A15)*('Σύνοψη'!$C$2:$C289=D$3)*('Σύνοψη'!$G$2:$G289<$B15)*('Σύνοψη'!$H$2:$H289>$B15))>0, CHAR(34), """") ), """")"),"") | E15: =IFERROR(__xludf.DUMMYFUNCTION("IFERROR(IF(SUMPRODUCT(('Σύνοψη'!$F$2:$F289=$A15)*('Σύνοψη'!$C$2:$C289=E$3)*('Σύνοψη'!$G$2:$G289=$B15))>0, TEXTJOIN(CHAR(10) & ""-----------------------"" & CHAR(10), TRUE, FILTER('Σύνοψη'!$E$2:$E289 & "" - "" & 'Σύνοψη'!$I$2:$I289 & "" ("" & 'Σύνοψη'!$J$2"&":$J289 & "")"", 'Σύνοψη'!$F$2:$F289=$A15, 'Σύνοψη'!$G$2:$G289=$B15, 'Σύνοψη'!$C$2:$C289=E$3)), IF(SUMPRODUCT(('Σύνοψη'!$F$2:$F289=$A15)*('Σύνοψη'!$C$2:$C289=E$3)*('Σύνοψη'!$G$2:$G289<$B15)*('Σύνοψη'!$H$2:$H289>$B15))>0, CHAR(34), """") ), """")"),"") | F15: =IFERROR(__xludf.DUMMYFUNCTION("IFERROR(IF(SUMPRODUCT(('Σύνοψη'!$F$2:$F289=$A15)*('Σύνοψη'!$C$2:$C289=F$3)*('Σύνοψη'!$G$2:$G289=$B15))>0, TEXTJOIN(CHAR(10) & ""-----------------------"" & CHAR(10), TRUE, FILTER('Σύνοψη'!$E$2:$E289 & "" - "" & 'Σύνοψη'!$I$2:$I289 & "" ("" & 'Σύνοψη'!$J$2"&":$J289 & "")"", 'Σύνοψη'!$F$2:$F289=$A15, 'Σύνοψη'!$G$2:$G289=$B15, 'Σύνοψη'!$C$2:$C289=F$3)), IF(SUMPRODUCT(('Σύνοψη'!$F$2:$F289=$A15)*('Σύνοψη'!$C$2:$C289=F$3)*('Σύνοψη'!$G$2:$G289<$B15)*('Σύνοψη'!$H$2:$H289>$B15))>0, CHAR(34), """") ), """")"),"") | G15: =IFERROR(__xludf.DUMMYFUNCTION("IFERROR(IF(SUMPRODUCT(('Σύνοψη'!$F$2:$F289=$A15)*('Σύνοψη'!$C$2:$C289=G$3)*('Σύνοψη'!$G$2:$G289=$B15))>0, TEXTJOIN(CHAR(10) & ""-----------------------"" & CHAR(10), TRUE, FILTER('Σύνοψη'!$E$2:$E289 & "" - "" & 'Σύνοψη'!$I$2:$I289 & "" ("" & 'Σύνοψη'!$J$2"&":$J289 & "")"", 'Σύνοψη'!$F$2:$F289=$A15, 'Σύνοψη'!$G$2:$G289=$B15, 'Σύνοψη'!$C$2:$C289=G$3)), IF(SUMPRODUCT(('Σύνοψη'!$F$2:$F289=$A15)*('Σύνοψη'!$C$2:$C289=G$3)*('Σύνοψη'!$G$2:$G289<$B15)*('Σύνοψη'!$H$2:$H289>$B15))>0, CHAR(34), """") ), """")"),"""") -> " | H15: =IFERROR(__xludf.DUMMYFUNCTION("IFERROR(IF(SUMPRODUCT(('Σύνοψη'!$F$2:$F289=$A15)*('Σύνοψη'!$C$2:$C289=H$3)*('Σύνοψη'!$G$2:$G289=$B15))>0, TEXTJOIN(CHAR(10) & ""-----------------------"" & CHAR(10), TRUE, FILTER('Σύνοψη'!$E$2:$E289 & "" - "" & 'Σύνοψη'!$I$2:$I289 & "" ("" & 'Σύνοψη'!$J$2"&":$J289 & "")"", 'Σύνοψη'!$F$2:$F289=$A15, 'Σύνοψη'!$G$2:$G289=$B15, 'Σύνοψη'!$C$2:$C289=H$3)), IF(SUMPRODUCT(('Σύνοψη'!$F$2:$F289=$A15)*('Σύνοψη'!$C$2:$C289=H$3)*('Σύνοψη'!$G$2:$G289<$B15)*('Σύνοψη'!$H$2:$H289>$B15))>0, CHAR(34), """") ), """")"),"")
A16: =$A$4 -> 46265 | B16: 0.83333333 | C16: =IFERROR(__xludf.DUMMYFUNCTION("IFERROR(IF(SUMPRODUCT(('Σύνοψη'!$F$2:$F289=$A16)*('Σύνοψη'!$C$2:$C289=C$3)*('Σύνοψη'!$G$2:$G289=$B16))>0, TEXTJOIN(CHAR(10) & ""-----------------------"" & CHAR(10), TRUE, FILTER('Σύνοψη'!$E$2:$E289 & "" - "" & 'Σύνοψη'!$I$2:$I289 & "" ("" & 'Σύνοψη'!$J$2"&":$J289 & "")"", 'Σύνοψη'!$F$2:$F289=$A16, 'Σύνοψη'!$G$2:$G289=$B16, 'Σύνοψη'!$C$2:$C289=C$3)), IF(SUMPRODUCT(('Σύνοψη'!$F$2:$F289=$A16)*('Σύνοψη'!$C$2:$C289=C$3)*('Σύνοψη'!$G$2:$G289<$B16)*('Σύνοψη'!$H$2:$H289>$B16))>0, CHAR(34), """") ), """")"),"""") -> " | D16: =IFERROR(__xludf.DUMMYFUNCTION("IFERROR(IF(SUMPRODUCT(('Σύνοψη'!$F$2:$F289=$A16)*('Σύνοψη'!$C$2:$C289=D$3)*('Σύνοψη'!$G$2:$G289=$B16))>0, TEXTJOIN(CHAR(10) & ""-----------------------"" & CHAR(10), TRUE, FILTER('Σύνοψη'!$E$2:$E289 & "" - "" & 'Σύνοψη'!$I$2:$I289 & "" ("" & 'Σύνοψη'!$J$2"&":$J289 & "")"", 'Σύνοψη'!$F$2:$F289=$A16, 'Σύνοψη'!$G$2:$G289=$B16, 'Σύνοψη'!$C$2:$C289=D$3)), IF(SUMPRODUCT(('Σύνοψη'!$F$2:$F289=$A16)*('Σύνοψη'!$C$2:$C289=D$3)*('Σύνοψη'!$G$2:$G289<$B16)*('Σύνοψη'!$H$2:$H289>$B16))>0, CHAR(34), """") ), """")"),"") | E16: =IFERROR(__xludf.DUMMYFUNCTION("IFERROR(IF(SUMPRODUCT(('Σύνοψη'!$F$2:$F289=$A16)*('Σύνοψη'!$C$2:$C289=E$3)*('Σύνοψη'!$G$2:$G289=$B16))>0, TEXTJOIN(CHAR(10) & ""-----------------------"" & CHAR(10), TRUE, FILTER('Σύνοψη'!$E$2:$E289 & "" - "" & 'Σύνοψη'!$I$2:$I289 & "" ("" & 'Σύνοψη'!$J$2"&":$J289 & "")"", 'Σύνοψη'!$F$2:$F289=$A16, 'Σύνοψη'!$G$2:$G289=$B16, 'Σύνοψη'!$C$2:$C289=E$3)), IF(SUMPRODUCT(('Σύνοψη'!$F$2:$F289=$A16)*('Σύνοψη'!$C$2:$C289=E$3)*('Σύνοψη'!$G$2:$G289<$B16)*('Σύνοψη'!$H$2:$H289>$B16))>0, CHAR(34), """") ), """")"),"") | F16: =IFERROR(__xludf.DUMMYFUNCTION("IFERROR(IF(SUMPRODUCT(('Σύνοψη'!$F$2:$F289=$A16)*('Σύνοψη'!$C$2:$C289=F$3)*('Σύνοψη'!$G$2:$G289=$B16))>0, TEXTJOIN(CHAR(10) & ""-----------------------"" & CHAR(10), TRUE, FILTER('Σύνοψη'!$E$2:$E289 & "" - "" & 'Σύνοψη'!$I$2:$I289 & "" ("" & 'Σύνοψη'!$J$2"&":$J289 & "")"", 'Σύνοψη'!$F$2:$F289=$A16, 'Σύνοψη'!$G$2:$G289=$B16, 'Σύνοψη'!$C$2:$C289=F$3)), IF(SUMPRODUCT(('Σύνοψη'!$F$2:$F289=$A16)*('Σύνοψη'!$C$2:$C289=F$3)*('Σύνοψη'!$G$2:$G289<$B16)*('Σύνοψη'!$H$2:$H289>$B16))>0, CHAR(34), """") ), """")"),"") | G16: =IFERROR(__xludf.DUMMYFUNCTION("IFERROR(IF(SUMPRODUCT(('Σύνοψη'!$F$2:$F289=$A16)*('Σύνοψη'!$C$2:$C289=G$3)*('Σύνοψη'!$G$2:$G289=$B16))>0, TEXTJOIN(CHAR(10) & ""-----------------------"" & CHAR(10), TRUE, FILTER('Σύνοψη'!$E$2:$E289 & "" - "" & 'Σύνοψη'!$I$2:$I289 & "" ("" & 'Σύνοψη'!$J$2"&":$J289 & "")"", 'Σύνοψη'!$F$2:$F289=$A16, 'Σύνοψη'!$G$2:$G289=$B16, 'Σύνοψη'!$C$2:$C289=G$3)), IF(SUMPRODUCT(('Σύνοψη'!$F$2:$F289=$A16)*('Σύνοψη'!$C$2:$C289=G$3)*('Σύνοψη'!$G$2:$G289<$B16)*('Σύνοψη'!$H$2:$H289>$B16))>0, CHAR(34), """") ), """")"),"""") -> " | H16: =IFERROR(__xludf.DUMMYFUNCTION("IFERROR(IF(SUMPRODUCT(('Σύνοψη'!$F$2:$F289=$A16)*('Σύνοψη'!$C$2:$C289=H$3)*('Σύνοψη'!$G$2:$G289=$B16))>0, TEXTJOIN(CHAR(10) & ""-----------------------"" & CHAR(10), TRUE, FILTER('Σύνοψη'!$E$2:$E289 & "" - "" & 'Σύνοψη'!$I$2:$I289 & "" ("" & 'Σύνοψη'!$J$2"&":$J289 & "")"", 'Σύνοψη'!$F$2:$F289=$A16, 'Σύνοψη'!$G$2:$G289=$B16, 'Σύνοψη'!$C$2:$C289=H$3)), IF(SUMPRODUCT(('Σύνοψη'!$F$2:$F289=$A16)*('Σύνοψη'!$C$2:$C289=H$3)*('Σύνοψη'!$G$2:$G289<$B16)*('Σύνοψη'!$H$2:$H289>$B16))>0, CHAR(34), """") ), """")"),"")
A17: =$A$4 -> 46265 | B17: 0.875 | C17: =IFERROR(__xludf.DUMMYFUNCTION("IFERROR(IF(SUMPRODUCT(('Σύνοψη'!$F$2:$F289=$A17)*('Σύνοψη'!$C$2:$C289=C$3)*('Σύνοψη'!$G$2:$G289=$B17))>0, TEXTJOIN(CHAR(10) & ""-----------------------"" & CHAR(10), TRUE, FILTER('Σύνοψη'!$E$2:$E289 & "" - "" & 'Σύνοψη'!$I$2:$I289 & "" ("" & 'Σύνοψη'!$J$2"&":$J289 & "")"", 'Σύνοψη'!$F$2:$F289=$A17, 'Σύνοψη'!$G$2:$G289=$B17, 'Σύνοψη'!$C$2:$C289=C$3)), IF(SUMPRODUCT(('Σύνοψη'!$F$2:$F289=$A17)*('Σύνοψη'!$C$2:$C289=C$3)*('Σύνοψη'!$G$2:$G289<$B17)*('Σύνοψη'!$H$2:$H289>$B17))>0, CHAR(34), """") ), """")"),"") | D17: =IFERROR(__xludf.DUMMYFUNCTION("IFERROR(IF(SUMPRODUCT(('Σύνοψη'!$F$2:$F289=$A17)*('Σύνοψη'!$C$2:$C289=D$3)*('Σύνοψη'!$G$2:$G289=$B17))>0, TEXTJOIN(CHAR(10) & ""-----------------------"" & CHAR(10), TRUE, FILTER('Σύνοψη'!$E$2:$E289 & "" - "" & 'Σύνοψη'!$I$2:$I289 & "" ("" & 'Σύνοψη'!$J$2"&":$J289 & "")"", 'Σύνοψη'!$F$2:$F289=$A17, 'Σύνοψη'!$G$2:$G289=$B17, 'Σύνοψη'!$C$2:$C289=D$3)), IF(SUMPRODUCT(('Σύνοψη'!$F$2:$F289=$A17)*('Σύνοψη'!$C$2:$C289=D$3)*('Σύνοψη'!$G$2:$G289<$B17)*('Σύνοψη'!$H$2:$H289>$B17))>0, CHAR(34), """") ), """")"),"") | E17: =IFERROR(__xludf.DUMMYFUNCTION("IFERROR(IF(SUMPRODUCT(('Σύνοψη'!$F$2:$F289=$A17)*('Σύνοψη'!$C$2:$C289=E$3)*('Σύνοψη'!$G$2:$G289=$B17))>0, TEXTJOIN(CHAR(10) & ""-----------------------"" & CHAR(10), TRUE, FILTER('Σύνοψη'!$E$2:$E289 & "" - "" & 'Σύνοψη'!$I$2:$I289 & "" ("" & 'Σύνοψη'!$J$2"&":$J289 & "")"", 'Σύνοψη'!$F$2:$F289=$A17, 'Σύνοψη'!$G$2:$G289=$B17, 'Σύνοψη'!$C$2:$C289=E$3)), IF(SUMPRODUCT(('Σύνοψη'!$F$2:$F289=$A17)*('Σύνοψη'!$C$2:$C289=E$3)*('Σύνοψη'!$G$2:$G289<$B17)*('Σύνοψη'!$H$2:$H289>$B17))>0, CHAR(34), """") ), """")"),"") | F17: =IFERROR(__xludf.DUMMYFUNCTION("IFERROR(IF(SUMPRODUCT(('Σύνοψη'!$F$2:$F289=$A17)*('Σύνοψη'!$C$2:$C289=F$3)*('Σύνοψη'!$G$2:$G289=$B17))>0, TEXTJOIN(CHAR(10) & ""-----------------------"" & CHAR(10), TRUE, FILTER('Σύνοψη'!$E$2:$E289 & "" - "" & 'Σύνοψη'!$I$2:$I289 & "" ("" & 'Σύνοψη'!$J$2"&":$J289 & "")"", 'Σύνοψη'!$F$2:$F289=$A17, 'Σύνοψη'!$G$2:$G289=$B17, 'Σύνοψη'!$C$2:$C289=F$3)), IF(SUMPRODUCT(('Σύνοψη'!$F$2:$F289=$A17)*('Σύνοψη'!$C$2:$C289=F$3)*('Σύνοψη'!$G$2:$G289<$B17)*('Σύνοψη'!$H$2:$H289>$B17))>0, CHAR(34), """") ), """")"),"") | G17: =IFERROR(__xludf.DUMMYFUNCTION("IFERROR(IF(SUMPRODUCT(('Σύνοψη'!$F$2:$F289=$A17)*('Σύνοψη'!$C$2:$C289=G$3)*('Σύνοψη'!$G$2:$G289=$B17))>0, TEXTJOIN(CHAR(10) & ""-----------------------"" & CHAR(10), TRUE, FILTER('Σύνοψη'!$E$2:$E289 & "" - "" & 'Σύνοψη'!$I$2:$I289 & "" ("" & 'Σύνοψη'!$J$2"&":$J289 & "")"", 'Σύνοψη'!$F$2:$F289=$A17, 'Σύνοψη'!$G$2:$G289=$B17, 'Σύνοψη'!$C$2:$C289=G$3)), IF(SUMPRODUCT(('Σύνοψη'!$F$2:$F289=$A17)*('Σύνοψη'!$C$2:$C289=G$3)*('Σύνοψη'!$G$2:$G289<$B17)*('Σύνοψη'!$H$2:$H289>$B17))>0, CHAR(34), """") ), """")"),"") | H17: =IFERROR(__xludf.DUMMYFUNCTION("IFERROR(IF(SUMPRODUCT(('Σύνοψη'!$F$2:$F289=$A17)*('Σύνοψη'!$C$2:$C289=H$3)*('Σύνοψη'!$G$2:$G289=$B17))>0, TEXTJOIN(CHAR(10) & ""-----------------------"" & CHAR(10), TRUE, FILTER('Σύνοψη'!$E$2:$E289 & "" - "" & 'Σύνοψη'!$I$2:$I289 & "" ("" & 'Σύνοψη'!$J$2"&":$J289 & "")"", 'Σύνοψη'!$F$2:$F289=$A17, 'Σύνοψη'!$G$2:$G289=$B17, 'Σύνοψη'!$C$2:$C289=H$3)), IF(SUMPRODUCT(('Σύνοψη'!$F$2:$F289=$A17)*('Σύνοψη'!$C$2:$C289=H$3)*('Σύνοψη'!$G$2:$G289<$B17)*('Σύνοψη'!$H$2:$H289>$B17))>0, CHAR(34), """") ), """")"),"")
A18: =$D$1+1 -> 46266 | B18: 0.33333333 | C18: =IFERROR(__xludf.DUMMYFUNCTION("IFERROR(IF(SUMPRODUCT(('Σύνοψη'!$F$2:$F289=$A18)*('Σύνοψη'!$C$2:$C289=C$3)*('Σύνοψη'!$G$2:$G289=$B18))>0, TEXTJOIN(CHAR(10) & ""-----------------------"" & CHAR(10), TRUE, FILTER('Σύνοψη'!$E$2:$E289 & "" - "" & 'Σύνοψη'!$I$2:$I289 & "" ("" & 'Σύνοψη'!$J$2"&":$J289 & "")"", 'Σύνοψη'!$F$2:$F289=$A18, 'Σύνοψη'!$G$2:$G289=$B18, 'Σύνοψη'!$C$2:$C289=C$3)), IF(SUMPRODUCT(('Σύνοψη'!$F$2:$F289=$A18)*('Σύνοψη'!$C$2:$C289=C$3)*('Σύνοψη'!$G$2:$G289<$B18)*('Σύνοψη'!$H$2:$H289>$B18))>0, CHAR(34), """") ), """")"),"") | D18: =IFERROR(__xludf.DUMMYFUNCTION("IFERROR(IF(SUMPRODUCT(('Σύνοψη'!$F$2:$F289=$A18)*('Σύνοψη'!$C$2:$C289=D$3)*('Σύνοψη'!$G$2:$G289=$B18))>0, TEXTJOIN(CHAR(10) & ""-----------------------"" & CHAR(10), TRUE, FILTER('Σύνοψη'!$E$2:$E289 & "" - "" & 'Σύνοψη'!$I$2:$I289 & "" ("" & 'Σύνοψη'!$J$2"&":$J289 & "")"", 'Σύνοψη'!$F$2:$F289=$A18, 'Σύνοψη'!$G$2:$G289=$B18, 'Σύνοψη'!$C$2:$C289=D$3)), IF(SUMPRODUCT(('Σύνοψη'!$F$2:$F289=$A18)*('Σύνοψη'!$C$2:$C289=D$3)*('Σύνοψη'!$G$2:$G289<$B18)*('Σύνοψη'!$H$2:$H289>$B18))>0, CHAR(34), """") ), """")"),"") | E18: =IFERROR(__xludf.DUMMYFUNCTION("IFERROR(IF(SUMPRODUCT(('Σύνοψη'!$F$2:$F289=$A18)*('Σύνοψη'!$C$2:$C289=E$3)*('Σύνοψη'!$G$2:$G289=$B18))>0, TEXTJOIN(CHAR(10) & ""-----------------------"" & CHAR(10), TRUE, FILTER('Σύνοψη'!$E$2:$E289 & "" - "" & 'Σύνοψη'!$I$2:$I289 & "" ("" & 'Σύνοψη'!$J$2"&":$J289 & "")"", 'Σύνοψη'!$F$2:$F289=$A18, 'Σύνοψη'!$G$2:$G289=$B18, 'Σύνοψη'!$C$2:$C289=E$3)), IF(SUMPRODUCT(('Σύνοψη'!$F$2:$F289=$A18)*('Σύνοψη'!$C$2:$C289=E$3)*('Σύνοψη'!$G$2:$G289<$B18)*('Σύνοψη'!$H$2:$H289>$B18))>0, CHAR(34), """") ), """")"),"") | F18: =IFERROR(__xludf.DUMMYFUNCTION("IFERROR(IF(SUMPRODUCT(('Σύνοψη'!$F$2:$F289=$A18)*('Σύνοψη'!$C$2:$C289=F$3)*('Σύνοψη'!$G$2:$G289=$B18))>0, TEXTJOIN(CHAR(10) & ""-----------------------"" & CHAR(10), TRUE, FILTER('Σύνοψη'!$E$2:$E289 & "" - "" & 'Σύνοψη'!$I$2:$I289 & "" ("" & 'Σύνοψη'!$J$2"&":$J289 & "")"", 'Σύνοψη'!$F$2:$F289=$A18, 'Σύνοψη'!$G$2:$G289=$B18, 'Σύνοψη'!$C$2:$C289=F$3)), IF(SUMPRODUCT(('Σύνοψη'!$F$2:$F289=$A18)*('Σύνοψη'!$C$2:$C289=F$3)*('Σύνοψη'!$G$2:$G289<$B18)*('Σύνοψη'!$H$2:$H289>$B18))>0, CHAR(34), """") ), """")"),"") | G18: =IFERROR(__xludf.DUMMYFUNCTION("IFERROR(IF(SUMPRODUCT(('Σύνοψη'!$F$2:$F289=$A18)*('Σύνοψη'!$C$2:$C289=G$3)*('Σύνοψη'!$G$2:$G289=$B18))>0, TEXTJOIN(CHAR(10) & ""-----------------------"" & CHAR(10), TRUE, FILTER('Σύνοψη'!$E$2:$E289 & "" - "" & 'Σύνοψη'!$I$2:$I289 & "" ("" & 'Σύνοψη'!$J$2"&":$J289 & "")"", 'Σύνοψη'!$F$2:$F289=$A18, 'Σύνοψη'!$G$2:$G289=$B18, 'Σύνοψη'!$C$2:$C289=G$3)), IF(SUMPRODUCT(('Σύνοψη'!$F$2:$F289=$A18)*('Σύνοψη'!$C$2:$C289=G$3)*('Σύνοψη'!$G$2:$G289<$B18)*('Σύνοψη'!$H$2:$H289>$B18))>0, CHAR(34), """") ), """")"),"") | H18: =IFERROR(__xludf.DUMMYFUNCTION("IFERROR(IF(SUMPRODUCT(('Σύνοψη'!$F$2:$F289=$A18)*('Σύνοψη'!$C$2:$C289=H$3)*('Σύνοψη'!$G$2:$G289=$B18))>0, TEXTJOIN(CHAR(10) & ""-----------------------"" & CHAR(10), TRUE, FILTER('Σύνοψη'!$E$2:$E289 & "" - "" & 'Σύνοψη'!$I$2:$I289 & "" ("" & 'Σύνοψη'!$J$2"&":$J289 & "")"", 'Σύνοψη'!$F$2:$F289=$A18, 'Σύνοψη'!$G$2:$G289=$B18, 'Σύνοψη'!$C$2:$C289=H$3)), IF(SUMPRODUCT(('Σύνοψη'!$F$2:$F289=$A18)*('Σύνοψη'!$C$2:$C289=H$3)*('Σύνοψη'!$G$2:$G289<$B18)*('Σύνοψη'!$H$2:$H289>$B18))>0, CHAR(34), """") ), """")"),"")
A19: =$A$18 -> 46266 | B19: 0.375 | C19: =IFERROR(__xludf.DUMMYFUNCTION("IFERROR(IF(SUMPRODUCT(('Σύνοψη'!$F$2:$F289=$A19)*('Σύνοψη'!$C$2:$C289=C$3)*('Σύνοψη'!$G$2:$G289=$B19))>0, TEXTJOIN(CHAR(10) & ""-----------------------"" & CHAR(10), TRUE, FILTER('Σύνοψη'!$E$2:$E289 & "" - "" & 'Σύνοψη'!$I$2:$I289 & "" ("" & 'Σύνοψη'!$J$2"&":$J289 & "")"", 'Σύνοψη'!$F$2:$F289=$A19, 'Σύνοψη'!$G$2:$G289=$B19, 'Σύνοψη'!$C$2:$C289=C$3)), IF(SUMPRODUCT(('Σύνοψη'!$F$2:$F289=$A19)*('Σύνοψη'!$C$2:$C289=C$3)*('Σύνοψη'!$G$2:$G289<$B19)*('Σύνοψη'!$H$2:$H289>$B19))>0, CHAR(34), """") ), """")"),"Γενικές Αρχές Βιοχημείας - 09:00 - 11:00 (Νέες Αίθουσες)") -> Γενικές Αρχές Βιοχημείας - 09:00 - 11:00 (Νέες Αίθουσες) | D19: =IFERROR(__xludf.DUMMYFUNCTION("IFERROR(IF(SUMPRODUCT(('Σύνοψη'!$F$2:$F289=$A19)*('Σύνοψη'!$C$2:$C289=D$3)*('Σύνοψη'!$G$2:$G289=$B19))>0, TEXTJOIN(CHAR(10) & ""-----------------------"" & CHAR(10), TRUE, FILTER('Σύνοψη'!$E$2:$E289 & "" - "" & 'Σύνοψη'!$I$2:$I289 & "" ("" & 'Σύνοψη'!$J$2"&":$J289 & "")"", 'Σύνοψη'!$F$2:$F289=$A19, 'Σύνοψη'!$G$2:$G289=$B19, 'Σύνοψη'!$C$2:$C289=D$3)), IF(SUMPRODUCT(('Σύνοψη'!$F$2:$F289=$A19)*('Σύνοψη'!$C$2:$C289=D$3)*('Σύνοψη'!$G$2:$G289<$B19)*('Σύνοψη'!$H$2:$H289>$B19))>0, CHAR(34), """") ), """")"),"Προϊόντα Μελισσοκομίας - 09:00 - 12:00 (Αμφιθέατρα)") -> Προϊόντα Μελισσοκομίας - 09:00 - 12:00 (Αμφιθέατρα) | E19: =IFERROR(__xludf.DUMMYFUNCTION("IFERROR(IF(SUMPRODUCT(('Σύνοψη'!$F$2:$F289=$A19)*('Σύνοψη'!$C$2:$C289=E$3)*('Σύνοψη'!$G$2:$G289=$B19))>0, TEXTJOIN(CHAR(10) & ""-----------------------"" & CHAR(10), TRUE, FILTER('Σύνοψη'!$E$2:$E289 & "" - "" & 'Σύνοψη'!$I$2:$I289 & "" ("" & 'Σύνοψη'!$J$2"&":$J289 & "")"", 'Σύνοψη'!$F$2:$F289=$A19, 'Σύνοψη'!$G$2:$G289=$B19, 'Σύνοψη'!$C$2:$C289=E$3)), IF(SUMPRODUCT(('Σύνοψη'!$F$2:$F289=$A19)*('Σύνοψη'!$C$2:$C289=E$3)*('Σύνοψη'!$G$2:$G289<$B19)*('Σύνοψη'!$H$2:$H289>$B19))>0, CHAR(34), """") ), """")"),"") | F19: =IFERROR(__xludf.DUMMYFUNCTION("IFERROR(IF(SUMPRODUCT(('Σύνοψη'!$F$2:$F289=$A19)*('Σύνοψη'!$C$2:$C289=F$3)*('Σύνοψη'!$G$2:$G289=$B19))>0, TEXTJOIN(CHAR(10) & ""-----------------------"" & CHAR(10), TRUE, FILTER('Σύνοψη'!$E$2:$E289 & "" - "" & 'Σύνοψη'!$I$2:$I289 & "" ("" & 'Σύνοψη'!$J$2"&":$J289 & "")"", 'Σύνοψη'!$F$2:$F289=$A19, 'Σύνοψη'!$G$2:$G289=$B19, 'Σύνοψη'!$C$2:$C289=F$3)), IF(SUMPRODUCT(('Σύνοψη'!$F$2:$F289=$A19)*('Σύνοψη'!$C$2:$C289=F$3)*('Σύνοψη'!$G$2:$G289<$B19)*('Σύνοψη'!$H$2:$H289>$B19))>0, CHAR(34), """") ), """")"),"") | G19: =IFERROR(__xludf.DUMMYFUNCTION("IFERROR(IF(SUMPRODUCT(('Σύνοψη'!$F$2:$F289=$A19)*('Σύνοψη'!$C$2:$C289=G$3)*('Σύνοψη'!$G$2:$G289=$B19))>0, TEXTJOIN(CHAR(10) & ""-----------------------"" & CHAR(10), TRUE, FILTER('Σύνοψη'!$E$2:$E289 & "" - "" & 'Σύνοψη'!$I$2:$I289 & "" ("" & 'Σύνοψη'!$J$2"&":$J289 & "")"", 'Σύνοψη'!$F$2:$F289=$A19, 'Σύνοψη'!$G$2:$G289=$B19, 'Σύνοψη'!$C$2:$C289=G$3)), IF(SUMPRODUCT(('Σύνοψη'!$F$2:$F289=$A19)*('Σύνοψη'!$C$2:$C289=G$3)*('Σύνοψη'!$G$2:$G289<$B19)*('Σύνοψη'!$H$2:$H289>$B19))>0, CHAR(34), """") ), """")"),"") | H19: =IFERROR(__xludf.DUMMYFUNCTION("IFERROR(IF(SUMPRODUCT(('Σύνοψη'!$F$2:$F289=$A19)*('Σύνοψη'!$C$2:$C289=H$3)*('Σύνοψη'!$G$2:$G289=$B19))>0, TEXTJOIN(CHAR(10) & ""-----------------------"" & CHAR(10), TRUE, FILTER('Σύνοψη'!$E$2:$E289 & "" - "" & 'Σύνοψη'!$I$2:$I289 & "" ("" & 'Σύνοψη'!$J$2"&":$J289 & "")"", 'Σύνοψη'!$F$2:$F289=$A19, 'Σύνοψη'!$G$2:$G289=$B19, 'Σύνοψη'!$C$2:$C289=H$3)), IF(SUMPRODUCT(('Σύνοψη'!$F$2:$F289=$A19)*('Σύνοψη'!$C$2:$C289=H$3)*('Σύνοψη'!$G$2:$G289<$B19)*('Σύνοψη'!$H$2:$H289>$B19))>0, CHAR(34), """") ), """")"),"Αρχές Χημείας για Κτηνιατρική Επιστήμη (ΠΠΣ) - 09:00 - 11:00 (Νέες Αίθουσες)") -> Αρχές Χημείας για Κτηνιατρική Επιστήμη (ΠΠΣ) - 09:00 - 11:00 (Νέες Αίθουσες)
A20: =$A$18 -> 46266 | B20: 0.41666667 | C20: =IFERROR(__xludf.DUMMYFUNCTION("IFERROR(IF(SUMPRODUCT(('Σύνοψη'!$F$2:$F289=$A20)*('Σύνοψη'!$C$2:$C289=C$3)*('Σύνοψη'!$G$2:$G289=$B20))>0, TEXTJOIN(CHAR(10) & ""-----------------------"" & CHAR(10), TRUE, FILTER('Σύνοψη'!$E$2:$E289 & "" - "" & 'Σύνοψη'!$I$2:$I289 & "" ("" & 'Σύνοψη'!$J$2"&":$J289 & "")"", 'Σύνοψη'!$F$2:$F289=$A20, 'Σύνοψη'!$G$2:$G289=$B20, 'Σύνοψη'!$C$2:$C289=C$3)), IF(SUMPRODUCT(('Σύνοψη'!$F$2:$F289=$A20)*('Σύνοψη'!$C$2:$C289=C$3)*('Σύνοψη'!$G$2:$G289<$B20)*('Σύνοψη'!$H$2:$H289>$B20))>0, CHAR(34), """") ), """")"),"""") -> " | D20: =IFERROR(__xludf.DUMMYFUNCTION("IFERROR(IF(SUMPRODUCT(('Σύνοψη'!$F$2:$F289=$A20)*('Σύνοψη'!$C$2:$C289=D$3)*('Σύνοψη'!$G$2:$G289=$B20))>0, TEXTJOIN(CHAR(10) & ""-----------------------"" & CHAR(10), TRUE, FILTER('Σύνοψη'!$E$2:$E289 & "" - "" & 'Σύνοψη'!$I$2:$I289 & "" ("" & 'Σύνοψη'!$J$2"&":$J289 & "")"", 'Σύνοψη'!$F$2:$F289=$A20, 'Σύνοψη'!$G$2:$G289=$B20, 'Σύνοψη'!$C$2:$C289=D$3)), IF(SUMPRODUCT(('Σύνοψη'!$F$2:$F289=$A20)*('Σύνοψη'!$C$2:$C289=D$3)*('Σύνοψη'!$G$2:$G289<$B20)*('Σύνοψη'!$H$2:$H289>$B20))>0, CHAR(34), """") ), """")"),"""") -> " | E20: =IFERROR(__xludf.DUMMYFUNCTION("IFERROR(IF(SUMPRODUCT(('Σύνοψη'!$F$2:$F289=$A20)*('Σύνοψη'!$C$2:$C289=E$3)*('Σύνοψη'!$G$2:$G289=$B20))>0, TEXTJOIN(CHAR(10) & ""-----------------------"" & CHAR(10), TRUE, FILTER('Σύνοψη'!$E$2:$E289 & "" - "" & 'Σύνοψη'!$I$2:$I289 & "" ("" & 'Σύνοψη'!$J$2"&":$J289 & "")"", 'Σύνοψη'!$F$2:$F289=$A20, 'Σύνοψη'!$G$2:$G289=$B20, 'Σύνοψη'!$C$2:$C289=E$3)), IF(SUMPRODUCT(('Σύνοψη'!$F$2:$F289=$A20)*('Σύνοψη'!$C$2:$C289=E$3)*('Σύνοψη'!$G$2:$G289<$B20)*('Σύνοψη'!$H$2:$H289>$B20))>0, CHAR(34), """") ), """")"),"") | F20: =IFERROR(__xludf.DUMMYFUNCTION("IFERROR(IF(SUMPRODUCT(('Σύνοψη'!$F$2:$F289=$A20)*('Σύνοψη'!$C$2:$C289=F$3)*('Σύνοψη'!$G$2:$G289=$B20))>0, TEXTJOIN(CHAR(10) & ""-----------------------"" & CHAR(10), TRUE, FILTER('Σύνοψη'!$E$2:$E289 & "" - "" & 'Σύνοψη'!$I$2:$I289 & "" ("" & 'Σύνοψη'!$J$2"&":$J289 & "")"", 'Σύνοψη'!$F$2:$F289=$A20, 'Σύνοψη'!$G$2:$G289=$B20, 'Σύνοψη'!$C$2:$C289=F$3)), IF(SUMPRODUCT(('Σύνοψη'!$F$2:$F289=$A20)*('Σύνοψη'!$C$2:$C289=F$3)*('Σύνοψη'!$G$2:$G289<$B20)*('Σύνοψη'!$H$2:$H289>$B20))>0, CHAR(34), """") ), """")"),"") | G20: =IFERROR(__xludf.DUMMYFUNCTION("IFERROR(IF(SUMPRODUCT(('Σύνοψη'!$F$2:$F289=$A20)*('Σύνοψη'!$C$2:$C289=G$3)*('Σύνοψη'!$G$2:$G289=$B20))>0, TEXTJOIN(CHAR(10) & ""-----------------------"" & CHAR(10), TRUE, FILTER('Σύνοψη'!$E$2:$E289 & "" - "" & 'Σύνοψη'!$I$2:$I289 & "" ("" & 'Σύνοψη'!$J$2"&":$J289 & "")"", 'Σύνοψη'!$F$2:$F289=$A20, 'Σύνοψη'!$G$2:$G289=$B20, 'Σύνοψη'!$C$2:$C289=G$3)), IF(SUMPRODUCT(('Σύνοψη'!$F$2:$F289=$A20)*('Σύνοψη'!$C$2:$C289=G$3)*('Σύνοψη'!$G$2:$G289<$B20)*('Σύνοψη'!$H$2:$H289>$B20))>0, CHAR(34), """") ), """")"),"") | H20: =IFERROR(__xludf.DUMMYFUNCTION("IFERROR(IF(SUMPRODUCT(('Σύνοψη'!$F$2:$F289=$A20)*('Σύνοψη'!$C$2:$C289=H$3)*('Σύνοψη'!$G$2:$G289=$B20))>0, TEXTJOIN(CHAR(10) & ""-----------------------"" & CHAR(10), TRUE, FILTER('Σύνοψη'!$E$2:$E289 & "" - "" & 'Σύνοψη'!$I$2:$I289 & "" ("" & 'Σύνοψη'!$J$2"&":$J289 & "")"", 'Σύνοψη'!$F$2:$F289=$A20, 'Σύνοψη'!$G$2:$G289=$B20, 'Σύνοψη'!$C$2:$C289=H$3)), IF(SUMPRODUCT(('Σύνοψη'!$F$2:$F289=$A20)*('Σύνοψη'!$C$2:$C289=H$3)*('Σύνοψη'!$G$2:$G289<$B20)*('Σύνοψη'!$H$2:$H289>$B20))>0, CHAR(34), """") ), """")"),"""") -> "
A21: =$A$18 -> 46266 | B21: 0.45833333 | C21: =IFERROR(__xludf.DUMMYFUNCTION("IFERROR(IF(SUMPRODUCT(('Σύνοψη'!$F$2:$F289=$A21)*('Σύνοψη'!$C$2:$C289=C$3)*('Σύνοψη'!$G$2:$G289=$B21))>0, TEXTJOIN(CHAR(10) & ""-----------------------"" & CHAR(10), TRUE, FILTER('Σύνοψη'!$E$2:$E289 & "" - "" & 'Σύνοψη'!$I$2:$I289 & "" ("" & 'Σύνοψη'!$J$2"&":$J289 & "")"", 'Σύνοψη'!$F$2:$F289=$A21, 'Σύνοψη'!$G$2:$G289=$B21, 'Σύνοψη'!$C$2:$C289=C$3)), IF(SUMPRODUCT(('Σύνοψη'!$F$2:$F289=$A21)*('Σύνοψη'!$C$2:$C289=C$3)*('Σύνοψη'!$G$2:$G289<$B21)*('Σύνοψη'!$H$2:$H289>$B21))>0, CHAR(34), """") ), """")"),"") | D21: =IFERROR(__xludf.DUMMYFUNCTION("IFERROR(IF(SUMPRODUCT(('Σύνοψη'!$F$2:$F289=$A21)*('Σύνοψη'!$C$2:$C289=D$3)*('Σύνοψη'!$G$2:$G289=$B21))>0, TEXTJOIN(CHAR(10) & ""-----------------------"" & CHAR(10), TRUE, FILTER('Σύνοψη'!$E$2:$E289 & "" - "" & 'Σύνοψη'!$I$2:$I289 & "" ("" & 'Σύνοψη'!$J$2"&":$J289 & "")"", 'Σύνοψη'!$F$2:$F289=$A21, 'Σύνοψη'!$G$2:$G289=$B21, 'Σύνοψη'!$C$2:$C289=D$3)), IF(SUMPRODUCT(('Σύνοψη'!$F$2:$F289=$A21)*('Σύνοψη'!$C$2:$C289=D$3)*('Σύνοψη'!$G$2:$G289<$B21)*('Σύνοψη'!$H$2:$H289>$B21))>0, CHAR(34), """") ), """")"),"""") -> " | E21: =IFERROR(__xludf.DUMMYFUNCTION("IFERROR(IF(SUMPRODUCT(('Σύνοψη'!$F$2:$F289=$A21)*('Σύνοψη'!$C$2:$C289=E$3)*('Σύνοψη'!$G$2:$G289=$B21))>0, TEXTJOIN(CHAR(10) & ""-----------------------"" & CHAR(10), TRUE, FILTER('Σύνοψη'!$E$2:$E289 & "" - "" & 'Σύνοψη'!$I$2:$I289 & "" ("" & 'Σύνοψη'!$J$2"&":$J289 & "")"", 'Σύνοψη'!$F$2:$F289=$A21, 'Σύνοψη'!$G$2:$G289=$B21, 'Σύνοψη'!$C$2:$C289=E$3)), IF(SUMPRODUCT(('Σύνοψη'!$F$2:$F289=$A21)*('Σύνοψη'!$C$2:$C289=E$3)*('Σύνοψη'!$G$2:$G289<$B21)*('Σύνοψη'!$H$2:$H289>$B21))>0, CHAR(34), """") ), """")"),"") | F21: =IFERROR(__xludf.DUMMYFUNCTION("IFERROR(IF(SUMPRODUCT(('Σύνοψη'!$F$2:$F289=$A21)*('Σύνοψη'!$C$2:$C289=F$3)*('Σύνοψη'!$G$2:$G289=$B21))>0, TEXTJOIN(CHAR(10) & ""-----------------------"" & CHAR(10), TRUE, FILTER('Σύνοψη'!$E$2:$E289 & "" - "" & 'Σύνοψη'!$I$2:$I289 & "" ("" & 'Σύνοψη'!$J$2"&":$J289 & "")"", 'Σύνοψη'!$F$2:$F289=$A21, 'Σύνοψη'!$G$2:$G289=$B21, 'Σύνοψη'!$C$2:$C289=F$3)), IF(SUMPRODUCT(('Σύνοψη'!$F$2:$F289=$A21)*('Σύνοψη'!$C$2:$C289=F$3)*('Σύνοψη'!$G$2:$G289<$B21)*('Σύνοψη'!$H$2:$H289>$B21))>0, CHAR(34), """") ), """")"),"") | G21: =IFERROR(__xludf.DUMMYFUNCTION("IFERROR(IF(SUMPRODUCT(('Σύνοψη'!$F$2:$F289=$A21)*('Σύνοψη'!$C$2:$C289=G$3)*('Σύνοψη'!$G$2:$G289=$B21))>0, TEXTJOIN(CHAR(10) & ""-----------------------"" & CHAR(10), TRUE, FILTER('Σύνοψη'!$E$2:$E289 & "" - "" & 'Σύνοψη'!$I$2:$I289 & "" ("" & 'Σύνοψη'!$J$2"&":$J289 & "")"", 'Σύνοψη'!$F$2:$F289=$A21, 'Σύνοψη'!$G$2:$G289=$B21, 'Σύνοψη'!$C$2:$C289=G$3)), IF(SUMPRODUCT(('Σύνοψη'!$F$2:$F289=$A21)*('Σύνοψη'!$C$2:$C289=G$3)*('Σύνοψη'!$G$2:$G289<$B21)*('Σύνοψη'!$H$2:$H289>$B21))>0, CHAR(34), """") ), """")"),"Πρακτική Άσκηση στη Διαγνωστική Παθολογική Ανατομική & Κτηνιατροδικαστική Ι (Γραπτά) - 11:00 - 14:00 (Αίθουσα Έναντι Χειρουργικής)") -> Πρακτική Άσκηση στη Διαγνωστική Παθολογική Ανατομική & Κτηνιατροδικαστική Ι (Γραπτά) - 11:00 - 14:00 (Αίθουσα Έναντι Χειρουργικής) | H21: =IFERROR(__xludf.DUMMYFUNCTION("IFERROR(IF(SUMPRODUCT(('Σύνοψη'!$F$2:$F289=$A21)*('Σύνοψη'!$C$2:$C289=H$3)*('Σύνοψη'!$G$2:$G289=$B21))>0, TEXTJOIN(CHAR(10) & ""-----------------------"" & CHAR(10), TRUE, FILTER('Σύνοψη'!$E$2:$E289 & "" - "" & 'Σύνοψη'!$I$2:$I289 & "" ("" & 'Σύνοψη'!$J$2"&":$J289 & "")"", 'Σύνοψη'!$F$2:$F289=$A21, 'Σύνοψη'!$G$2:$G289=$B21, 'Σύνοψη'!$C$2:$C289=H$3)), IF(SUMPRODUCT(('Σύνοψη'!$F$2:$F289=$A21)*('Σύνοψη'!$C$2:$C289=H$3)*('Σύνοψη'!$G$2:$G289<$B21)*('Σύνοψη'!$H$2:$H289>$B21))>0, CHAR(34), """") ), """")"),"")
A22: =$A$18 -> 46266 | B22: 0.5 | C22: =IFERROR(__xludf.DUMMYFUNCTION("IFERROR(IF(SUMPRODUCT(('Σύνοψη'!$F$2:$F289=$A22)*('Σύνοψη'!$C$2:$C289=C$3)*('Σύνοψη'!$G$2:$G289=$B22))>0, TEXTJOIN(CHAR(10) & ""-----------------------"" & CHAR(10), TRUE, FILTER('Σύνοψη'!$E$2:$E289 & "" - "" & 'Σύνοψη'!$I$2:$I289 & "" ("" & 'Σύνοψη'!$J$2"&":$J289 & "")"", 'Σύνοψη'!$F$2:$F289=$A22, 'Σύνοψη'!$G$2:$G289=$B22, 'Σύνοψη'!$C$2:$C289=C$3)), IF(SUMPRODUCT(('Σύνοψη'!$F$2:$F289=$A22)*('Σύνοψη'!$C$2:$C289=C$3)*('Σύνοψη'!$G$2:$G289<$B22)*('Σύνοψη'!$H$2:$H289>$B22))>0, CHAR(34), """") ), """")"),"") | D22: =IFERROR(__xludf.DUMMYFUNCTION("IFERROR(IF(SUMPRODUCT(('Σύνοψη'!$F$2:$F289=$A22)*('Σύνοψη'!$C$2:$C289=D$3)*('Σύνοψη'!$G$2:$G289=$B22))>0, TEXTJOIN(CHAR(10) & ""-----------------------"" & CHAR(10), TRUE, FILTER('Σύνοψη'!$E$2:$E289 & "" - "" & 'Σύνοψη'!$I$2:$I289 & "" ("" & 'Σύνοψη'!$J$2"&":$J289 & "")"", 'Σύνοψη'!$F$2:$F289=$A22, 'Σύνοψη'!$G$2:$G289=$B22, 'Σύνοψη'!$C$2:$C289=D$3)), IF(SUMPRODUCT(('Σύνοψη'!$F$2:$F289=$A22)*('Σύνοψη'!$C$2:$C289=D$3)*('Σύνοψη'!$G$2:$G289<$B22)*('Σύνοψη'!$H$2:$H289>$B22))>0, CHAR(34), """") ), """")"),"") | E22: =IFERROR(__xludf.DUMMYFUNCTION("IFERROR(IF(SUMPRODUCT(('Σύνοψη'!$F$2:$F289=$A22)*('Σύνοψη'!$C$2:$C289=E$3)*('Σύνοψη'!$G$2:$G289=$B22))>0, TEXTJOIN(CHAR(10) & ""-----------------------"" & CHAR(10), TRUE, FILTER('Σύνοψη'!$E$2:$E289 & "" - "" & 'Σύνοψη'!$I$2:$I289 & "" ("" & 'Σύνοψη'!$J$2"&":$J289 & "")"", 'Σύνοψη'!$F$2:$F289=$A22, 'Σύνοψη'!$G$2:$G289=$B22, 'Σύνοψη'!$C$2:$C289=E$3)), IF(SUMPRODUCT(('Σύνοψη'!$F$2:$F289=$A22)*('Σύνοψη'!$C$2:$C289=E$3)*('Σύνοψη'!$G$2:$G289<$B22)*('Σύνοψη'!$H$2:$H289>$B22))>0, CHAR(34), """") ), """")"),"") | F22: =IFERROR(__xludf.DUMMYFUNCTION("IFERROR(IF(SUMPRODUCT(('Σύνοψη'!$F$2:$F289=$A22)*('Σύνοψη'!$C$2:$C289=F$3)*('Σύνοψη'!$G$2:$G289=$B22))>0, TEXTJOIN(CHAR(10) & ""-----------------------"" & CHAR(10), TRUE, FILTER('Σύνοψη'!$E$2:$E289 & "" - "" & 'Σύνοψη'!$I$2:$I289 & "" ("" & 'Σύνοψη'!$J$2"&":$J289 & "")"", 'Σύνοψη'!$F$2:$F289=$A22, 'Σύνοψη'!$G$2:$G289=$B22, 'Σύνοψη'!$C$2:$C289=F$3)), IF(SUMPRODUCT(('Σύνοψη'!$F$2:$F289=$A22)*('Σύνοψη'!$C$2:$C289=F$3)*('Σύνοψη'!$G$2:$G289<$B22)*('Σύνοψη'!$H$2:$H289>$B22))>0, CHAR(34), """") ), """")"),"Χειρουργική Μαλακών Ιστών - 12:00 - 15:00 (Αμφιθέατρα)") -> Χειρουργική Μαλακών Ιστών - 12:00 - 15:00 (Αμφιθέατρα) | G22: =IFERROR(__xludf.DUMMYFUNCTION("IFERROR(IF(SUMPRODUCT(('Σύνοψη'!$F$2:$F289=$A22)*('Σύνοψη'!$C$2:$C289=G$3)*('Σύνοψη'!$G$2:$G289=$B22))>0, TEXTJOIN(CHAR(10) & ""-----------------------"" & CHAR(10), TRUE, FILTER('Σύνοψη'!$E$2:$E289 & "" - "" & 'Σύνοψη'!$I$2:$I289 & "" ("" & 'Σύνοψη'!$J$2"&":$J289 & "")"", 'Σύνοψη'!$F$2:$F289=$A22, 'Σύνοψη'!$G$2:$G289=$B22, 'Σύνοψη'!$C$2:$C289=G$3)), IF(SUMPRODUCT(('Σύνοψη'!$F$2:$F289=$A22)*('Σύνοψη'!$C$2:$C289=G$3)*('Σύνοψη'!$G$2:$G289<$B22)*('Σύνοψη'!$H$2:$H289>$B22))>0, CHAR(34), """") ), """")"),"""") -> " | H22: =IFERROR(__xludf.DUMMYFUNCTION("IFERROR(IF(SUMPRODUCT(('Σύνοψη'!$F$2:$F289=$A22)*('Σύνοψη'!$C$2:$C289=H$3)*('Σύνοψη'!$G$2:$G289=$B22))>0, TEXTJOIN(CHAR(10) & ""-----------------------"" & CHAR(10), TRUE, FILTER('Σύνοψη'!$E$2:$E289 & "" - "" & 'Σύνοψη'!$I$2:$I289 & "" ("" & 'Σύνοψη'!$J$2"&":$J289 & "")"", 'Σύνοψη'!$F$2:$F289=$A22, 'Σύνοψη'!$G$2:$G289=$B22, 'Σύνοψη'!$C$2:$C289=H$3)), IF(SUMPRODUCT(('Σύνοψη'!$F$2:$F289=$A22)*('Σύνοψη'!$C$2:$C289=H$3)*('Σύνοψη'!$G$2:$G289<$B22)*('Σύνοψη'!$H$2:$H289>$B22))>0, CHAR(34), """") ), """")"),"Χειρουργική ΙΙΙ (γραπτά) - 12:00 - 15:00 (Αμφιθέατρα)") -> Χειρουργική ΙΙΙ (γραπτά) - 12:00 - 15:00 (Αμφιθέατρα)
A23: =$A$18 -> 46266 | B23: 0.54166667 | C23: =IFERROR(__xludf.DUMMYFUNCTION("IFERROR(IF(SUMPRODUCT(('Σύνοψη'!$F$2:$F289=$A23)*('Σύνοψη'!$C$2:$C289=C$3)*('Σύνοψη'!$G$2:$G289=$B23))>0, TEXTJOIN(CHAR(10) & ""-----------------------"" & CHAR(10), TRUE, FILTER('Σύνοψη'!$E$2:$E289 & "" - "" & 'Σύνοψη'!$I$2:$I289 & "" ("" & 'Σύνοψη'!$J$2"&":$J289 & "")"", 'Σύνοψη'!$F$2:$F289=$A23, 'Σύνοψη'!$G$2:$G289=$B23, 'Σύνοψη'!$C$2:$C289=C$3)), IF(SUMPRODUCT(('Σύνοψη'!$F$2:$F289=$A23)*('Σύνοψη'!$C$2:$C289=C$3)*('Σύνοψη'!$G$2:$G289<$B23)*('Σύνοψη'!$H$2:$H289>$B23))>0, CHAR(34), """") ), """")"),"") | D23: =IFERROR(__xludf.DUMMYFUNCTION("IFERROR(IF(SUMPRODUCT(('Σύνοψη'!$F$2:$F289=$A23)*('Σύνοψη'!$C$2:$C289=D$3)*('Σύνοψη'!$G$2:$G289=$B23))>0, TEXTJOIN(CHAR(10) & ""-----------------------"" & CHAR(10), TRUE, FILTER('Σύνοψη'!$E$2:$E289 & "" - "" & 'Σύνοψη'!$I$2:$I289 & "" ("" & 'Σύνοψη'!$J$2"&":$J289 & "")"", 'Σύνοψη'!$F$2:$F289=$A23, 'Σύνοψη'!$G$2:$G289=$B23, 'Σύνοψη'!$C$2:$C289=D$3)), IF(SUMPRODUCT(('Σύνοψη'!$F$2:$F289=$A23)*('Σύνοψη'!$C$2:$C289=D$3)*('Σύνοψη'!$G$2:$G289<$B23)*('Σύνοψη'!$H$2:$H289>$B23))>0, CHAR(34), """") ), """")"),"") | E23: =IFERROR(__xludf.DUMMYFUNCTION("IFERROR(IF(SUMPRODUCT(('Σύνοψη'!$F$2:$F289=$A23)*('Σύνοψη'!$C$2:$C289=E$3)*('Σύνοψη'!$G$2:$G289=$B23))>0, TEXTJOIN(CHAR(10) & ""-----------------------"" & CHAR(10), TRUE, FILTER('Σύνοψη'!$E$2:$E289 & "" - "" & 'Σύνοψη'!$I$2:$I289 & "" ("" & 'Σύνοψη'!$J$2"&":$J289 & "")"", 'Σύνοψη'!$F$2:$F289=$A23, 'Σύνοψη'!$G$2:$G289=$B23, 'Σύνοψη'!$C$2:$C289=E$3)), IF(SUMPRODUCT(('Σύνοψη'!$F$2:$F289=$A23)*('Σύνοψη'!$C$2:$C289=E$3)*('Σύνοψη'!$G$2:$G289<$B23)*('Σύνοψη'!$H$2:$H289>$B23))>0, CHAR(34), """") ), """")"),"") | F23: =IFERROR(__xludf.DUMMYFUNCTION("IFERROR(IF(SUMPRODUCT(('Σύνοψη'!$F$2:$F289=$A23)*('Σύνοψη'!$C$2:$C289=F$3)*('Σύνοψη'!$G$2:$G289=$B23))>0, TEXTJOIN(CHAR(10) & ""-----------------------"" & CHAR(10), TRUE, FILTER('Σύνοψη'!$E$2:$E289 & "" - "" & 'Σύνοψη'!$I$2:$I289 & "" ("" & 'Σύνοψη'!$J$2"&":$J289 & "")"", 'Σύνοψη'!$F$2:$F289=$A23, 'Σύνοψη'!$G$2:$G289=$B23, 'Σύνοψη'!$C$2:$C289=F$3)), IF(SUMPRODUCT(('Σύνοψη'!$F$2:$F289=$A23)*('Σύνοψη'!$C$2:$C289=F$3)*('Σύνοψη'!$G$2:$G289<$B23)*('Σύνοψη'!$H$2:$H289>$B23))>0, CHAR(34), """") ), """")"),"""") -> " | G23: =IFERROR(__xludf.DUMMYFUNCTION("IFERROR(IF(SUMPRODUCT(('Σύνοψη'!$F$2:$F289=$A23)*('Σύνοψη'!$C$2:$C289=G$3)*('Σύνοψη'!$G$2:$G289=$B23))>0, TEXTJOIN(CHAR(10) & ""-----------------------"" & CHAR(10), TRUE, FILTER('Σύνοψη'!$E$2:$E289 & "" - "" & 'Σύνοψη'!$I$2:$I289 & "" ("" & 'Σύνοψη'!$J$2"&":$J289 & "")"", 'Σύνοψη'!$F$2:$F289=$A23, 'Σύνοψη'!$G$2:$G289=$B23, 'Σύνοψη'!$C$2:$C289=G$3)), IF(SUMPRODUCT(('Σύνοψη'!$F$2:$F289=$A23)*('Σύνοψη'!$C$2:$C289=G$3)*('Σύνοψη'!$G$2:$G289<$B23)*('Σύνοψη'!$H$2:$H289>$B23))>0, CHAR(34), """") ), """")"),"""") -> " | H23: =IFERROR(__xludf.DUMMYFUNCTION("IFERROR(IF(SUMPRODUCT(('Σύνοψη'!$F$2:$F289=$A23)*('Σύνοψη'!$C$2:$C289=H$3)*('Σύνοψη'!$G$2:$G289=$B23))>0, TEXTJOIN(CHAR(10) & ""-----------------------"" & CHAR(10), TRUE, FILTER('Σύνοψη'!$E$2:$E289 & "" - "" & 'Σύνοψη'!$I$2:$I289 & "" ("" & 'Σύνοψη'!$J$2"&":$J289 & "")"", 'Σύνοψη'!$F$2:$F289=$A23, 'Σύνοψη'!$G$2:$G289=$B23, 'Σύνοψη'!$C$2:$C289=H$3)), IF(SUMPRODUCT(('Σύνοψη'!$F$2:$F289=$A23)*('Σύνοψη'!$C$2:$C289=H$3)*('Σύνοψη'!$G$2:$G289<$B23)*('Σύνοψη'!$H$2:$H289>$B23))>0, CHAR(34), """") ), """")"),"""") -> "
A24: =$A$18 -> 46266 | B24: 0.58333333 | C24: =IFERROR(__xludf.DUMMYFUNCTION("IFERROR(IF(SUMPRODUCT(('Σύνοψη'!$F$2:$F289=$A24)*('Σύνοψη'!$C$2:$C289=C$3)*('Σύνοψη'!$G$2:$G289=$B24))>0, TEXTJOIN(CHAR(10) & ""-----------------------"" & CHAR(10), TRUE, FILTER('Σύνοψη'!$E$2:$E289 & "" - "" & 'Σύνοψη'!$I$2:$I289 & "" ("" & 'Σύνοψη'!$J$2"&":$J289 & "")"", 'Σύνοψη'!$F$2:$F289=$A24, 'Σύνοψη'!$G$2:$G289=$B24, 'Σύνοψη'!$C$2:$C289=C$3)), IF(SUMPRODUCT(('Σύνοψη'!$F$2:$F289=$A24)*('Σύνοψη'!$C$2:$C289=C$3)*('Σύνοψη'!$G$2:$G289<$B24)*('Σύνοψη'!$H$2:$H289>$B24))>0, CHAR(34), """") ), """")"),"") | D24: =IFERROR(__xludf.DUMMYFUNCTION("IFERROR(IF(SUMPRODUCT(('Σύνοψη'!$F$2:$F289=$A24)*('Σύνοψη'!$C$2:$C289=D$3)*('Σύνοψη'!$G$2:$G289=$B24))>0, TEXTJOIN(CHAR(10) & ""-----------------------"" & CHAR(10), TRUE, FILTER('Σύνοψη'!$E$2:$E289 & "" - "" & 'Σύνοψη'!$I$2:$I289 & "" ("" & 'Σύνοψη'!$J$2"&":$J289 & "")"", 'Σύνοψη'!$F$2:$F289=$A24, 'Σύνοψη'!$G$2:$G289=$B24, 'Σύνοψη'!$C$2:$C289=D$3)), IF(SUMPRODUCT(('Σύνοψη'!$F$2:$F289=$A24)*('Σύνοψη'!$C$2:$C289=D$3)*('Σύνοψη'!$G$2:$G289<$B24)*('Σύνοψη'!$H$2:$H289>$B24))>0, CHAR(34), """") ), """")"),"") | E24: =IFERROR(__xludf.DUMMYFUNCTION("IFERROR(IF(SUMPRODUCT(('Σύνοψη'!$F$2:$F289=$A24)*('Σύνοψη'!$C$2:$C289=E$3)*('Σύνοψη'!$G$2:$G289=$B24))>0, TEXTJOIN(CHAR(10) & ""-----------------------"" & CHAR(10), TRUE, FILTER('Σύνοψη'!$E$2:$E289 & "" - "" & 'Σύνοψη'!$I$2:$I289 & "" ("" & 'Σύνοψη'!$J$2"&":$J289 & "")"", 'Σύνοψη'!$F$2:$F289=$A24, 'Σύνοψη'!$G$2:$G289=$B24, 'Σύνοψη'!$C$2:$C289=E$3)), IF(SUMPRODUCT(('Σύνοψη'!$F$2:$F289=$A24)*('Σύνοψη'!$C$2:$C289=E$3)*('Σύνοψη'!$G$2:$G289<$B24)*('Σύνοψη'!$H$2:$H289>$B24))>0, CHAR(34), """") ), """")"),"") | F24: =IFERROR(__xludf.DUMMYFUNCTION("IFERROR(IF(SUMPRODUCT(('Σύνοψη'!$F$2:$F289=$A24)*('Σύνοψη'!$C$2:$C289=F$3)*('Σύνοψη'!$G$2:$G289=$B24))>0, TEXTJOIN(CHAR(10) & ""-----------------------"" & CHAR(10), TRUE, FILTER('Σύνοψη'!$E$2:$E289 & "" - "" & 'Σύνοψη'!$I$2:$I289 & "" ("" & 'Σύνοψη'!$J$2"&":$J289 & "")"", 'Σύνοψη'!$F$2:$F289=$A24, 'Σύνοψη'!$G$2:$G289=$B24, 'Σύνοψη'!$C$2:$C289=F$3)), IF(SUMPRODUCT(('Σύνοψη'!$F$2:$F289=$A24)*('Σύνοψη'!$C$2:$C289=F$3)*('Σύνοψη'!$G$2:$G289<$B24)*('Σύνοψη'!$H$2:$H289>$B24))>0, CHAR(34), """") ), """")"),"""") -> " | G24: =IFERROR(__xludf.DUMMYFUNCTION("IFERROR(IF(SUMPRODUCT(('Σύνοψη'!$F$2:$F289=$A24)*('Σύνοψη'!$C$2:$C289=G$3)*('Σύνοψη'!$G$2:$G289=$B24))>0, TEXTJOIN(CHAR(10) & ""-----------------------"" & CHAR(10), TRUE, FILTER('Σύνοψη'!$E$2:$E289 & "" - "" & 'Σύνοψη'!$I$2:$I289 & "" ("" & 'Σύνοψη'!$J$2"&":$J289 & "")"", 'Σύνοψη'!$F$2:$F289=$A24, 'Σύνοψη'!$G$2:$G289=$B24, 'Σύνοψη'!$C$2:$C289=G$3)), IF(SUMPRODUCT(('Σύνοψη'!$F$2:$F289=$A24)*('Σύνοψη'!$C$2:$C289=G$3)*('Σύνοψη'!$G$2:$G289<$B24)*('Σύνοψη'!$H$2:$H289>$B24))>0, CHAR(34), """") ), """")"),"Πρακτική Άσκηση στη Διαγνωστική Παθολογική Ανατομική & Κτηνιατροδικαστική Ι (Πρακτικά) - 14:00 - 19:00 (Αίθουσα Μικροσκοπίας)") -> Πρακτική Άσκηση στη Διαγνωστική Παθολογική Ανατομική & Κτηνιατροδικαστική Ι (Πρακτικά) - 14:00 - 19:00 (Αίθουσα Μικροσκοπίας) | H24: =IFERROR(__xludf.DUMMYFUNCTION("IFERROR(IF(SUMPRODUCT(('Σύνοψη'!$F$2:$F289=$A24)*('Σύνοψη'!$C$2:$C289=H$3)*('Σύνοψη'!$G$2:$G289=$B24))>0, TEXTJOIN(CHAR(10) & ""-----------------------"" & CHAR(10), TRUE, FILTER('Σύνοψη'!$E$2:$E289 & "" - "" & 'Σύνοψη'!$I$2:$I289 & "" ("" & 'Σύνοψη'!$J$2"&":$J289 & "")"", 'Σύνοψη'!$F$2:$F289=$A24, 'Σύνοψη'!$G$2:$G289=$B24, 'Σύνοψη'!$C$2:$C289=H$3)), IF(SUMPRODUCT(('Σύνοψη'!$F$2:$F289=$A24)*('Σύνοψη'!$C$2:$C289=H$3)*('Σύνοψη'!$G$2:$G289<$B24)*('Σύνοψη'!$H$2:$H289>$B24))>0, CHAR(34), """") ), """")"),"""") -> "
A25: =$A$18 -> 46266 | B25: 0.625 | C25: =IFERROR(__xludf.DUMMYFUNCTION("IFERROR(IF(SUMPRODUCT(('Σύνοψη'!$F$2:$F289=$A25)*('Σύνοψη'!$C$2:$C289=C$3)*('Σύνοψη'!$G$2:$G289=$B25))>0, TEXTJOIN(CHAR(10) & ""-----------------------"" & CHAR(10), TRUE, FILTER('Σύνοψη'!$E$2:$E289 & "" - "" & 'Σύνοψη'!$I$2:$I289 & "" ("" & 'Σύνοψη'!$J$2"&":$J289 & "")"", 'Σύνοψη'!$F$2:$F289=$A25, 'Σύνοψη'!$G$2:$G289=$B25, 'Σύνοψη'!$C$2:$C289=C$3)), IF(SUMPRODUCT(('Σύνοψη'!$F$2:$F289=$A25)*('Σύνοψη'!$C$2:$C289=C$3)*('Σύνοψη'!$G$2:$G289<$B25)*('Σύνοψη'!$H$2:$H289>$B25))>0, CHAR(34), """") ), """")"),"") | D25: =IFERROR(__xludf.DUMMYFUNCTION("IFERROR(IF(SUMPRODUCT(('Σύνοψη'!$F$2:$F289=$A25)*('Σύνοψη'!$C$2:$C289=D$3)*('Σύνοψη'!$G$2:$G289=$B25))>0, TEXTJOIN(CHAR(10) & ""-----------------------"" & CHAR(10), TRUE, FILTER('Σύνοψη'!$E$2:$E289 & "" - "" & 'Σύνοψη'!$I$2:$I289 & "" ("" & 'Σύνοψη'!$J$2"&":$J289 & "")"", 'Σύνοψη'!$F$2:$F289=$A25, 'Σύνοψη'!$G$2:$G289=$B25, 'Σύνοψη'!$C$2:$C289=D$3)), IF(SUMPRODUCT(('Σύνοψη'!$F$2:$F289=$A25)*('Σύνοψη'!$C$2:$C289=D$3)*('Σύνοψη'!$G$2:$G289<$B25)*('Σύνοψη'!$H$2:$H289>$B25))>0, CHAR(34), """") ), """")"),"") | E25: =IFERROR(__xludf.DUMMYFUNCTION("IFERROR(IF(SUMPRODUCT(('Σύνοψη'!$F$2:$F289=$A25)*('Σύνοψη'!$C$2:$C289=E$3)*('Σύνοψη'!$G$2:$G289=$B25))>0, TEXTJOIN(CHAR(10) & ""-----------------------"" & CHAR(10), TRUE, FILTER('Σύνοψη'!$E$2:$E289 & "" - "" & 'Σύνοψη'!$I$2:$I289 & "" ("" & 'Σύνοψη'!$J$2"&":$J289 & "")"", 'Σύνοψη'!$F$2:$F289=$A25, 'Σύνοψη'!$G$2:$G289=$B25, 'Σύνοψη'!$C$2:$C289=E$3)), IF(SUMPRODUCT(('Σύνοψη'!$F$2:$F289=$A25)*('Σύνοψη'!$C$2:$C289=E$3)*('Σύνοψη'!$G$2:$G289<$B25)*('Σύνοψη'!$H$2:$H289>$B25))>0, CHAR(34), """") ), """")"),"Εισαγωγή στην Εντατική Θεραπεία - 15:00 - 18:00 (Αμφιθέατρα) ----------------------- Εκτροφή/Παθολογία Σημαντικότερων Υδρόβιων Οργανισμών (Πλην Ιχθύων) - 15:00 - 18:00 (Αμφιθέατρα) ----------------------- Κλινική Εργαστηριακή Διαγνωστική - 15:00 - 18:00 ("&"Αμφιθέατρα) ----------------------- Ζωοανθρωπονόσοι μέσω Προσέγγισης Ενιαίας Υγείας - 15:00 - 18:00 (Αμφιθέατρα)") -> Εισαγωγή στην Εντατική Θεραπεία - 15:00 - 18:00 (Αμφιθέατρα) ----------------------- Εκτροφή/Παθολογία Σημαντικότερων Υδρόβιων Οργανισμών (Πλην Ιχθύων) - 15:00 - 18:00 (Αμφιθέατρα) ----------------------- Κλινική Εργαστηριακή Διαγνωστική - 15:00 - 18:00 (Αμφιθέατρα) ----------------------- Ζωοανθρωπονόσοι μέσω Προσέγγισης Ενιαίας Υγείας - 15:00 - 18:00 (Αμφιθέατρα) | F25: =IFERROR(__xludf.DUMMYFUNCTION("IFERROR(IF(SUMPRODUCT(('Σύνοψη'!$F$2:$F289=$A25)*('Σύνοψη'!$C$2:$C289=F$3)*('Σύνοψη'!$G$2:$G289=$B25))>0, TEXTJOIN(CHAR(10) & ""-----------------------"" & CHAR(10), TRUE, FILTER('Σύνοψη'!$E$2:$E289 & "" - "" & 'Σύνοψη'!$I$2:$I289 & "" ("" & 'Σύνοψη'!$J$2"&":$J289 & "")"", 'Σύνοψη'!$F$2:$F289=$A25, 'Σύνοψη'!$G$2:$G289=$B25, 'Σύνοψη'!$C$2:$C289=F$3)), IF(SUMPRODUCT(('Σύνοψη'!$F$2:$F289=$A25)*('Σύνοψη'!$C$2:$C289=F$3)*('Σύνοψη'!$G$2:$G289<$B25)*('Σύνοψη'!$H$2:$H289>$B25))>0, CHAR(34), """") ), """")"),"") | G25: =IFERROR(__xludf.DUMMYFUNCTION("IFERROR(IF(SUMPRODUCT(('Σύνοψη'!$F$2:$F289=$A25)*('Σύνοψη'!$C$2:$C289=G$3)*('Σύνοψη'!$G$2:$G289=$B25))>0, TEXTJOIN(CHAR(10) & ""-----------------------"" & CHAR(10), TRUE, FILTER('Σύνοψη'!$E$2:$E289 & "" - "" & 'Σύνοψη'!$I$2:$I289 & "" ("" & 'Σύνοψη'!$J$2"&":$J289 & "")"", 'Σύνοψη'!$F$2:$F289=$A25, 'Σύνοψη'!$G$2:$G289=$B25, 'Σύνοψη'!$C$2:$C289=G$3)), IF(SUMPRODUCT(('Σύνοψη'!$F$2:$F289=$A25)*('Σύνοψη'!$C$2:$C289=G$3)*('Σύνοψη'!$G$2:$G289<$B25)*('Σύνοψη'!$H$2:$H289>$B25))>0, CHAR(34), """") ), """")"),"""") -> " | H25: =IFERROR(__xludf.DUMMYFUNCTION("IFERROR(IF(SUMPRODUCT(('Σύνοψη'!$F$2:$F289=$A25)*('Σύνοψη'!$C$2:$C289=H$3)*('Σύνοψη'!$G$2:$G289=$B25))>0, TEXTJOIN(CHAR(10) & ""-----------------------"" & CHAR(10), TRUE, FILTER('Σύνοψη'!$E$2:$E289 & "" - "" & 'Σύνοψη'!$I$2:$I289 & "" ("" & 'Σύνοψη'!$J$2"&":$J289 & "")"", 'Σύνοψη'!$F$2:$F289=$A25, 'Σύνοψη'!$G$2:$G289=$B25, 'Σύνοψη'!$C$2:$C289=H$3)), IF(SUMPRODUCT(('Σύνοψη'!$F$2:$F289=$A25)*('Σύνοψη'!$C$2:$C289=H$3)*('Σύνοψη'!$G$2:$G289<$B25)*('Σύνοψη'!$H$2:$H289>$B25))>0, CHAR(34), """") ), """")"),"")
A26: =$A$18 -> 46266 | B26: 0.66666667 | C26: =IFERROR(__xludf.DUMMYFUNCTION("IFERROR(IF(SUMPRODUCT(('Σύνοψη'!$F$2:$F289=$A26)*('Σύνοψη'!$C$2:$C289=C$3)*('Σύνοψη'!$G$2:$G289=$B26))>0, TEXTJOIN(CHAR(10) & ""-----------------------"" & CHAR(10), TRUE, FILTER('Σύνοψη'!$E$2:$E289 & "" - "" & 'Σύνοψη'!$I$2:$I289 & "" ("" & 'Σύνοψη'!$J$2"&":$J289 & "")"", 'Σύνοψη'!$F$2:$F289=$A26, 'Σύνοψη'!$G$2:$G289=$B26, 'Σύνοψη'!$C$2:$C289=C$3)), IF(SUMPRODUCT(('Σύνοψη'!$F$2:$F289=$A26)*('Σύνοψη'!$C$2:$C289=C$3)*('Σύνοψη'!$G$2:$G289<$B26)*('Σύνοψη'!$H$2:$H289>$B26))>0, CHAR(34), """") ), """")"),"") | D26: =IFERROR(__xludf.DUMMYFUNCTION("IFERROR(IF(SUMPRODUCT(('Σύνοψη'!$F$2:$F289=$A26)*('Σύνοψη'!$C$2:$C289=D$3)*('Σύνοψη'!$G$2:$G289=$B26))>0, TEXTJOIN(CHAR(10) & ""-----------------------"" & CHAR(10), TRUE, FILTER('Σύνοψη'!$E$2:$E289 & "" - "" & 'Σύνοψη'!$I$2:$I289 & "" ("" & 'Σύνοψη'!$J$2"&":$J289 & "")"", 'Σύνοψη'!$F$2:$F289=$A26, 'Σύνοψη'!$G$2:$G289=$B26, 'Σύνοψη'!$C$2:$C289=D$3)), IF(SUMPRODUCT(('Σύνοψη'!$F$2:$F289=$A26)*('Σύνοψη'!$C$2:$C289=D$3)*('Σύνοψη'!$G$2:$G289<$B26)*('Σύνοψη'!$H$2:$H289>$B26))>0, CHAR(34), """") ), """")"),"") | E26: =IFERROR(__xludf.DUMMYFUNCTION("IFERROR(IF(SUMPRODUCT(('Σύνοψη'!$F$2:$F289=$A26)*('Σύνοψη'!$C$2:$C289=E$3)*('Σύνοψη'!$G$2:$G289=$B26))>0, TEXTJOIN(CHAR(10) & ""-----------------------"" & CHAR(10), TRUE, FILTER('Σύνοψη'!$E$2:$E289 & "" - "" & 'Σύνοψη'!$I$2:$I289 & "" ("" & 'Σύνοψη'!$J$2"&":$J289 & "")"", 'Σύνοψη'!$F$2:$F289=$A26, 'Σύνοψη'!$G$2:$G289=$B26, 'Σύνοψη'!$C$2:$C289=E$3)), IF(SUMPRODUCT(('Σύνοψη'!$F$2:$F289=$A26)*('Σύνοψη'!$C$2:$C289=E$3)*('Σύνοψη'!$G$2:$G289<$B26)*('Σύνοψη'!$H$2:$H289>$B26))>0, CHAR(34), """") ), """")"),"""") -> " | F26: =IFERROR(__xludf.DUMMYFUNCTION("IFERROR(IF(SUMPRODUCT(('Σύνοψη'!$F$2:$F289=$A26)*('Σύνοψη'!$C$2:$C289=F$3)*('Σύνοψη'!$G$2:$G289=$B26))>0, TEXTJOIN(CHAR(10) & ""-----------------------"" & CHAR(10), TRUE, FILTER('Σύνοψη'!$E$2:$E289 & "" - "" & 'Σύνοψη'!$I$2:$I289 & "" ("" & 'Σύνοψη'!$J$2"&":$J289 & "")"", 'Σύνοψη'!$F$2:$F289=$A26, 'Σύνοψη'!$G$2:$G289=$B26, 'Σύνοψη'!$C$2:$C289=F$3)), IF(SUMPRODUCT(('Σύνοψη'!$F$2:$F289=$A26)*('Σύνοψη'!$C$2:$C289=F$3)*('Σύνοψη'!$G$2:$G289<$B26)*('Σύνοψη'!$H$2:$H289>$B26))>0, CHAR(34), """") ), """")"),"") | G26: =IFERROR(__xludf.DUMMYFUNCTION("IFERROR(IF(SUMPRODUCT(('Σύνοψη'!$F$2:$F289=$A26)*('Σύνοψη'!$C$2:$C289=G$3)*('Σύνοψη'!$G$2:$G289=$B26))>0, TEXTJOIN(CHAR(10) & ""-----------------------"" & CHAR(10), TRUE, FILTER('Σύνοψη'!$E$2:$E289 & "" - "" & 'Σύνοψη'!$I$2:$I289 & "" ("" & 'Σύνοψη'!$J$2"&":$J289 & "")"", 'Σύνοψη'!$F$2:$F289=$A26, 'Σύνοψη'!$G$2:$G289=$B26, 'Σύνοψη'!$C$2:$C289=G$3)), IF(SUMPRODUCT(('Σύνοψη'!$F$2:$F289=$A26)*('Σύνοψη'!$C$2:$C289=G$3)*('Σύνοψη'!$G$2:$G289<$B26)*('Σύνοψη'!$H$2:$H289>$B26))>0, CHAR(34), """") ), """")"),"""") -> " | H26: =IFERROR(__xludf.DUMMYFUNCTION("IFERROR(IF(SUMPRODUCT(('Σύνοψη'!$F$2:$F289=$A26)*('Σύνοψη'!$C$2:$C289=H$3)*('Σύνοψη'!$G$2:$G289=$B26))>0, TEXTJOIN(CHAR(10) & ""-----------------------"" & CHAR(10), TRUE, FILTER('Σύνοψη'!$E$2:$E289 & "" - "" & 'Σύνοψη'!$I$2:$I289 & "" ("" & 'Σύνοψη'!$J$2"&":$J289 & "")"", 'Σύνοψη'!$F$2:$F289=$A26, 'Σύνοψη'!$G$2:$G289=$B26, 'Σύνοψη'!$C$2:$C289=H$3)), IF(SUMPRODUCT(('Σύνοψη'!$F$2:$F289=$A26)*('Σύνοψη'!$C$2:$C289=H$3)*('Σύνοψη'!$G$2:$G289<$B26)*('Σύνοψη'!$H$2:$H289>$B26))>0, CHAR(34), """") ), """")"),"")
A27: =$A$18 -> 46266 | B27: 0.70833333 | C27: =IFERROR(__xludf.DUMMYFUNCTION("IFERROR(IF(SUMPRODUCT(('Σύνοψη'!$F$2:$F289=$A27)*('Σύνοψη'!$C$2:$C289=C$3)*('Σύνοψη'!$G$2:$G289=$B27))>0, TEXTJOIN(CHAR(10) & ""-----------------------"" & CHAR(10), TRUE, FILTER('Σύνοψη'!$E$2:$E289 & "" - "" & 'Σύνοψη'!$I$2:$I289 & "" ("" & 'Σύνοψη'!$J$2"&":$J289 & "")"", 'Σύνοψη'!$F$2:$F289=$A27, 'Σύνοψη'!$G$2:$G289=$B27, 'Σύνοψη'!$C$2:$C289=C$3)), IF(SUMPRODUCT(('Σύνοψη'!$F$2:$F289=$A27)*('Σύνοψη'!$C$2:$C289=C$3)*('Σύνοψη'!$G$2:$G289<$B27)*('Σύνοψη'!$H$2:$H289>$B27))>0, CHAR(34), """") ), """")"),"") | D27: =IFERROR(__xludf.DUMMYFUNCTION("IFERROR(IF(SUMPRODUCT(('Σύνοψη'!$F$2:$F289=$A27)*('Σύνοψη'!$C$2:$C289=D$3)*('Σύνοψη'!$G$2:$G289=$B27))>0, TEXTJOIN(CHAR(10) & ""-----------------------"" & CHAR(10), TRUE, FILTER('Σύνοψη'!$E$2:$E289 & "" - "" & 'Σύνοψη'!$I$2:$I289 & "" ("" & 'Σύνοψη'!$J$2"&":$J289 & "")"", 'Σύνοψη'!$F$2:$F289=$A27, 'Σύνοψη'!$G$2:$G289=$B27, 'Σύνοψη'!$C$2:$C289=D$3)), IF(SUMPRODUCT(('Σύνοψη'!$F$2:$F289=$A27)*('Σύνοψη'!$C$2:$C289=D$3)*('Σύνοψη'!$G$2:$G289<$B27)*('Σύνοψη'!$H$2:$H289>$B27))>0, CHAR(34), """") ), """")"),"") | E27: =IFERROR(__xludf.DUMMYFUNCTION("IFERROR(IF(SUMPRODUCT(('Σύνοψη'!$F$2:$F289=$A27)*('Σύνοψη'!$C$2:$C289=E$3)*('Σύνοψη'!$G$2:$G289=$B27))>0, TEXTJOIN(CHAR(10) & ""-----------------------"" & CHAR(10), TRUE, FILTER('Σύνοψη'!$E$2:$E289 & "" - "" & 'Σύνοψη'!$I$2:$I289 & "" ("" & 'Σύνοψη'!$J$2"&":$J289 & "")"", 'Σύνοψη'!$F$2:$F289=$A27, 'Σύνοψη'!$G$2:$G289=$B27, 'Σύνοψη'!$C$2:$C289=E$3)), IF(SUMPRODUCT(('Σύνοψη'!$F$2:$F289=$A27)*('Σύνοψη'!$C$2:$C289=E$3)*('Σύνοψη'!$G$2:$G289<$B27)*('Σύνοψη'!$H$2:$H289>$B27))>0, CHAR(34), """") ), """")"),"""") -> " | F27: =IFERROR(__xludf.DUMMYFUNCTION("IFERROR(IF(SUMPRODUCT(('Σύνοψη'!$F$2:$F289=$A27)*('Σύνοψη'!$C$2:$C289=F$3)*('Σύνοψη'!$G$2:$G289=$B27))>0, TEXTJOIN(CHAR(10) & ""-----------------------"" & CHAR(10), TRUE, FILTER('Σύνοψη'!$E$2:$E289 & "" - "" & 'Σύνοψη'!$I$2:$I289 & "" ("" & 'Σύνοψη'!$J$2"&":$J289 & "")"", 'Σύνοψη'!$F$2:$F289=$A27, 'Σύνοψη'!$G$2:$G289=$B27, 'Σύνοψη'!$C$2:$C289=F$3)), IF(SUMPRODUCT(('Σύνοψη'!$F$2:$F289=$A27)*('Σύνοψη'!$C$2:$C289=F$3)*('Σύνοψη'!$G$2:$G289<$B27)*('Σύνοψη'!$H$2:$H289>$B27))>0, CHAR(34), """") ), """")"),"") | G27: =IFERROR(__xludf.DUMMYFUNCTION("IFERROR(IF(SUMPRODUCT(('Σύνοψη'!$F$2:$F289=$A27)*('Σύνοψη'!$C$2:$C289=G$3)*('Σύνοψη'!$G$2:$G289=$B27))>0, TEXTJOIN(CHAR(10) & ""-----------------------"" & CHAR(10), TRUE, FILTER('Σύνοψη'!$E$2:$E289 & "" - "" & 'Σύνοψη'!$I$2:$I289 & "" ("" & 'Σύνοψη'!$J$2"&":$J289 & "")"", 'Σύνοψη'!$F$2:$F289=$A27, 'Σύνοψη'!$G$2:$G289=$B27, 'Σύνοψη'!$C$2:$C289=G$3)), IF(SUMPRODUCT(('Σύνοψη'!$F$2:$F289=$A27)*('Σύνοψη'!$C$2:$C289=G$3)*('Σύνοψη'!$G$2:$G289<$B27)*('Σύνοψη'!$H$2:$H289>$B27))>0, CHAR(34), """") ), """")"),"Διαχείριση Υγείας Ζωικών Πληθυσμών - 17:00 - 19:00 (Αίθουσα Έναντι Χειρουργικής)") -> Διαχείριση Υγείας Ζωικών Πληθυσμών - 17:00 - 19:00 (Αίθουσα Έναντι Χειρουργικής) | H27: =IFERROR(__xludf.DUMMYFUNCTION("IFERROR(IF(SUMPRODUCT(('Σύνοψη'!$F$2:$F289=$A27)*('Σύνοψη'!$C$2:$C289=H$3)*('Σύνοψη'!$G$2:$G289=$B27))>0, TEXTJOIN(CHAR(10) & ""-----------------------"" & CHAR(10), TRUE, FILTER('Σύνοψη'!$E$2:$E289 & "" - "" & 'Σύνοψη'!$I$2:$I289 & "" ("" & 'Σύνοψη'!$J$2"&":$J289 & "")"", 'Σύνοψη'!$F$2:$F289=$A27, 'Σύνοψη'!$G$2:$G289=$B27, 'Σύνοψη'!$C$2:$C289=H$3)), IF(SUMPRODUCT(('Σύνοψη'!$F$2:$F289=$A27)*('Σύνοψη'!$C$2:$C289=H$3)*('Σύνοψη'!$G$2:$G289<$B27)*('Σύνοψη'!$H$2:$H289>$B27))>0, CHAR(34), """") ), """")"),"")
A28: =$A$18 -> 46266 | B28: 0.75 | C28: =IFERROR(__xludf.DUMMYFUNCTION("IFERROR(IF(SUMPRODUCT(('Σύνοψη'!$F$2:$F289=$A28)*('Σύνοψη'!$C$2:$C289=C$3)*('Σύνοψη'!$G$2:$G289=$B28))>0, TEXTJOIN(CHAR(10) & ""-----------------------"" & CHAR(10), TRUE, FILTER('Σύνοψη'!$E$2:$E289 & "" - "" & 'Σύνοψη'!$I$2:$I289 & "" ("" & 'Σύνοψη'!$J$2"&":$J289 & "")"", 'Σύνοψη'!$F$2:$F289=$A28, 'Σύνοψη'!$G$2:$G289=$B28, 'Σύνοψη'!$C$2:$C289=C$3)), IF(SUMPRODUCT(('Σύνοψη'!$F$2:$F289=$A28)*('Σύνοψη'!$C$2:$C289=C$3)*('Σύνοψη'!$G$2:$G289<$B28)*('Σύνοψη'!$H$2:$H289>$B28))>0, CHAR(34), """") ), """")"),"") | D28: =IFERROR(__xludf.DUMMYFUNCTION("IFERROR(IF(SUMPRODUCT(('Σύνοψη'!$F$2:$F289=$A28)*('Σύνοψη'!$C$2:$C289=D$3)*('Σύνοψη'!$G$2:$G289=$B28))>0, TEXTJOIN(CHAR(10) & ""-----------------------"" & CHAR(10), TRUE, FILTER('Σύνοψη'!$E$2:$E289 & "" - "" & 'Σύνοψη'!$I$2:$I289 & "" ("" & 'Σύνοψη'!$J$2"&":$J289 & "")"", 'Σύνοψη'!$F$2:$F289=$A28, 'Σύνοψη'!$G$2:$G289=$B28, 'Σύνοψη'!$C$2:$C289=D$3)), IF(SUMPRODUCT(('Σύνοψη'!$F$2:$F289=$A28)*('Σύνοψη'!$C$2:$C289=D$3)*('Σύνοψη'!$G$2:$G289<$B28)*('Σύνοψη'!$H$2:$H289>$B28))>0, CHAR(34), """") ), """")"),"") | E28: =IFERROR(__xludf.DUMMYFUNCTION("IFERROR(IF(SUMPRODUCT(('Σύνοψη'!$F$2:$F289=$A28)*('Σύνοψη'!$C$2:$C289=E$3)*('Σύνοψη'!$G$2:$G289=$B28))>0, TEXTJOIN(CHAR(10) & ""-----------------------"" & CHAR(10), TRUE, FILTER('Σύνοψη'!$E$2:$E289 & "" - "" & 'Σύνοψη'!$I$2:$I289 & "" ("" & 'Σύνοψη'!$J$2"&":$J289 & "")"", 'Σύνοψη'!$F$2:$F289=$A28, 'Σύνοψη'!$G$2:$G289=$B28, 'Σύνοψη'!$C$2:$C289=E$3)), IF(SUMPRODUCT(('Σύνοψη'!$F$2:$F289=$A28)*('Σύνοψη'!$C$2:$C289=E$3)*('Σύνοψη'!$G$2:$G289<$B28)*('Σύνοψη'!$H$2:$H289>$B28))>0, CHAR(34), """") ), """")"),"") | F28: =IFERROR(__xludf.DUMMYFUNCTION("IFERROR(IF(SUMPRODUCT(('Σύνοψη'!$F$2:$F289=$A28)*('Σύνοψη'!$C$2:$C289=F$3)*('Σύνοψη'!$G$2:$G289=$B28))>0, TEXTJOIN(CHAR(10) & ""-----------------------"" & CHAR(10), TRUE, FILTER('Σύνοψη'!$E$2:$E289 & "" - "" & 'Σύνοψη'!$I$2:$I289 & "" ("" & 'Σύνοψη'!$J$2"&":$J289 & "")"", 'Σύνοψη'!$F$2:$F289=$A28, 'Σύνοψη'!$G$2:$G289=$B28, 'Σύνοψη'!$C$2:$C289=F$3)), IF(SUMPRODUCT(('Σύνοψη'!$F$2:$F289=$A28)*('Σύνοψη'!$C$2:$C289=F$3)*('Σύνοψη'!$G$2:$G289<$B28)*('Σύνοψη'!$H$2:$H289>$B28))>0, CHAR(34), """") ), """")"),"") | G28: =IFERROR(__xludf.DUMMYFUNCTION("IFERROR(IF(SUMPRODUCT(('Σύνοψη'!$F$2:$F289=$A28)*('Σύνοψη'!$C$2:$C289=G$3)*('Σύνοψη'!$G$2:$G289=$B28))>0, TEXTJOIN(CHAR(10) & ""-----------------------"" & CHAR(10), TRUE, FILTER('Σύνοψη'!$E$2:$E289 & "" - "" & 'Σύνοψη'!$I$2:$I289 & "" ("" & 'Σύνοψη'!$J$2"&":$J289 & "")"", 'Σύνοψη'!$F$2:$F289=$A28, 'Σύνοψη'!$G$2:$G289=$B28, 'Σύνοψη'!$C$2:$C289=G$3)), IF(SUMPRODUCT(('Σύνοψη'!$F$2:$F289=$A28)*('Σύνοψη'!$C$2:$C289=G$3)*('Σύνοψη'!$G$2:$G289<$B28)*('Σύνοψη'!$H$2:$H289>$B28))>0, CHAR(34), """") ), """")"),"""") -> " | H28: =IFERROR(__xludf.DUMMYFUNCTION("IFERROR(IF(SUMPRODUCT(('Σύνοψη'!$F$2:$F289=$A28)*('Σύνοψη'!$C$2:$C289=H$3)*('Σύνοψη'!$G$2:$G289=$B28))>0, TEXTJOIN(CHAR(10) & ""-----------------------"" & CHAR(10), TRUE, FILTER('Σύνοψη'!$E$2:$E289 & "" - "" & 'Σύνοψη'!$I$2:$I289 & "" ("" & 'Σύνοψη'!$J$2"&":$J289 & "")"", 'Σύνοψη'!$F$2:$F289=$A28, 'Σύνοψη'!$G$2:$G289=$B28, 'Σύνοψη'!$C$2:$C289=H$3)), IF(SUMPRODUCT(('Σύνοψη'!$F$2:$F289=$A28)*('Σύνοψη'!$C$2:$C289=H$3)*('Σύνοψη'!$G$2:$G289<$B28)*('Σύνοψη'!$H$2:$H289>$B28))>0, CHAR(34), """") ), """")"),"")
A29: =$A$18 -> 46266 | B29: 0.79166667 | C29: =IFERROR(__xludf.DUMMYFUNCTION("IFERROR(IF(SUMPRODUCT(('Σύνοψη'!$F$2:$F289=$A29)*('Σύνοψη'!$C$2:$C289=C$3)*('Σύνοψη'!$G$2:$G289=$B29))>0, TEXTJOIN(CHAR(10) & ""-----------------------"" & CHAR(10), TRUE, FILTER('Σύνοψη'!$E$2:$E289 & "" - "" & 'Σύνοψη'!$I$2:$I289 & "" ("" & 'Σύνοψη'!$J$2"&":$J289 & "")"", 'Σύνοψη'!$F$2:$F289=$A29, 'Σύνοψη'!$G$2:$G289=$B29, 'Σύνοψη'!$C$2:$C289=C$3)), IF(SUMPRODUCT(('Σύνοψη'!$F$2:$F289=$A29)*('Σύνοψη'!$C$2:$C289=C$3)*('Σύνοψη'!$G$2:$G289<$B29)*('Σύνοψη'!$H$2:$H289>$B29))>0, CHAR(34), """") ), """")"),"") | D29: =IFERROR(__xludf.DUMMYFUNCTION("IFERROR(IF(SUMPRODUCT(('Σύνοψη'!$F$2:$F289=$A29)*('Σύνοψη'!$C$2:$C289=D$3)*('Σύνοψη'!$G$2:$G289=$B29))>0, TEXTJOIN(CHAR(10) & ""-----------------------"" & CHAR(10), TRUE, FILTER('Σύνοψη'!$E$2:$E289 & "" - "" & 'Σύνοψη'!$I$2:$I289 & "" ("" & 'Σύνοψη'!$J$2"&":$J289 & "")"", 'Σύνοψη'!$F$2:$F289=$A29, 'Σύνοψη'!$G$2:$G289=$B29, 'Σύνοψη'!$C$2:$C289=D$3)), IF(SUMPRODUCT(('Σύνοψη'!$F$2:$F289=$A29)*('Σύνοψη'!$C$2:$C289=D$3)*('Σύνοψη'!$G$2:$G289<$B29)*('Σύνοψη'!$H$2:$H289>$B29))>0, CHAR(34), """") ), """")"),"") | E29: =IFERROR(__xludf.DUMMYFUNCTION("IFERROR(IF(SUMPRODUCT(('Σύνοψη'!$F$2:$F289=$A29)*('Σύνοψη'!$C$2:$C289=E$3)*('Σύνοψη'!$G$2:$G289=$B29))>0, TEXTJOIN(CHAR(10) & ""-----------------------"" & CHAR(10), TRUE, FILTER('Σύνοψη'!$E$2:$E289 & "" - "" & 'Σύνοψη'!$I$2:$I289 & "" ("" & 'Σύνοψη'!$J$2"&":$J289 & "")"", 'Σύνοψη'!$F$2:$F289=$A29, 'Σύνοψη'!$G$2:$G289=$B29, 'Σύνοψη'!$C$2:$C289=E$3)), IF(SUMPRODUCT(('Σύνοψη'!$F$2:$F289=$A29)*('Σύνοψη'!$C$2:$C289=E$3)*('Σύνοψη'!$G$2:$G289<$B29)*('Σύνοψη'!$H$2:$H289>$B29))>0, CHAR(34), """") ), """")"),"Συγκριτική Παθολογική Ανατομική & Ζωικά Πρότυπα Νοσημάτων του Ανθρώπου - 19:00 - 21:00 (Αίθουσα Μικροσκοπίας)") -> Συγκριτική Παθολογική Ανατομική & Ζωικά Πρότυπα Νοσημάτων του Ανθρώπου - 19:00 - 21:00 (Αίθουσα Μικροσκοπίας) | F29: =IFERROR(__xludf.DUMMYFUNCTION("IFERROR(IF(SUMPRODUCT(('Σύνοψη'!$F$2:$F289=$A29)*('Σύνοψη'!$C$2:$C289=F$3)*('Σύνοψη'!$G$2:$G289=$B29))>0, TEXTJOIN(CHAR(10) & ""-----------------------"" & CHAR(10), TRUE, FILTER('Σύνοψη'!$E$2:$E289 & "" - "" & 'Σύνοψη'!$I$2:$I289 & "" ("" & 'Σύνοψη'!$J$2"&":$J289 & "")"", 'Σύνοψη'!$F$2:$F289=$A29, 'Σύνοψη'!$G$2:$G289=$B29, 'Σύνοψη'!$C$2:$C289=F$3)), IF(SUMPRODUCT(('Σύνοψη'!$F$2:$F289=$A29)*('Σύνοψη'!$C$2:$C289=F$3)*('Σύνοψη'!$G$2:$G289<$B29)*('Σύνοψη'!$H$2:$H289>$B29))>0, CHAR(34), """") ), """")"),"") | G29: =IFERROR(__xludf.DUMMYFUNCTION("IFERROR(IF(SUMPRODUCT(('Σύνοψη'!$F$2:$F289=$A29)*('Σύνοψη'!$C$2:$C289=G$3)*('Σύνοψη'!$G$2:$G289=$B29))>0, TEXTJOIN(CHAR(10) & ""-----------------------"" & CHAR(10), TRUE, FILTER('Σύνοψη'!$E$2:$E289 & "" - "" & 'Σύνοψη'!$I$2:$I289 & "" ("" & 'Σύνοψη'!$J$2"&":$J289 & "")"", 'Σύνοψη'!$F$2:$F289=$A29, 'Σύνοψη'!$G$2:$G289=$B29, 'Σύνοψη'!$C$2:$C289=G$3)), IF(SUMPRODUCT(('Σύνοψη'!$F$2:$F289=$A29)*('Σύνοψη'!$C$2:$C289=G$3)*('Σύνοψη'!$G$2:$G289<$B29)*('Σύνοψη'!$H$2:$H289>$B29))>0, CHAR(34), """") ), """")"),"") | H29: =IFERROR(__xludf.DUMMYFUNCTION("IFERROR(IF(SUMPRODUCT(('Σύνοψη'!$F$2:$F289=$A29)*('Σύνοψη'!$C$2:$C289=H$3)*('Σύνοψη'!$G$2:$G289=$B29))>0, TEXTJOIN(CHAR(10) & ""-----------------------"" & CHAR(10), TRUE, FILTER('Σύνοψη'!$E$2:$E289 & "" - "" & 'Σύνοψη'!$I$2:$I289 & "" ("" & 'Σύνοψη'!$J$2"&":$J289 & "")"", 'Σύνοψη'!$F$2:$F289=$A29, 'Σύνοψη'!$G$2:$G289=$B29, 'Σύνοψη'!$C$2:$C289=H$3)), IF(SUMPRODUCT(('Σύνοψη'!$F$2:$F289=$A29)*('Σύνοψη'!$C$2:$C289=H$3)*('Σύνοψη'!$G$2:$G289<$B29)*('Σύνοψη'!$H$2:$H289>$B29))>0, CHAR(34), """") ), """")"),"")
A30: =$A$18 -> 46266 | B30: 0.83333333 | C30: =IFERROR(__xludf.DUMMYFUNCTION("IFERROR(IF(SUMPRODUCT(('Σύνοψη'!$F$2:$F289=$A30)*('Σύνοψη'!$C$2:$C289=C$3)*('Σύνοψη'!$G$2:$G289=$B30))>0, TEXTJOIN(CHAR(10) & ""-----------------------"" & CHAR(10), TRUE, FILTER('Σύνοψη'!$E$2:$E289 & "" - "" & 'Σύνοψη'!$I$2:$I289 & "" ("" & 'Σύνοψη'!$J$2"&":$J289 & "")"", 'Σύνοψη'!$F$2:$F289=$A30, 'Σύνοψη'!$G$2:$G289=$B30, 'Σύνοψη'!$C$2:$C289=C$3)), IF(SUMPRODUCT(('Σύνοψη'!$F$2:$F289=$A30)*('Σύνοψη'!$C$2:$C289=C$3)*('Σύνοψη'!$G$2:$G289<$B30)*('Σύνοψη'!$H$2:$H289>$B30))>0, CHAR(34), """") ), """")"),"") | D30: =IFERROR(__xludf.DUMMYFUNCTION("IFERROR(IF(SUMPRODUCT(('Σύνοψη'!$F$2:$F289=$A30)*('Σύνοψη'!$C$2:$C289=D$3)*('Σύνοψη'!$G$2:$G289=$B30))>0, TEXTJOIN(CHAR(10) & ""-----------------------"" & CHAR(10), TRUE, FILTER('Σύνοψη'!$E$2:$E289 & "" - "" & 'Σύνοψη'!$I$2:$I289 & "" ("" & 'Σύνοψη'!$J$2"&":$J289 & "")"", 'Σύνοψη'!$F$2:$F289=$A30, 'Σύνοψη'!$G$2:$G289=$B30, 'Σύνοψη'!$C$2:$C289=D$3)), IF(SUMPRODUCT(('Σύνοψη'!$F$2:$F289=$A30)*('Σύνοψη'!$C$2:$C289=D$3)*('Σύνοψη'!$G$2:$G289<$B30)*('Σύνοψη'!$H$2:$H289>$B30))>0, CHAR(34), """") ), """")"),"") | E30: =IFERROR(__xludf.DUMMYFUNCTION("IFERROR(IF(SUMPRODUCT(('Σύνοψη'!$F$2:$F289=$A30)*('Σύνοψη'!$C$2:$C289=E$3)*('Σύνοψη'!$G$2:$G289=$B30))>0, TEXTJOIN(CHAR(10) & ""-----------------------"" & CHAR(10), TRUE, FILTER('Σύνοψη'!$E$2:$E289 & "" - "" & 'Σύνοψη'!$I$2:$I289 & "" ("" & 'Σύνοψη'!$J$2"&":$J289 & "")"", 'Σύνοψη'!$F$2:$F289=$A30, 'Σύνοψη'!$G$2:$G289=$B30, 'Σύνοψη'!$C$2:$C289=E$3)), IF(SUMPRODUCT(('Σύνοψη'!$F$2:$F289=$A30)*('Σύνοψη'!$C$2:$C289=E$3)*('Σύνοψη'!$G$2:$G289<$B30)*('Σύνοψη'!$H$2:$H289>$B30))>0, CHAR(34), """") ), """")"),"""") -> " | F30: =IFERROR(__xludf.DUMMYFUNCTION("IFERROR(IF(SUMPRODUCT(('Σύνοψη'!$F$2:$F289=$A30)*('Σύνοψη'!$C$2:$C289=F$3)*('Σύνοψη'!$G$2:$G289=$B30))>0, TEXTJOIN(CHAR(10) & ""-----------------------"" & CHAR(10), TRUE, FILTER('Σύνοψη'!$E$2:$E289 & "" - "" & 'Σύνοψη'!$I$2:$I289 & "" ("" & 'Σύνοψη'!$J$2"&":$J289 & "")"", 'Σύνοψη'!$F$2:$F289=$A30, 'Σύνοψη'!$G$2:$G289=$B30, 'Σύνοψη'!$C$2:$C289=F$3)), IF(SUMPRODUCT(('Σύνοψη'!$F$2:$F289=$A30)*('Σύνοψη'!$C$2:$C289=F$3)*('Σύνοψη'!$G$2:$G289<$B30)*('Σύνοψη'!$H$2:$H289>$B30))>0, CHAR(34), """") ), """")"),"") | G30: =IFERROR(__xludf.DUMMYFUNCTION("IFERROR(IF(SUMPRODUCT(('Σύνοψη'!$F$2:$F289=$A30)*('Σύνοψη'!$C$2:$C289=G$3)*('Σύνοψη'!$G$2:$G289=$B30))>0, TEXTJOIN(CHAR(10) & ""-----------------------"" & CHAR(10), TRUE, FILTER('Σύνοψη'!$E$2:$E289 & "" - "" & 'Σύνοψη'!$I$2:$I289 & "" ("" & 'Σύνοψη'!$J$2"&":$J289 & "")"", 'Σύνοψη'!$F$2:$F289=$A30, 'Σύνοψη'!$G$2:$G289=$B30, 'Σύνοψη'!$C$2:$C289=G$3)), IF(SUMPRODUCT(('Σύνοψη'!$F$2:$F289=$A30)*('Σύνοψη'!$C$2:$C289=G$3)*('Σύνοψη'!$G$2:$G289<$B30)*('Σύνοψη'!$H$2:$H289>$B30))>0, CHAR(34), """") ), """")"),"") | H30: =IFERROR(__xludf.DUMMYFUNCTION("IFERROR(IF(SUMPRODUCT(('Σύνοψη'!$F$2:$F289=$A30)*('Σύνοψη'!$C$2:$C289=H$3)*('Σύνοψη'!$G$2:$G289=$B30))>0, TEXTJOIN(CHAR(10) & ""-----------------------"" & CHAR(10), TRUE, FILTER('Σύνοψη'!$E$2:$E289 & "" - "" & 'Σύνοψη'!$I$2:$I289 & "" ("" & 'Σύνοψη'!$J$2"&":$J289 & "")"", 'Σύνοψη'!$F$2:$F289=$A30, 'Σύνοψη'!$G$2:$G289=$B30, 'Σύνοψη'!$C$2:$C289=H$3)), IF(SUMPRODUCT(('Σύνοψη'!$F$2:$F289=$A30)*('Σύνοψη'!$C$2:$C289=H$3)*('Σύνοψη'!$G$2:$G289<$B30)*('Σύνοψη'!$H$2:$H289>$B30))>0, CHAR(34), """") ), """")"),"")
A31: =$A$18 -> 46266 | B31: 0.875 | C31: =IFERROR(__xludf.DUMMYFUNCTION("IFERROR(IF(SUMPRODUCT(('Σύνοψη'!$F$2:$F289=$A31)*('Σύνοψη'!$C$2:$C289=C$3)*('Σύνοψη'!$G$2:$G289=$B31))>0, TEXTJOIN(CHAR(10) & ""-----------------------"" & CHAR(10), TRUE, FILTER('Σύνοψη'!$E$2:$E289 & "" - "" & 'Σύνοψη'!$I$2:$I289 & "" ("" & 'Σύνοψη'!$J$2"&":$J289 & "")"", 'Σύνοψη'!$F$2:$F289=$A31, 'Σύνοψη'!$G$2:$G289=$B31, 'Σύνοψη'!$C$2:$C289=C$3)), IF(SUMPRODUCT(('Σύνοψη'!$F$2:$F289=$A31)*('Σύνοψη'!$C$2:$C289=C$3)*('Σύνοψη'!$G$2:$G289<$B31)*('Σύνοψη'!$H$2:$H289>$B31))>0, CHAR(34), """") ), """")"),"") | D31: =IFERROR(__xludf.DUMMYFUNCTION("IFERROR(IF(SUMPRODUCT(('Σύνοψη'!$F$2:$F289=$A31)*('Σύνοψη'!$C$2:$C289=D$3)*('Σύνοψη'!$G$2:$G289=$B31))>0, TEXTJOIN(CHAR(10) & ""-----------------------"" & CHAR(10), TRUE, FILTER('Σύνοψη'!$E$2:$E289 & "" - "" & 'Σύνοψη'!$I$2:$I289 & "" ("" & 'Σύνοψη'!$J$2"&":$J289 & "")"", 'Σύνοψη'!$F$2:$F289=$A31, 'Σύνοψη'!$G$2:$G289=$B31, 'Σύνοψη'!$C$2:$C289=D$3)), IF(SUMPRODUCT(('Σύνοψη'!$F$2:$F289=$A31)*('Σύνοψη'!$C$2:$C289=D$3)*('Σύνοψη'!$G$2:$G289<$B31)*('Σύνοψη'!$H$2:$H289>$B31))>0, CHAR(34), """") ), """")"),"") | E31: =IFERROR(__xludf.DUMMYFUNCTION("IFERROR(IF(SUMPRODUCT(('Σύνοψη'!$F$2:$F289=$A31)*('Σύνοψη'!$C$2:$C289=E$3)*('Σύνοψη'!$G$2:$G289=$B31))>0, TEXTJOIN(CHAR(10) & ""-----------------------"" & CHAR(10), TRUE, FILTER('Σύνοψη'!$E$2:$E289 & "" - "" & 'Σύνοψη'!$I$2:$I289 & "" ("" & 'Σύνοψη'!$J$2"&":$J289 & "")"", 'Σύνοψη'!$F$2:$F289=$A31, 'Σύνοψη'!$G$2:$G289=$B31, 'Σύνοψη'!$C$2:$C289=E$3)), IF(SUMPRODUCT(('Σύνοψη'!$F$2:$F289=$A31)*('Σύνοψη'!$C$2:$C289=E$3)*('Σύνοψη'!$G$2:$G289<$B31)*('Σύνοψη'!$H$2:$H289>$B31))>0, CHAR(34), """") ), """")"),"") | F31: =IFERROR(__xludf.DUMMYFUNCTION("IFERROR(IF(SUMPRODUCT(('Σύνοψη'!$F$2:$F289=$A31)*('Σύνοψη'!$C$2:$C289=F$3)*('Σύνοψη'!$G$2:$G289=$B31))>0, TEXTJOIN(CHAR(10) & ""-----------------------"" & CHAR(10), TRUE, FILTER('Σύνοψη'!$E$2:$E289 & "" - "" & 'Σύνοψη'!$I$2:$I289 & "" ("" & 'Σύνοψη'!$J$2"&":$J289 & "")"", 'Σύνοψη'!$F$2:$F289=$A31, 'Σύνοψη'!$G$2:$G289=$B31, 'Σύνοψη'!$C$2:$C289=F$3)), IF(SUMPRODUCT(('Σύνοψη'!$F$2:$F289=$A31)*('Σύνοψη'!$C$2:$C289=F$3)*('Σύνοψη'!$G$2:$G289<$B31)*('Σύνοψη'!$H$2:$H289>$B31))>0, CHAR(34), """") ), """")"),"") | G31: =IFERROR(__xludf.DUMMYFUNCTION("IFERROR(IF(SUMPRODUCT(('Σύνοψη'!$F$2:$F289=$A31)*('Σύνοψη'!$C$2:$C289=G$3)*('Σύνοψη'!$G$2:$G289=$B31))>0, TEXTJOIN(CHAR(10) & ""-----------------------"" & CHAR(10), TRUE, FILTER('Σύνοψη'!$E$2:$E289 & "" - "" & 'Σύνοψη'!$I$2:$I289 & "" ("" & 'Σύνοψη'!$J$2"&":$J289 & "")"", 'Σύνοψη'!$F$2:$F289=$A31, 'Σύνοψη'!$G$2:$G289=$B31, 'Σύνοψη'!$C$2:$C289=G$3)), IF(SUMPRODUCT(('Σύνοψη'!$F$2:$F289=$A31)*('Σύνοψη'!$C$2:$C289=G$3)*('Σύνοψη'!$G$2:$G289<$B31)*('Σύνοψη'!$H$2:$H289>$B31))>0, CHAR(34), """") ), """")"),"") | H31: =IFERROR(__xludf.DUMMYFUNCTION("IFERROR(IF(SUMPRODUCT(('Σύνοψη'!$F$2:$F289=$A31)*('Σύνοψη'!$C$2:$C289=H$3)*('Σύνοψη'!$G$2:$G289=$B31))>0, TEXTJOIN(CHAR(10) & ""-----------------------"" & CHAR(10), TRUE, FILTER('Σύνοψη'!$E$2:$E289 & "" - "" & 'Σύνοψη'!$I$2:$I289 & "" ("" & 'Σύνοψη'!$J$2"&":$J289 & "")"", 'Σύνοψη'!$F$2:$F289=$A31, 'Σύνοψη'!$G$2:$G289=$B31, 'Σύνοψη'!$C$2:$C289=H$3)), IF(SUMPRODUCT(('Σύνοψη'!$F$2:$F289=$A31)*('Σύνοψη'!$C$2:$C289=H$3)*('Σύνοψη'!$G$2:$G289<$B31)*('Σύνοψη'!$H$2:$H289>$B31))>0, CHAR(34), """") ), """")"),"")
A32: =$D$1+2 -> 46267 | B32: 0.33333333 | C32: =IFERROR(__xludf.DUMMYFUNCTION("IFERROR(IF(SUMPRODUCT(('Σύνοψη'!$F$2:$F289=$A32)*('Σύνοψη'!$C$2:$C289=C$3)*('Σύνοψη'!$G$2:$G289=$B32))>0, TEXTJOIN(CHAR(10) & ""-----------------------"" & CHAR(10), TRUE, FILTER('Σύνοψη'!$E$2:$E289 & "" - "" & 'Σύνοψη'!$I$2:$I289 & "" ("" & 'Σύνοψη'!$J$2"&":$J289 & "")"", 'Σύνοψη'!$F$2:$F289=$A32, 'Σύνοψη'!$G$2:$G289=$B32, 'Σύνοψη'!$C$2:$C289=C$3)), IF(SUMPRODUCT(('Σύνοψη'!$F$2:$F289=$A32)*('Σύνοψη'!$C$2:$C289=C$3)*('Σύνοψη'!$G$2:$G289<$B32)*('Σύνοψη'!$H$2:$H289>$B32))>0, CHAR(34), """") ), """")"),"") | D32: =IFERROR(__xludf.DUMMYFUNCTION("IFERROR(IF(SUMPRODUCT(('Σύνοψη'!$F$2:$F289=$A32)*('Σύνοψη'!$C$2:$C289=D$3)*('Σύνοψη'!$G$2:$G289=$B32))>0, TEXTJOIN(CHAR(10) & ""-----------------------"" & CHAR(10), TRUE, FILTER('Σύνοψη'!$E$2:$E289 & "" - "" & 'Σύνοψη'!$I$2:$I289 & "" ("" & 'Σύνοψη'!$J$2"&":$J289 & "")"", 'Σύνοψη'!$F$2:$F289=$A32, 'Σύνοψη'!$G$2:$G289=$B32, 'Σύνοψη'!$C$2:$C289=D$3)), IF(SUMPRODUCT(('Σύνοψη'!$F$2:$F289=$A32)*('Σύνοψη'!$C$2:$C289=D$3)*('Σύνοψη'!$G$2:$G289<$B32)*('Σύνοψη'!$H$2:$H289>$B32))>0, CHAR(34), """") ), """")"),"") | E32: =IFERROR(__xludf.DUMMYFUNCTION("IFERROR(IF(SUMPRODUCT(('Σύνοψη'!$F$2:$F289=$A32)*('Σύνοψη'!$C$2:$C289=E$3)*('Σύνοψη'!$G$2:$G289=$B32))>0, TEXTJOIN(CHAR(10) & ""-----------------------"" & CHAR(10), TRUE, FILTER('Σύνοψη'!$E$2:$E289 & "" - "" & 'Σύνοψη'!$I$2:$I289 & "" ("" & 'Σύνοψη'!$J$2"&":$J289 & "")"", 'Σύνοψη'!$F$2:$F289=$A32, 'Σύνοψη'!$G$2:$G289=$B32, 'Σύνοψη'!$C$2:$C289=E$3)), IF(SUMPRODUCT(('Σύνοψη'!$F$2:$F289=$A32)*('Σύνοψη'!$C$2:$C289=E$3)*('Σύνοψη'!$G$2:$G289<$B32)*('Σύνοψη'!$H$2:$H289>$B32))>0, CHAR(34), """") ), """")"),"") | F32: =IFERROR(__xludf.DUMMYFUNCTION("IFERROR(IF(SUMPRODUCT(('Σύνοψη'!$F$2:$F289=$A32)*('Σύνοψη'!$C$2:$C289=F$3)*('Σύνοψη'!$G$2:$G289=$B32))>0, TEXTJOIN(CHAR(10) & ""-----------------------"" & CHAR(10), TRUE, FILTER('Σύνοψη'!$E$2:$E289 & "" - "" & 'Σύνοψη'!$I$2:$I289 & "" ("" & 'Σύνοψη'!$J$2"&":$J289 & "")"", 'Σύνοψη'!$F$2:$F289=$A32, 'Σύνοψη'!$G$2:$G289=$B32, 'Σύνοψη'!$C$2:$C289=F$3)), IF(SUMPRODUCT(('Σύνοψη'!$F$2:$F289=$A32)*('Σύνοψη'!$C$2:$C289=F$3)*('Σύνοψη'!$G$2:$G289<$B32)*('Σύνοψη'!$H$2:$H289>$B32))>0, CHAR(34), """") ), """")"),"") | G32: =IFERROR(__xludf.DUMMYFUNCTION("IFERROR(IF(SUMPRODUCT(('Σύνοψη'!$F$2:$F289=$A32)*('Σύνοψη'!$C$2:$C289=G$3)*('Σύνοψη'!$G$2:$G289=$B32))>0, TEXTJOIN(CHAR(10) & ""-----------------------"" & CHAR(10), TRUE, FILTER('Σύνοψη'!$E$2:$E289 & "" - "" & 'Σύνοψη'!$I$2:$I289 & "" ("" & 'Σύνοψη'!$J$2"&":$J289 & "")"", 'Σύνοψη'!$F$2:$F289=$A32, 'Σύνοψη'!$G$2:$G289=$B32, 'Σύνοψη'!$C$2:$C289=G$3)), IF(SUMPRODUCT(('Σύνοψη'!$F$2:$F289=$A32)*('Σύνοψη'!$C$2:$C289=G$3)*('Σύνοψη'!$G$2:$G289<$B32)*('Σύνοψη'!$H$2:$H289>$B32))>0, CHAR(34), """") ), """")"),"") | H32: =IFERROR(__xludf.DUMMYFUNCTION("IFERROR(IF(SUMPRODUCT(('Σύνοψη'!$F$2:$F289=$A32)*('Σύνοψη'!$C$2:$C289=H$3)*('Σύνοψη'!$G$2:$G289=$B32))>0, TEXTJOIN(CHAR(10) & ""-----------------------"" & CHAR(10), TRUE, FILTER('Σύνοψη'!$E$2:$E289 & "" - "" & 'Σύνοψη'!$I$2:$I289 & "" ("" & 'Σύνοψη'!$J$2"&":$J289 & "")"", 'Σύνοψη'!$F$2:$F289=$A32, 'Σύνοψη'!$G$2:$G289=$B32, 'Σύνοψη'!$C$2:$C289=H$3)), IF(SUMPRODUCT(('Σύνοψη'!$F$2:$F289=$A32)*('Σύνοψη'!$C$2:$C289=H$3)*('Σύνοψη'!$G$2:$G289<$B32)*('Σύνοψη'!$H$2:$H289>$B32))>0, CHAR(34), """") ), """")"),"")
A33: =$A$32 -> 46267 | B33: 0.375 | C33: =IFERROR(__xludf.DUMMYFUNCTION("IFERROR(IF(SUMPRODUCT(('Σύνοψη'!$F$2:$F289=$A33)*('Σύνοψη'!$C$2:$C289=C$3)*('Σύνοψη'!$G$2:$G289=$B33))>0, TEXTJOIN(CHAR(10) & ""-----------------------"" & CHAR(10), TRUE, FILTER('Σύνοψη'!$E$2:$E289 & "" - "" & 'Σύνοψη'!$I$2:$I289 & "" ("" & 'Σύνοψη'!$J$2"&":$J289 & "")"", 'Σύνοψη'!$F$2:$F289=$A33, 'Σύνοψη'!$G$2:$G289=$B33, 'Σύνοψη'!$C$2:$C289=C$3)), IF(SUMPRODUCT(('Σύνοψη'!$F$2:$F289=$A33)*('Σύνοψη'!$C$2:$C289=C$3)*('Σύνοψη'!$G$2:$G289<$B33)*('Σύνοψη'!$H$2:$H289>$B33))>0, CHAR(34), """") ), """")"),"Αρχές Φυσικής & Ακτινοπροστασίας - 09:00 - 11:00 (Νέες Αίθουσες) ----------------------- Κυτταρική & Μοριακή Βιολογία - 09:00 - 11:00 (Νέες Αίθουσες)") -> Αρχές Φυσικής & Ακτινοπροστασίας - 09:00 - 11:00 (Νέες Αίθουσες) ----------------------- Κυτταρική & Μοριακή Βιολογία - 09:00 - 11:00 (Νέες Αίθουσες) | D33: =IFERROR(__xludf.DUMMYFUNCTION("IFERROR(IF(SUMPRODUCT(('Σύνοψη'!$F$2:$F289=$A33)*('Σύνοψη'!$C$2:$C289=D$3)*('Σύνοψη'!$G$2:$G289=$B33))>0, TEXTJOIN(CHAR(10) & ""-----------------------"" & CHAR(10), TRUE, FILTER('Σύνοψη'!$E$2:$E289 & "" - "" & 'Σύνοψη'!$I$2:$I289 & "" ("" & 'Σύνοψη'!$J$2"&":$J289 & "")"", 'Σύνοψη'!$F$2:$F289=$A33, 'Σύνοψη'!$G$2:$G289=$B33, 'Σύνοψη'!$C$2:$C289=D$3)), IF(SUMPRODUCT(('Σύνοψη'!$F$2:$F289=$A33)*('Σύνοψη'!$C$2:$C289=D$3)*('Σύνοψη'!$G$2:$G289<$B33)*('Σύνοψη'!$H$2:$H289>$B33))>0, CHAR(34), """") ), """")"),"") | E33: =IFERROR(__xludf.DUMMYFUNCTION("IFERROR(IF(SUMPRODUCT(('Σύνοψη'!$F$2:$F289=$A33)*('Σύνοψη'!$C$2:$C289=E$3)*('Σύνοψη'!$G$2:$G289=$B33))>0, TEXTJOIN(CHAR(10) & ""-----------------------"" & CHAR(10), TRUE, FILTER('Σύνοψη'!$E$2:$E289 & "" - "" & 'Σύνοψη'!$I$2:$I289 & "" ("" & 'Σύνοψη'!$J$2"&":$J289 & "")"", 'Σύνοψη'!$F$2:$F289=$A33, 'Σύνοψη'!$G$2:$G289=$B33, 'Σύνοψη'!$C$2:$C289=E$3)), IF(SUMPRODUCT(('Σύνοψη'!$F$2:$F289=$A33)*('Σύνοψη'!$C$2:$C289=E$3)*('Σύνοψη'!$G$2:$G289<$B33)*('Σύνοψη'!$H$2:$H289>$B33))>0, CHAR(34), """") ), """")"),"Μαιευτική & Αναπαραγωγή ΙΙ - 09:00 - 12:00 (Αμφιθέατρα)") -> Μαιευτική & Αναπαραγωγή ΙΙ - 09:00 - 12:00 (Αμφιθέατρα) | F33: =IFERROR(__xludf.DUMMYFUNCTION("IFERROR(IF(SUMPRODUCT(('Σύνοψη'!$F$2:$F289=$A33)*('Σύνοψη'!$C$2:$C289=F$3)*('Σύνοψη'!$G$2:$G289=$B33))>0, TEXTJOIN(CHAR(10) & ""-----------------------"" & CHAR(10), TRUE, FILTER('Σύνοψη'!$E$2:$E289 & "" - "" & 'Σύνοψη'!$I$2:$I289 & "" ("" & 'Σύνοψη'!$J$2"&":$J289 & "")"", 'Σύνοψη'!$F$2:$F289=$A33, 'Σύνοψη'!$G$2:$G289=$B33, 'Σύνοψη'!$C$2:$C289=F$3)), IF(SUMPRODUCT(('Σύνοψη'!$F$2:$F289=$A33)*('Σύνοψη'!$C$2:$C289=F$3)*('Σύνοψη'!$G$2:$G289<$B33)*('Σύνοψη'!$H$2:$H289>$B33))>0, CHAR(34), """") ), """")"),"") | G33: =IFERROR(__xludf.DUMMYFUNCTION("IFERROR(IF(SUMPRODUCT(('Σύνοψη'!$F$2:$F289=$A33)*('Σύνοψη'!$C$2:$C289=G$3)*('Σύνοψη'!$G$2:$G289=$B33))>0, TEXTJOIN(CHAR(10) & ""-----------------------"" & CHAR(10), TRUE, FILTER('Σύνοψη'!$E$2:$E289 & "" - "" & 'Σύνοψη'!$I$2:$I289 & "" ("" & 'Σύνοψη'!$J$2"&":$J289 & "")"", 'Σύνοψη'!$F$2:$F289=$A33, 'Σύνοψη'!$G$2:$G289=$B33, 'Σύνοψη'!$C$2:$C289=G$3)), IF(SUMPRODUCT(('Σύνοψη'!$F$2:$F289=$A33)*('Σύνοψη'!$C$2:$C289=G$3)*('Σύνοψη'!$G$2:$G289<$B33)*('Σύνοψη'!$H$2:$H289>$B33))>0, CHAR(34), """") ), """")"),"Πρακτική Άσκηση στην Παθολογία Ζώων Συντροφιάς Ι (1η ημέρα) - 09:00 - 15:00 (Παθολογική Κλινική) ----------------------- Πρακτική Άσκηση στην Παθολογία Ζώων Συντροφιάς ΙΙ (1η ημέρα) - 09:00 - 15:00 (Παθολογική Κλινική)") -> Πρακτική Άσκηση στην Παθολογία Ζώων Συντροφιάς Ι (1η ημέρα) - 09:00 - 15:00 (Παθολογική Κλινική) ----------------------- Πρακτική Άσκηση στην Παθολογία Ζώων Συντροφιάς ΙΙ (1η ημέρα) - 09:00 - 15:00 (Παθολογική Κλινική) | H33: =IFERROR(__xludf.DUMMYFUNCTION("IFERROR(IF(SUMPRODUCT(('Σύνοψη'!$F$2:$F289=$A33)*('Σύνοψη'!$C$2:$C289=H$3)*('Σύνοψη'!$G$2:$G289=$B33))>0, TEXTJOIN(CHAR(10) & ""-----------------------"" & CHAR(10), TRUE, FILTER('Σύνοψη'!$E$2:$E289 & "" - "" & 'Σύνοψη'!$I$2:$I289 & "" ("" & 'Σύνοψη'!$J$2"&":$J289 & "")"", 'Σύνοψη'!$F$2:$F289=$A33, 'Σύνοψη'!$G$2:$G289=$B33, 'Σύνοψη'!$C$2:$C289=H$3)), IF(SUMPRODUCT(('Σύνοψη'!$F$2:$F289=$A33)*('Σύνοψη'!$C$2:$C289=H$3)*('Σύνοψη'!$G$2:$G289<$B33)*('Σύνοψη'!$H$2:$H289>$B33))>0, CHAR(34), """") ), """")"),"Ειδικη Παθολογία ΖΣ V (ΠΠΣ) (Πρακτικά) (1η ημέρα) - 09:00 - 15:00 (Παθολογική Κλινική)") -> Ειδικη Παθολογία ΖΣ V (ΠΠΣ) (Πρακτικά) (1η ημέρα) - 09:00 - 15:00 (Παθολογική Κλινική)
A34: =$A$32 -> 46267 | B34: 0.41666667 | C34: =IFERROR(__xludf.DUMMYFUNCTION("IFERROR(IF(SUMPRODUCT(('Σύνοψη'!$F$2:$F289=$A34)*('Σύνοψη'!$C$2:$C289=C$3)*('Σύνοψη'!$G$2:$G289=$B34))>0, TEXTJOIN(CHAR(10) & ""-----------------------"" & CHAR(10), TRUE, FILTER('Σύνοψη'!$E$2:$E289 & "" - "" & 'Σύνοψη'!$I$2:$I289 & "" ("" & 'Σύνοψη'!$J$2"&":$J289 & "")"", 'Σύνοψη'!$F$2:$F289=$A34, 'Σύνοψη'!$G$2:$G289=$B34, 'Σύνοψη'!$C$2:$C289=C$3)), IF(SUMPRODUCT(('Σύνοψη'!$F$2:$F289=$A34)*('Σύνοψη'!$C$2:$C289=C$3)*('Σύνοψη'!$G$2:$G289<$B34)*('Σύνοψη'!$H$2:$H289>$B34))>0, CHAR(34), """") ), """")"),"""") -> " | D34: =IFERROR(__xludf.DUMMYFUNCTION("IFERROR(IF(SUMPRODUCT(('Σύνοψη'!$F$2:$F289=$A34)*('Σύνοψη'!$C$2:$C289=D$3)*('Σύνοψη'!$G$2:$G289=$B34))>0, TEXTJOIN(CHAR(10) & ""-----------------------"" & CHAR(10), TRUE, FILTER('Σύνοψη'!$E$2:$E289 & "" - "" & 'Σύνοψη'!$I$2:$I289 & "" ("" & 'Σύνοψη'!$J$2"&":$J289 & "")"", 'Σύνοψη'!$F$2:$F289=$A34, 'Σύνοψη'!$G$2:$G289=$B34, 'Σύνοψη'!$C$2:$C289=D$3)), IF(SUMPRODUCT(('Σύνοψη'!$F$2:$F289=$A34)*('Σύνοψη'!$C$2:$C289=D$3)*('Σύνοψη'!$G$2:$G289<$B34)*('Σύνοψη'!$H$2:$H289>$B34))>0, CHAR(34), """") ), """")"),"") | E34: =IFERROR(__xludf.DUMMYFUNCTION("IFERROR(IF(SUMPRODUCT(('Σύνοψη'!$F$2:$F289=$A34)*('Σύνοψη'!$C$2:$C289=E$3)*('Σύνοψη'!$G$2:$G289=$B34))>0, TEXTJOIN(CHAR(10) & ""-----------------------"" & CHAR(10), TRUE, FILTER('Σύνοψη'!$E$2:$E289 & "" - "" & 'Σύνοψη'!$I$2:$I289 & "" ("" & 'Σύνοψη'!$J$2"&":$J289 & "")"", 'Σύνοψη'!$F$2:$F289=$A34, 'Σύνοψη'!$G$2:$G289=$B34, 'Σύνοψη'!$C$2:$C289=E$3)), IF(SUMPRODUCT(('Σύνοψη'!$F$2:$F289=$A34)*('Σύνοψη'!$C$2:$C289=E$3)*('Σύνοψη'!$G$2:$G289<$B34)*('Σύνοψη'!$H$2:$H289>$B34))>0, CHAR(34), """") ), """")"),"""") -> " | F34: =IFERROR(__xludf.DUMMYFUNCTION("IFERROR(IF(SUMPRODUCT(('Σύνοψη'!$F$2:$F289=$A34)*('Σύνοψη'!$C$2:$C289=F$3)*('Σύνοψη'!$G$2:$G289=$B34))>0, TEXTJOIN(CHAR(10) & ""-----------------------"" & CHAR(10), TRUE, FILTER('Σύνοψη'!$E$2:$E289 & "" - "" & 'Σύνοψη'!$I$2:$I289 & "" ("" & 'Σύνοψη'!$J$2"&":$J289 & "")"", 'Σύνοψη'!$F$2:$F289=$A34, 'Σύνοψη'!$G$2:$G289=$B34, 'Σύνοψη'!$C$2:$C289=F$3)), IF(SUMPRODUCT(('Σύνοψη'!$F$2:$F289=$A34)*('Σύνοψη'!$C$2:$C289=F$3)*('Σύνοψη'!$G$2:$G289<$B34)*('Σύνοψη'!$H$2:$H289>$B34))>0, CHAR(34), """") ), """")"),"") | G34: =IFERROR(__xludf.DUMMYFUNCTION("IFERROR(IF(SUMPRODUCT(('Σύνοψη'!$F$2:$F289=$A34)*('Σύνοψη'!$C$2:$C289=G$3)*('Σύνοψη'!$G$2:$G289=$B34))>0, TEXTJOIN(CHAR(10) & ""-----------------------"" & CHAR(10), TRUE, FILTER('Σύνοψη'!$E$2:$E289 & "" - "" & 'Σύνοψη'!$I$2:$I289 & "" ("" & 'Σύνοψη'!$J$2"&":$J289 & "")"", 'Σύνοψη'!$F$2:$F289=$A34, 'Σύνοψη'!$G$2:$G289=$B34, 'Σύνοψη'!$C$2:$C289=G$3)), IF(SUMPRODUCT(('Σύνοψη'!$F$2:$F289=$A34)*('Σύνοψη'!$C$2:$C289=G$3)*('Σύνοψη'!$G$2:$G289<$B34)*('Σύνοψη'!$H$2:$H289>$B34))>0, CHAR(34), """") ), """")"),"""") -> " | H34: =IFERROR(__xludf.DUMMYFUNCTION("IFERROR(IF(SUMPRODUCT(('Σύνοψη'!$F$2:$F289=$A34)*('Σύνοψη'!$C$2:$C289=H$3)*('Σύνοψη'!$G$2:$G289=$B34))>0, TEXTJOIN(CHAR(10) & ""-----------------------"" & CHAR(10), TRUE, FILTER('Σύνοψη'!$E$2:$E289 & "" - "" & 'Σύνοψη'!$I$2:$I289 & "" ("" & 'Σύνοψη'!$J$2"&":$J289 & "")"", 'Σύνοψη'!$F$2:$F289=$A34, 'Σύνοψη'!$G$2:$G289=$B34, 'Σύνοψη'!$C$2:$C289=H$3)), IF(SUMPRODUCT(('Σύνοψη'!$F$2:$F289=$A34)*('Σύνοψη'!$C$2:$C289=H$3)*('Σύνοψη'!$G$2:$G289<$B34)*('Σύνοψη'!$H$2:$H289>$B34))>0, CHAR(34), """") ), """")"),"""") -> "
A35: =$A$32 -> 46267 | B35: 0.45833333 | C35: =IFERROR(__xludf.DUMMYFUNCTION("IFERROR(IF(SUMPRODUCT(('Σύνοψη'!$F$2:$F289=$A35)*('Σύνοψη'!$C$2:$C289=C$3)*('Σύνοψη'!$G$2:$G289=$B35))>0, TEXTJOIN(CHAR(10) & ""-----------------------"" & CHAR(10), TRUE, FILTER('Σύνοψη'!$E$2:$E289 & "" - "" & 'Σύνοψη'!$I$2:$I289 & "" ("" & 'Σύνοψη'!$J$2"&":$J289 & "")"", 'Σύνοψη'!$F$2:$F289=$A35, 'Σύνοψη'!$G$2:$G289=$B35, 'Σύνοψη'!$C$2:$C289=C$3)), IF(SUMPRODUCT(('Σύνοψη'!$F$2:$F289=$A35)*('Σύνοψη'!$C$2:$C289=C$3)*('Σύνοψη'!$G$2:$G289<$B35)*('Σύνοψη'!$H$2:$H289>$B35))>0, CHAR(34), """") ), """")"),"") | D35: =IFERROR(__xludf.DUMMYFUNCTION("IFERROR(IF(SUMPRODUCT(('Σύνοψη'!$F$2:$F289=$A35)*('Σύνοψη'!$C$2:$C289=D$3)*('Σύνοψη'!$G$2:$G289=$B35))>0, TEXTJOIN(CHAR(10) & ""-----------------------"" & CHAR(10), TRUE, FILTER('Σύνοψη'!$E$2:$E289 & "" - "" & 'Σύνοψη'!$I$2:$I289 & "" ("" & 'Σύνοψη'!$J$2"&":$J289 & "")"", 'Σύνοψη'!$F$2:$F289=$A35, 'Σύνοψη'!$G$2:$G289=$B35, 'Σύνοψη'!$C$2:$C289=D$3)), IF(SUMPRODUCT(('Σύνοψη'!$F$2:$F289=$A35)*('Σύνοψη'!$C$2:$C289=D$3)*('Σύνοψη'!$G$2:$G289<$B35)*('Σύνοψη'!$H$2:$H289>$B35))>0, CHAR(34), """") ), """")"),"Γενική Παθολογική Ανατομική - 11:00 - 14:00 (Νέες Αίθουσες)") -> Γενική Παθολογική Ανατομική - 11:00 - 14:00 (Νέες Αίθουσες) | E35: =IFERROR(__xludf.DUMMYFUNCTION("IFERROR(IF(SUMPRODUCT(('Σύνοψη'!$F$2:$F289=$A35)*('Σύνοψη'!$C$2:$C289=E$3)*('Σύνοψη'!$G$2:$G289=$B35))>0, TEXTJOIN(CHAR(10) & ""-----------------------"" & CHAR(10), TRUE, FILTER('Σύνοψη'!$E$2:$E289 & "" - "" & 'Σύνοψη'!$I$2:$I289 & "" ("" & 'Σύνοψη'!$J$2"&":$J289 & "")"", 'Σύνοψη'!$F$2:$F289=$A35, 'Σύνοψη'!$G$2:$G289=$B35, 'Σύνοψη'!$C$2:$C289=E$3)), IF(SUMPRODUCT(('Σύνοψη'!$F$2:$F289=$A35)*('Σύνοψη'!$C$2:$C289=E$3)*('Σύνοψη'!$G$2:$G289<$B35)*('Σύνοψη'!$H$2:$H289>$B35))>0, CHAR(34), """") ), """")"),"""") -> " | F35: =IFERROR(__xludf.DUMMYFUNCTION("IFERROR(IF(SUMPRODUCT(('Σύνοψη'!$F$2:$F289=$A35)*('Σύνοψη'!$C$2:$C289=F$3)*('Σύνοψη'!$G$2:$G289=$B35))>0, TEXTJOIN(CHAR(10) & ""-----------------------"" & CHAR(10), TRUE, FILTER('Σύνοψη'!$E$2:$E289 & "" - "" & 'Σύνοψη'!$I$2:$I289 & "" ("" & 'Σύνοψη'!$J$2"&":$J289 & "")"", 'Σύνοψη'!$F$2:$F289=$A35, 'Σύνοψη'!$G$2:$G289=$B35, 'Σύνοψη'!$C$2:$C289=F$3)), IF(SUMPRODUCT(('Σύνοψη'!$F$2:$F289=$A35)*('Σύνοψη'!$C$2:$C289=F$3)*('Σύνοψη'!$G$2:$G289<$B35)*('Σύνοψη'!$H$2:$H289>$B35))>0, CHAR(34), """") ), """")"),"") | G35: =IFERROR(__xludf.DUMMYFUNCTION("IFERROR(IF(SUMPRODUCT(('Σύνοψη'!$F$2:$F289=$A35)*('Σύνοψη'!$C$2:$C289=G$3)*('Σύνοψη'!$G$2:$G289=$B35))>0, TEXTJOIN(CHAR(10) & ""-----------------------"" & CHAR(10), TRUE, FILTER('Σύνοψη'!$E$2:$E289 & "" - "" & 'Σύνοψη'!$I$2:$I289 & "" ("" & 'Σύνοψη'!$J$2"&":$J289 & "")"", 'Σύνοψη'!$F$2:$F289=$A35, 'Σύνοψη'!$G$2:$G289=$B35, 'Σύνοψη'!$C$2:$C289=G$3)), IF(SUMPRODUCT(('Σύνοψη'!$F$2:$F289=$A35)*('Σύνοψη'!$C$2:$C289=G$3)*('Σύνοψη'!$G$2:$G289<$B35)*('Σύνοψη'!$H$2:$H289>$B35))>0, CHAR(34), """") ), """")"),"""") -> " | H35: =IFERROR(__xludf.DUMMYFUNCTION("IFERROR(IF(SUMPRODUCT(('Σύνοψη'!$F$2:$F289=$A35)*('Σύνοψη'!$C$2:$C289=H$3)*('Σύνοψη'!$G$2:$G289=$B35))>0, TEXTJOIN(CHAR(10) & ""-----------------------"" & CHAR(10), TRUE, FILTER('Σύνοψη'!$E$2:$E289 & "" - "" & 'Σύνοψη'!$I$2:$I289 & "" ("" & 'Σύνοψη'!$J$2"&":$J289 & "")"", 'Σύνοψη'!$F$2:$F289=$A35, 'Σύνοψη'!$G$2:$G289=$B35, 'Σύνοψη'!$C$2:$C289=H$3)), IF(SUMPRODUCT(('Σύνοψη'!$F$2:$F289=$A35)*('Σύνοψη'!$C$2:$C289=H$3)*('Σύνοψη'!$G$2:$G289<$B35)*('Σύνοψη'!$H$2:$H289>$B35))>0, CHAR(34), """") ), """")"),"""") -> "
A36: =$A$32 -> 46267 | B36: 0.5 | C36: =IFERROR(__xludf.DUMMYFUNCTION("IFERROR(IF(SUMPRODUCT(('Σύνοψη'!$F$2:$F289=$A36)*('Σύνοψη'!$C$2:$C289=C$3)*('Σύνοψη'!$G$2:$G289=$B36))>0, TEXTJOIN(CHAR(10) & ""-----------------------"" & CHAR(10), TRUE, FILTER('Σύνοψη'!$E$2:$E289 & "" - "" & 'Σύνοψη'!$I$2:$I289 & "" ("" & 'Σύνοψη'!$J$2"&":$J289 & "")"", 'Σύνοψη'!$F$2:$F289=$A36, 'Σύνοψη'!$G$2:$G289=$B36, 'Σύνοψη'!$C$2:$C289=C$3)), IF(SUMPRODUCT(('Σύνοψη'!$F$2:$F289=$A36)*('Σύνοψη'!$C$2:$C289=C$3)*('Σύνοψη'!$G$2:$G289<$B36)*('Σύνοψη'!$H$2:$H289>$B36))>0, CHAR(34), """") ), """")"),"") | D36: =IFERROR(__xludf.DUMMYFUNCTION("IFERROR(IF(SUMPRODUCT(('Σύνοψη'!$F$2:$F289=$A36)*('Σύνοψη'!$C$2:$C289=D$3)*('Σύνοψη'!$G$2:$G289=$B36))>0, TEXTJOIN(CHAR(10) & ""-----------------------"" & CHAR(10), TRUE, FILTER('Σύνοψη'!$E$2:$E289 & "" - "" & 'Σύνοψη'!$I$2:$I289 & "" ("" & 'Σύνοψη'!$J$2"&":$J289 & "")"", 'Σύνοψη'!$F$2:$F289=$A36, 'Σύνοψη'!$G$2:$G289=$B36, 'Σύνοψη'!$C$2:$C289=D$3)), IF(SUMPRODUCT(('Σύνοψη'!$F$2:$F289=$A36)*('Σύνοψη'!$C$2:$C289=D$3)*('Σύνοψη'!$G$2:$G289<$B36)*('Σύνοψη'!$H$2:$H289>$B36))>0, CHAR(34), """") ), """")"),"""") -> " | E36: =IFERROR(__xludf.DUMMYFUNCTION("IFERROR(IF(SUMPRODUCT(('Σύνοψη'!$F$2:$F289=$A36)*('Σύνοψη'!$C$2:$C289=E$3)*('Σύνοψη'!$G$2:$G289=$B36))>0, TEXTJOIN(CHAR(10) & ""-----------------------"" & CHAR(10), TRUE, FILTER('Σύνοψη'!$E$2:$E289 & "" - "" & 'Σύνοψη'!$I$2:$I289 & "" ("" & 'Σύνοψη'!$J$2"&":$J289 & "")"", 'Σύνοψη'!$F$2:$F289=$A36, 'Σύνοψη'!$G$2:$G289=$B36, 'Σύνοψη'!$C$2:$C289=E$3)), IF(SUMPRODUCT(('Σύνοψη'!$F$2:$F289=$A36)*('Σύνοψη'!$C$2:$C289=E$3)*('Σύνοψη'!$G$2:$G289<$B36)*('Σύνοψη'!$H$2:$H289>$B36))>0, CHAR(34), """") ), """")"),"") | F36: =IFERROR(__xludf.DUMMYFUNCTION("IFERROR(IF(SUMPRODUCT(('Σύνοψη'!$F$2:$F289=$A36)*('Σύνοψη'!$C$2:$C289=F$3)*('Σύνοψη'!$G$2:$G289=$B36))>0, TEXTJOIN(CHAR(10) & ""-----------------------"" & CHAR(10), TRUE, FILTER('Σύνοψη'!$E$2:$E289 & "" - "" & 'Σύνοψη'!$I$2:$I289 & "" ("" & 'Σύνοψη'!$J$2"&":$J289 & "")"", 'Σύνοψη'!$F$2:$F289=$A36, 'Σύνοψη'!$G$2:$G289=$B36, 'Σύνοψη'!$C$2:$C289=F$3)), IF(SUMPRODUCT(('Σύνοψη'!$F$2:$F289=$A36)*('Σύνοψη'!$C$2:$C289=F$3)*('Σύνοψη'!$G$2:$G289<$B36)*('Σύνοψη'!$H$2:$H289>$B36))>0, CHAR(34), """") ), """")"),"Ορθοπεδική Χειρουργική - 12:00 - 14:00 (Αμφιθέατρα)") -> Ορθοπεδική Χειρουργική - 12:00 - 14:00 (Αμφιθέατρα) | G36: =IFERROR(__xludf.DUMMYFUNCTION("IFERROR(IF(SUMPRODUCT(('Σύνοψη'!$F$2:$F289=$A36)*('Σύνοψη'!$C$2:$C289=G$3)*('Σύνοψη'!$G$2:$G289=$B36))>0, TEXTJOIN(CHAR(10) & ""-----------------------"" & CHAR(10), TRUE, FILTER('Σύνοψη'!$E$2:$E289 & "" - "" & 'Σύνοψη'!$I$2:$I289 & "" ("" & 'Σύνοψη'!$J$2"&":$J289 & "")"", 'Σύνοψη'!$F$2:$F289=$A36, 'Σύνοψη'!$G$2:$G289=$B36, 'Σύνοψη'!$C$2:$C289=G$3)), IF(SUMPRODUCT(('Σύνοψη'!$F$2:$F289=$A36)*('Σύνοψη'!$C$2:$C289=G$3)*('Σύνοψη'!$G$2:$G289<$B36)*('Σύνοψη'!$H$2:$H289>$B36))>0, CHAR(34), """") ), """")"),"""") -> " | H36: =IFERROR(__xludf.DUMMYFUNCTION("IFERROR(IF(SUMPRODUCT(('Σύνοψη'!$F$2:$F289=$A36)*('Σύνοψη'!$C$2:$C289=H$3)*('Σύνοψη'!$G$2:$G289=$B36))>0, TEXTJOIN(CHAR(10) & ""-----------------------"" & CHAR(10), TRUE, FILTER('Σύνοψη'!$E$2:$E289 & "" - "" & 'Σύνοψη'!$I$2:$I289 & "" ("" & 'Σύνοψη'!$J$2"&":$J289 & "")"", 'Σύνοψη'!$F$2:$F289=$A36, 'Σύνοψη'!$G$2:$G289=$B36, 'Σύνοψη'!$C$2:$C289=H$3)), IF(SUMPRODUCT(('Σύνοψη'!$F$2:$F289=$A36)*('Σύνοψη'!$C$2:$C289=H$3)*('Σύνοψη'!$G$2:$G289<$B36)*('Σύνοψη'!$H$2:$H289>$B36))>0, CHAR(34), """") ), """")"),"Χειρουργική ΙΙ (γραπτά) - 12:00 - 14:00 (Αμφιθέατρα)") -> Χειρουργική ΙΙ (γραπτά) - 12:00 - 14:00 (Αμφιθέατρα)
A37: =$A$32 -> 46267 | B37: 0.54166667 | C37: =IFERROR(__xludf.DUMMYFUNCTION("IFERROR(IF(SUMPRODUCT(('Σύνοψη'!$F$2:$F289=$A37)*('Σύνοψη'!$C$2:$C289=C$3)*('Σύνοψη'!$G$2:$G289=$B37))>0, TEXTJOIN(CHAR(10) & ""-----------------------"" & CHAR(10), TRUE, FILTER('Σύνοψη'!$E$2:$E289 & "" - "" & 'Σύνοψη'!$I$2:$I289 & "" ("" & 'Σύνοψη'!$J$2"&":$J289 & "")"", 'Σύνοψη'!$F$2:$F289=$A37, 'Σύνοψη'!$G$2:$G289=$B37, 'Σύνοψη'!$C$2:$C289=C$3)), IF(SUMPRODUCT(('Σύνοψη'!$F$2:$F289=$A37)*('Σύνοψη'!$C$2:$C289=C$3)*('Σύνοψη'!$G$2:$G289<$B37)*('Σύνοψη'!$H$2:$H289>$B37))>0, CHAR(34), """") ), """")"),"") | D37: =IFERROR(__xludf.DUMMYFUNCTION("IFERROR(IF(SUMPRODUCT(('Σύνοψη'!$F$2:$F289=$A37)*('Σύνοψη'!$C$2:$C289=D$3)*('Σύνοψη'!$G$2:$G289=$B37))>0, TEXTJOIN(CHAR(10) & ""-----------------------"" & CHAR(10), TRUE, FILTER('Σύνοψη'!$E$2:$E289 & "" - "" & 'Σύνοψη'!$I$2:$I289 & "" ("" & 'Σύνοψη'!$J$2"&":$J289 & "")"", 'Σύνοψη'!$F$2:$F289=$A37, 'Σύνοψη'!$G$2:$G289=$B37, 'Σύνοψη'!$C$2:$C289=D$3)), IF(SUMPRODUCT(('Σύνοψη'!$F$2:$F289=$A37)*('Σύνοψη'!$C$2:$C289=D$3)*('Σύνοψη'!$G$2:$G289<$B37)*('Σύνοψη'!$H$2:$H289>$B37))>0, CHAR(34), """") ), """")"),"""") -> " | E37: =IFERROR(__xludf.DUMMYFUNCTION("IFERROR(IF(SUMPRODUCT(('Σύνοψη'!$F$2:$F289=$A37)*('Σύνοψη'!$C$2:$C289=E$3)*('Σύνοψη'!$G$2:$G289=$B37))>0, TEXTJOIN(CHAR(10) & ""-----------------------"" & CHAR(10), TRUE, FILTER('Σύνοψη'!$E$2:$E289 & "" - "" & 'Σύνοψη'!$I$2:$I289 & "" ("" & 'Σύνοψη'!$J$2"&":$J289 & "")"", 'Σύνοψη'!$F$2:$F289=$A37, 'Σύνοψη'!$G$2:$G289=$B37, 'Σύνοψη'!$C$2:$C289=E$3)), IF(SUMPRODUCT(('Σύνοψη'!$F$2:$F289=$A37)*('Σύνοψη'!$C$2:$C289=E$3)*('Σύνοψη'!$G$2:$G289<$B37)*('Σύνοψη'!$H$2:$H289>$B37))>0, CHAR(34), """") ), """")"),"") | F37: =IFERROR(__xludf.DUMMYFUNCTION("IFERROR(IF(SUMPRODUCT(('Σύνοψη'!$F$2:$F289=$A37)*('Σύνοψη'!$C$2:$C289=F$3)*('Σύνοψη'!$G$2:$G289=$B37))>0, TEXTJOIN(CHAR(10) & ""-----------------------"" & CHAR(10), TRUE, FILTER('Σύνοψη'!$E$2:$E289 & "" - "" & 'Σύνοψη'!$I$2:$I289 & "" ("" & 'Σύνοψη'!$J$2"&":$J289 & "")"", 'Σύνοψη'!$F$2:$F289=$A37, 'Σύνοψη'!$G$2:$G289=$B37, 'Σύνοψη'!$C$2:$C289=F$3)), IF(SUMPRODUCT(('Σύνοψη'!$F$2:$F289=$A37)*('Σύνοψη'!$C$2:$C289=F$3)*('Σύνοψη'!$G$2:$G289<$B37)*('Σύνοψη'!$H$2:$H289>$B37))>0, CHAR(34), """") ), """")"),"""") -> " | G37: =IFERROR(__xludf.DUMMYFUNCTION("IFERROR(IF(SUMPRODUCT(('Σύνοψη'!$F$2:$F289=$A37)*('Σύνοψη'!$C$2:$C289=G$3)*('Σύνοψη'!$G$2:$G289=$B37))>0, TEXTJOIN(CHAR(10) & ""-----------------------"" & CHAR(10), TRUE, FILTER('Σύνοψη'!$E$2:$E289 & "" - "" & 'Σύνοψη'!$I$2:$I289 & "" ("" & 'Σύνοψη'!$J$2"&":$J289 & "")"", 'Σύνοψη'!$F$2:$F289=$A37, 'Σύνοψη'!$G$2:$G289=$B37, 'Σύνοψη'!$C$2:$C289=G$3)), IF(SUMPRODUCT(('Σύνοψη'!$F$2:$F289=$A37)*('Σύνοψη'!$C$2:$C289=G$3)*('Σύνοψη'!$G$2:$G289<$B37)*('Σύνοψη'!$H$2:$H289>$B37))>0, CHAR(34), """") ), """")"),"""") -> " | H37: =IFERROR(__xludf.DUMMYFUNCTION("IFERROR(IF(SUMPRODUCT(('Σύνοψη'!$F$2:$F289=$A37)*('Σύνοψη'!$C$2:$C289=H$3)*('Σύνοψη'!$G$2:$G289=$B37))>0, TEXTJOIN(CHAR(10) & ""-----------------------"" & CHAR(10), TRUE, FILTER('Σύνοψη'!$E$2:$E289 & "" - "" & 'Σύνοψη'!$I$2:$I289 & "" ("" & 'Σύνοψη'!$J$2"&":$J289 & "")"", 'Σύνοψη'!$F$2:$F289=$A37, 'Σύνοψη'!$G$2:$G289=$B37, 'Σύνοψη'!$C$2:$C289=H$3)), IF(SUMPRODUCT(('Σύνοψη'!$F$2:$F289=$A37)*('Σύνοψη'!$C$2:$C289=H$3)*('Σύνοψη'!$G$2:$G289<$B37)*('Σύνοψη'!$H$2:$H289>$B37))>0, CHAR(34), """") ), """")"),"""") -> "
A38: =$A$32 -> 46267 | B38: 0.58333333 | C38: =IFERROR(__xludf.DUMMYFUNCTION("IFERROR(IF(SUMPRODUCT(('Σύνοψη'!$F$2:$F289=$A38)*('Σύνοψη'!$C$2:$C289=C$3)*('Σύνοψη'!$G$2:$G289=$B38))>0, TEXTJOIN(CHAR(10) & ""-----------------------"" & CHAR(10), TRUE, FILTER('Σύνοψη'!$E$2:$E289 & "" - "" & 'Σύνοψη'!$I$2:$I289 & "" ("" & 'Σύνοψη'!$J$2"&":$J289 & "")"", 'Σύνοψη'!$F$2:$F289=$A38, 'Σύνοψη'!$G$2:$G289=$B38, 'Σύνοψη'!$C$2:$C289=C$3)), IF(SUMPRODUCT(('Σύνοψη'!$F$2:$F289=$A38)*('Σύνοψη'!$C$2:$C289=C$3)*('Σύνοψη'!$G$2:$G289<$B38)*('Σύνοψη'!$H$2:$H289>$B38))>0, CHAR(34), """") ), """")"),"") | D38: =IFERROR(__xludf.DUMMYFUNCTION("IFERROR(IF(SUMPRODUCT(('Σύνοψη'!$F$2:$F289=$A38)*('Σύνοψη'!$C$2:$C289=D$3)*('Σύνοψη'!$G$2:$G289=$B38))>0, TEXTJOIN(CHAR(10) & ""-----------------------"" & CHAR(10), TRUE, FILTER('Σύνοψη'!$E$2:$E289 & "" - "" & 'Σύνοψη'!$I$2:$I289 & "" ("" & 'Σύνοψη'!$J$2"&":$J289 & "")"", 'Σύνοψη'!$F$2:$F289=$A38, 'Σύνοψη'!$G$2:$G289=$B38, 'Σύνοψη'!$C$2:$C289=D$3)), IF(SUMPRODUCT(('Σύνοψη'!$F$2:$F289=$A38)*('Σύνοψη'!$C$2:$C289=D$3)*('Σύνοψη'!$G$2:$G289<$B38)*('Σύνοψη'!$H$2:$H289>$B38))>0, CHAR(34), """") ), """")"),"") | E38: =IFERROR(__xludf.DUMMYFUNCTION("IFERROR(IF(SUMPRODUCT(('Σύνοψη'!$F$2:$F289=$A38)*('Σύνοψη'!$C$2:$C289=E$3)*('Σύνοψη'!$G$2:$G289=$B38))>0, TEXTJOIN(CHAR(10) & ""-----------------------"" & CHAR(10), TRUE, FILTER('Σύνοψη'!$E$2:$E289 & "" - "" & 'Σύνοψη'!$I$2:$I289 & "" ("" & 'Σύνοψη'!$J$2"&":$J289 & "")"", 'Σύνοψη'!$F$2:$F289=$A38, 'Σύνοψη'!$G$2:$G289=$B38, 'Σύνοψη'!$C$2:$C289=E$3)), IF(SUMPRODUCT(('Σύνοψη'!$F$2:$F289=$A38)*('Σύνοψη'!$C$2:$C289=E$3)*('Σύνοψη'!$G$2:$G289<$B38)*('Σύνοψη'!$H$2:$H289>$B38))>0, CHAR(34), """") ), """")"),"") | F38: =IFERROR(__xludf.DUMMYFUNCTION("IFERROR(IF(SUMPRODUCT(('Σύνοψη'!$F$2:$F289=$A38)*('Σύνοψη'!$C$2:$C289=F$3)*('Σύνοψη'!$G$2:$G289=$B38))>0, TEXTJOIN(CHAR(10) & ""-----------------------"" & CHAR(10), TRUE, FILTER('Σύνοψη'!$E$2:$E289 & "" - "" & 'Σύνοψη'!$I$2:$I289 & "" ("" & 'Σύνοψη'!$J$2"&":$J289 & "")"", 'Σύνοψη'!$F$2:$F289=$A38, 'Σύνοψη'!$G$2:$G289=$B38, 'Σύνοψη'!$C$2:$C289=F$3)), IF(SUMPRODUCT(('Σύνοψη'!$F$2:$F289=$A38)*('Σύνοψη'!$C$2:$C289=F$3)*('Σύνοψη'!$G$2:$G289<$B38)*('Σύνοψη'!$H$2:$H289>$B38))>0, CHAR(34), """") ), """")"),"") | G38: =IFERROR(__xludf.DUMMYFUNCTION("IFERROR(IF(SUMPRODUCT(('Σύνοψη'!$F$2:$F289=$A38)*('Σύνοψη'!$C$2:$C289=G$3)*('Σύνοψη'!$G$2:$G289=$B38))>0, TEXTJOIN(CHAR(10) & ""-----------------------"" & CHAR(10), TRUE, FILTER('Σύνοψη'!$E$2:$E289 & "" - "" & 'Σύνοψη'!$I$2:$I289 & "" ("" & 'Σύνοψη'!$J$2"&":$J289 & "")"", 'Σύνοψη'!$F$2:$F289=$A38, 'Σύνοψη'!$G$2:$G289=$B38, 'Σύνοψη'!$C$2:$C289=G$3)), IF(SUMPRODUCT(('Σύνοψη'!$F$2:$F289=$A38)*('Σύνοψη'!$C$2:$C289=G$3)*('Σύνοψη'!$G$2:$G289<$B38)*('Σύνοψη'!$H$2:$H289>$B38))>0, CHAR(34), """") ), """")"),"""") -> " | H38: =IFERROR(__xludf.DUMMYFUNCTION("IFERROR(IF(SUMPRODUCT(('Σύνοψη'!$F$2:$F289=$A38)*('Σύνοψη'!$C$2:$C289=H$3)*('Σύνοψη'!$G$2:$G289=$B38))>0, TEXTJOIN(CHAR(10) & ""-----------------------"" & CHAR(10), TRUE, FILTER('Σύνοψη'!$E$2:$E289 & "" - "" & 'Σύνοψη'!$I$2:$I289 & "" ("" & 'Σύνοψη'!$J$2"&":$J289 & "")"", 'Σύνοψη'!$F$2:$F289=$A38, 'Σύνοψη'!$G$2:$G289=$B38, 'Σύνοψη'!$C$2:$C289=H$3)), IF(SUMPRODUCT(('Σύνοψη'!$F$2:$F289=$A38)*('Σύνοψη'!$C$2:$C289=H$3)*('Σύνοψη'!$G$2:$G289<$B38)*('Σύνοψη'!$H$2:$H289>$B38))>0, CHAR(34), """") ), """")"),"""") -> "
A39: =$A$32 -> 46267 | B39: 0.625 | C39: =IFERROR(__xludf.DUMMYFUNCTION("IFERROR(IF(SUMPRODUCT(('Σύνοψη'!$F$2:$F289=$A39)*('Σύνοψη'!$C$2:$C289=C$3)*('Σύνοψη'!$G$2:$G289=$B39))>0, TEXTJOIN(CHAR(10) & ""-----------------------"" & CHAR(10), TRUE, FILTER('Σύνοψη'!$E$2:$E289 & "" - "" & 'Σύνοψη'!$I$2:$I289 & "" ("" & 'Σύνοψη'!$J$2"&":$J289 & "")"", 'Σύνοψη'!$F$2:$F289=$A39, 'Σύνοψη'!$G$2:$G289=$B39, 'Σύνοψη'!$C$2:$C289=C$3)), IF(SUMPRODUCT(('Σύνοψη'!$F$2:$F289=$A39)*('Σύνοψη'!$C$2:$C289=C$3)*('Σύνοψη'!$G$2:$G289<$B39)*('Σύνοψη'!$H$2:$H289>$B39))>0, CHAR(34), """") ), """")"),"") | D39: =IFERROR(__xludf.DUMMYFUNCTION("IFERROR(IF(SUMPRODUCT(('Σύνοψη'!$F$2:$F289=$A39)*('Σύνοψη'!$C$2:$C289=D$3)*('Σύνοψη'!$G$2:$G289=$B39))>0, TEXTJOIN(CHAR(10) & ""-----------------------"" & CHAR(10), TRUE, FILTER('Σύνοψη'!$E$2:$E289 & "" - "" & 'Σύνοψη'!$I$2:$I289 & "" ("" & 'Σύνοψη'!$J$2"&":$J289 & "")"", 'Σύνοψη'!$F$2:$F289=$A39, 'Σύνοψη'!$G$2:$G289=$B39, 'Σύνοψη'!$C$2:$C289=D$3)), IF(SUMPRODUCT(('Σύνοψη'!$F$2:$F289=$A39)*('Σύνοψη'!$C$2:$C289=D$3)*('Σύνοψη'!$G$2:$G289<$B39)*('Σύνοψη'!$H$2:$H289>$B39))>0, CHAR(34), """") ), """")"),"") | E39: =IFERROR(__xludf.DUMMYFUNCTION("IFERROR(IF(SUMPRODUCT(('Σύνοψη'!$F$2:$F289=$A39)*('Σύνοψη'!$C$2:$C289=E$3)*('Σύνοψη'!$G$2:$G289=$B39))>0, TEXTJOIN(CHAR(10) & ""-----------------------"" & CHAR(10), TRUE, FILTER('Σύνοψη'!$E$2:$E289 & "" - "" & 'Σύνοψη'!$I$2:$I289 & "" ("" & 'Σύνοψη'!$J$2"&":$J289 & "")"", 'Σύνοψη'!$F$2:$F289=$A39, 'Σύνοψη'!$G$2:$G289=$B39, 'Σύνοψη'!$C$2:$C289=E$3)), IF(SUMPRODUCT(('Σύνοψη'!$F$2:$F289=$A39)*('Σύνοψη'!$C$2:$C289=E$3)*('Σύνοψη'!$G$2:$G289<$B39)*('Σύνοψη'!$H$2:$H289>$B39))>0, CHAR(34), """") ), """")"),"") | F39: =IFERROR(__xludf.DUMMYFUNCTION("IFERROR(IF(SUMPRODUCT(('Σύνοψη'!$F$2:$F289=$A39)*('Σύνοψη'!$C$2:$C289=F$3)*('Σύνοψη'!$G$2:$G289=$B39))>0, TEXTJOIN(CHAR(10) & ""-----------------------"" & CHAR(10), TRUE, FILTER('Σύνοψη'!$E$2:$E289 & "" - "" & 'Σύνοψη'!$I$2:$I289 & "" ("" & 'Σύνοψη'!$J$2"&":$J289 & "")"", 'Σύνοψη'!$F$2:$F289=$A39, 'Σύνοψη'!$G$2:$G289=$B39, 'Σύνοψη'!$C$2:$C289=F$3)), IF(SUMPRODUCT(('Σύνοψη'!$F$2:$F289=$A39)*('Σύνοψη'!$C$2:$C289=F$3)*('Σύνοψη'!$G$2:$G289<$B39)*('Σύνοψη'!$H$2:$H289>$B39))>0, CHAR(34), """") ), """")"),"") | G39: =IFERROR(__xludf.DUMMYFUNCTION("IFERROR(IF(SUMPRODUCT(('Σύνοψη'!$F$2:$F289=$A39)*('Σύνοψη'!$C$2:$C289=G$3)*('Σύνοψη'!$G$2:$G289=$B39))>0, TEXTJOIN(CHAR(10) & ""-----------------------"" & CHAR(10), TRUE, FILTER('Σύνοψη'!$E$2:$E289 & "" - "" & 'Σύνοψη'!$I$2:$I289 & "" ("" & 'Σύνοψη'!$J$2"&":$J289 & "")"", 'Σύνοψη'!$F$2:$F289=$A39, 'Σύνοψη'!$G$2:$G289=$B39, 'Σύνοψη'!$C$2:$C289=G$3)), IF(SUMPRODUCT(('Σύνοψη'!$F$2:$F289=$A39)*('Σύνοψη'!$C$2:$C289=G$3)*('Σύνοψη'!$G$2:$G289<$B39)*('Σύνοψη'!$H$2:$H289>$B39))>0, CHAR(34), """") ), """")"),"") | H39: =IFERROR(__xludf.DUMMYFUNCTION("IFERROR(IF(SUMPRODUCT(('Σύνοψη'!$F$2:$F289=$A39)*('Σύνοψη'!$C$2:$C289=H$3)*('Σύνοψη'!$G$2:$G289=$B39))>0, TEXTJOIN(CHAR(10) & ""-----------------------"" & CHAR(10), TRUE, FILTER('Σύνοψη'!$E$2:$E289 & "" - "" & 'Σύνοψη'!$I$2:$I289 & "" ("" & 'Σύνοψη'!$J$2"&":$J289 & "")"", 'Σύνοψη'!$F$2:$F289=$A39, 'Σύνοψη'!$G$2:$G289=$B39, 'Σύνοψη'!$C$2:$C289=H$3)), IF(SUMPRODUCT(('Σύνοψη'!$F$2:$F289=$A39)*('Σύνοψη'!$C$2:$C289=H$3)*('Σύνοψη'!$G$2:$G289<$B39)*('Σύνοψη'!$H$2:$H289>$B39))>0, CHAR(34), """") ), """")"),"")
A40: =$A$32 -> 46267 | B40: 0.66666667 | C40: =IFERROR(__xludf.DUMMYFUNCTION("IFERROR(IF(SUMPRODUCT(('Σύνοψη'!$F$2:$F289=$A40)*('Σύνοψη'!$C$2:$C289=C$3)*('Σύνοψη'!$G$2:$G289=$B40))>0, TEXTJOIN(CHAR(10) & ""-----------------------"" & CHAR(10), TRUE, FILTER('Σύνοψη'!$E$2:$E289 & "" - "" & 'Σύνοψη'!$I$2:$I289 & "" ("" & 'Σύνοψη'!$J$2"&":$J289 & "")"", 'Σύνοψη'!$F$2:$F289=$A40, 'Σύνοψη'!$G$2:$G289=$B40, 'Σύνοψη'!$C$2:$C289=C$3)), IF(SUMPRODUCT(('Σύνοψη'!$F$2:$F289=$A40)*('Σύνοψη'!$C$2:$C289=C$3)*('Σύνοψη'!$G$2:$G289<$B40)*('Σύνοψη'!$H$2:$H289>$B40))>0, CHAR(34), """") ), """")"),"") | D40: =IFERROR(__xludf.DUMMYFUNCTION("IFERROR(IF(SUMPRODUCT(('Σύνοψη'!$F$2:$F289=$A40)*('Σύνοψη'!$C$2:$C289=D$3)*('Σύνοψη'!$G$2:$G289=$B40))>0, TEXTJOIN(CHAR(10) & ""-----------------------"" & CHAR(10), TRUE, FILTER('Σύνοψη'!$E$2:$E289 & "" - "" & 'Σύνοψη'!$I$2:$I289 & "" ("" & 'Σύνοψη'!$J$2"&":$J289 & "")"", 'Σύνοψη'!$F$2:$F289=$A40, 'Σύνοψη'!$G$2:$G289=$B40, 'Σύνοψη'!$C$2:$C289=D$3)), IF(SUMPRODUCT(('Σύνοψη'!$F$2:$F289=$A40)*('Σύνοψη'!$C$2:$C289=D$3)*('Σύνοψη'!$G$2:$G289<$B40)*('Σύνοψη'!$H$2:$H289>$B40))>0, CHAR(34), """") ), """")"),"") | E40: =IFERROR(__xludf.DUMMYFUNCTION("IFERROR(IF(SUMPRODUCT(('Σύνοψη'!$F$2:$F289=$A40)*('Σύνοψη'!$C$2:$C289=E$3)*('Σύνοψη'!$G$2:$G289=$B40))>0, TEXTJOIN(CHAR(10) & ""-----------------------"" & CHAR(10), TRUE, FILTER('Σύνοψη'!$E$2:$E289 & "" - "" & 'Σύνοψη'!$I$2:$I289 & "" ("" & 'Σύνοψη'!$J$2"&":$J289 & "")"", 'Σύνοψη'!$F$2:$F289=$A40, 'Σύνοψη'!$G$2:$G289=$B40, 'Σύνοψη'!$C$2:$C289=E$3)), IF(SUMPRODUCT(('Σύνοψη'!$F$2:$F289=$A40)*('Σύνοψη'!$C$2:$C289=E$3)*('Σύνοψη'!$G$2:$G289<$B40)*('Σύνοψη'!$H$2:$H289>$B40))>0, CHAR(34), """") ), """")"),"") | F40: =IFERROR(__xludf.DUMMYFUNCTION("IFERROR(IF(SUMPRODUCT(('Σύνοψη'!$F$2:$F289=$A40)*('Σύνοψη'!$C$2:$C289=F$3)*('Σύνοψη'!$G$2:$G289=$B40))>0, TEXTJOIN(CHAR(10) & ""-----------------------"" & CHAR(10), TRUE, FILTER('Σύνοψη'!$E$2:$E289 & "" - "" & 'Σύνοψη'!$I$2:$I289 & "" ("" & 'Σύνοψη'!$J$2"&":$J289 & "")"", 'Σύνοψη'!$F$2:$F289=$A40, 'Σύνοψη'!$G$2:$G289=$B40, 'Σύνοψη'!$C$2:$C289=F$3)), IF(SUMPRODUCT(('Σύνοψη'!$F$2:$F289=$A40)*('Σύνοψη'!$C$2:$C289=F$3)*('Σύνοψη'!$G$2:$G289<$B40)*('Σύνοψη'!$H$2:$H289>$B40))>0, CHAR(34), """") ), """")"),"Παθολογία Ζώων Συντροφιάς ΙΙΙ - 16:00 - 18:00 (Νέες Αίθουσες)") -> Παθολογία Ζώων Συντροφιάς ΙΙΙ - 16:00 - 18:00 (Νέες Αίθουσες) | G40: =IFERROR(__xludf.DUMMYFUNCTION("IFERROR(IF(SUMPRODUCT(('Σύνοψη'!$F$2:$F289=$A40)*('Σύνοψη'!$C$2:$C289=G$3)*('Σύνοψη'!$G$2:$G289=$B40))>0, TEXTJOIN(CHAR(10) & ""-----------------------"" & CHAR(10), TRUE, FILTER('Σύνοψη'!$E$2:$E289 & "" - "" & 'Σύνοψη'!$I$2:$I289 & "" ("" & 'Σύνοψη'!$J$2"&":$J289 & "")"", 'Σύνοψη'!$F$2:$F289=$A40, 'Σύνοψη'!$G$2:$G289=$B40, 'Σύνοψη'!$C$2:$C289=G$3)), IF(SUMPRODUCT(('Σύνοψη'!$F$2:$F289=$A40)*('Σύνοψη'!$C$2:$C289=G$3)*('Σύνοψη'!$G$2:$G289<$B40)*('Σύνοψη'!$H$2:$H289>$B40))>0, CHAR(34), """") ), """")"),"") | H40: =IFERROR(__xludf.DUMMYFUNCTION("IFERROR(IF(SUMPRODUCT(('Σύνοψη'!$F$2:$F289=$A40)*('Σύνοψη'!$C$2:$C289=H$3)*('Σύνοψη'!$G$2:$G289=$B40))>0, TEXTJOIN(CHAR(10) & ""-----------------------"" & CHAR(10), TRUE, FILTER('Σύνοψη'!$E$2:$E289 & "" - "" & 'Σύνοψη'!$I$2:$I289 & "" ("" & 'Σύνοψη'!$J$2"&":$J289 & "")"", 'Σύνοψη'!$F$2:$F289=$A40, 'Σύνοψη'!$G$2:$G289=$B40, 'Σύνοψη'!$C$2:$C289=H$3)), IF(SUMPRODUCT(('Σύνοψη'!$F$2:$F289=$A40)*('Σύνοψη'!$C$2:$C289=H$3)*('Σύνοψη'!$G$2:$G289<$B40)*('Σύνοψη'!$H$2:$H289>$B40))>0, CHAR(34), """") ), """")"),"Ειδική Παθολογία ΖΣ ΙΙΙ (ΠΠΣ) - 16:00 - 18:00 (Νέες Αίθουσες)") -> Ειδική Παθολογία ΖΣ ΙΙΙ (ΠΠΣ) - 16:00 - 18:00 (Νέες Αίθουσες)
A41: =$A$32 -> 46267 | B41: 0.70833333 | C41: =IFERROR(__xludf.DUMMYFUNCTION("IFERROR(IF(SUMPRODUCT(('Σύνοψη'!$F$2:$F289=$A41)*('Σύνοψη'!$C$2:$C289=C$3)*('Σύνοψη'!$G$2:$G289=$B41))>0, TEXTJOIN(CHAR(10) & ""-----------------------"" & CHAR(10), TRUE, FILTER('Σύνοψη'!$E$2:$E289 & "" - "" & 'Σύνοψη'!$I$2:$I289 & "" ("" & 'Σύνοψη'!$J$2"&":$J289 & "")"", 'Σύνοψη'!$F$2:$F289=$A41, 'Σύνοψη'!$G$2:$G289=$B41, 'Σύνοψη'!$C$2:$C289=C$3)), IF(SUMPRODUCT(('Σύνοψη'!$F$2:$F289=$A41)*('Σύνοψη'!$C$2:$C289=C$3)*('Σύνοψη'!$G$2:$G289<$B41)*('Σύνοψη'!$H$2:$H289>$B41))>0, CHAR(34), """") ), """")"),"") | D41: =IFERROR(__xludf.DUMMYFUNCTION("IFERROR(IF(SUMPRODUCT(('Σύνοψη'!$F$2:$F289=$A41)*('Σύνοψη'!$C$2:$C289=D$3)*('Σύνοψη'!$G$2:$G289=$B41))>0, TEXTJOIN(CHAR(10) & ""-----------------------"" & CHAR(10), TRUE, FILTER('Σύνοψη'!$E$2:$E289 & "" - "" & 'Σύνοψη'!$I$2:$I289 & "" ("" & 'Σύνοψη'!$J$2"&":$J289 & "")"", 'Σύνοψη'!$F$2:$F289=$A41, 'Σύνοψη'!$G$2:$G289=$B41, 'Σύνοψη'!$C$2:$C289=D$3)), IF(SUMPRODUCT(('Σύνοψη'!$F$2:$F289=$A41)*('Σύνοψη'!$C$2:$C289=D$3)*('Σύνοψη'!$G$2:$G289<$B41)*('Σύνοψη'!$H$2:$H289>$B41))>0, CHAR(34), """") ), """")"),"") | E41: =IFERROR(__xludf.DUMMYFUNCTION("IFERROR(IF(SUMPRODUCT(('Σύνοψη'!$F$2:$F289=$A41)*('Σύνοψη'!$C$2:$C289=E$3)*('Σύνοψη'!$G$2:$G289=$B41))>0, TEXTJOIN(CHAR(10) & ""-----------------------"" & CHAR(10), TRUE, FILTER('Σύνοψη'!$E$2:$E289 & "" - "" & 'Σύνοψη'!$I$2:$I289 & "" ("" & 'Σύνοψη'!$J$2"&":$J289 & "")"", 'Σύνοψη'!$F$2:$F289=$A41, 'Σύνοψη'!$G$2:$G289=$B41, 'Σύνοψη'!$C$2:$C289=E$3)), IF(SUMPRODUCT(('Σύνοψη'!$F$2:$F289=$A41)*('Σύνοψη'!$C$2:$C289=E$3)*('Σύνοψη'!$G$2:$G289<$B41)*('Σύνοψη'!$H$2:$H289>$B41))>0, CHAR(34), """") ), """")"),"") | F41: =IFERROR(__xludf.DUMMYFUNCTION("IFERROR(IF(SUMPRODUCT(('Σύνοψη'!$F$2:$F289=$A41)*('Σύνοψη'!$C$2:$C289=F$3)*('Σύνοψη'!$G$2:$G289=$B41))>0, TEXTJOIN(CHAR(10) & ""-----------------------"" & CHAR(10), TRUE, FILTER('Σύνοψη'!$E$2:$E289 & "" - "" & 'Σύνοψη'!$I$2:$I289 & "" ("" & 'Σύνοψη'!$J$2"&":$J289 & "")"", 'Σύνοψη'!$F$2:$F289=$A41, 'Σύνοψη'!$G$2:$G289=$B41, 'Σύνοψη'!$C$2:$C289=F$3)), IF(SUMPRODUCT(('Σύνοψη'!$F$2:$F289=$A41)*('Σύνοψη'!$C$2:$C289=F$3)*('Σύνοψη'!$G$2:$G289<$B41)*('Σύνοψη'!$H$2:$H289>$B41))>0, CHAR(34), """") ), """")"),"""") -> " | G41: =IFERROR(__xludf.DUMMYFUNCTION("IFERROR(IF(SUMPRODUCT(('Σύνοψη'!$F$2:$F289=$A41)*('Σύνοψη'!$C$2:$C289=G$3)*('Σύνοψη'!$G$2:$G289=$B41))>0, TEXTJOIN(CHAR(10) & ""-----------------------"" & CHAR(10), TRUE, FILTER('Σύνοψη'!$E$2:$E289 & "" - "" & 'Σύνοψη'!$I$2:$I289 & "" ("" & 'Σύνοψη'!$J$2"&":$J289 & "")"", 'Σύνοψη'!$F$2:$F289=$A41, 'Σύνοψη'!$G$2:$G289=$B41, 'Σύνοψη'!$C$2:$C289=G$3)), IF(SUMPRODUCT(('Σύνοψη'!$F$2:$F289=$A41)*('Σύνοψη'!$C$2:$C289=G$3)*('Σύνοψη'!$G$2:$G289<$B41)*('Σύνοψη'!$H$2:$H289>$B41))>0, CHAR(34), """") ), """")"),"") | H41: =IFERROR(__xludf.DUMMYFUNCTION("IFERROR(IF(SUMPRODUCT(('Σύνοψη'!$F$2:$F289=$A41)*('Σύνοψη'!$C$2:$C289=H$3)*('Σύνοψη'!$G$2:$G289=$B41))>0, TEXTJOIN(CHAR(10) & ""-----------------------"" & CHAR(10), TRUE, FILTER('Σύνοψη'!$E$2:$E289 & "" - "" & 'Σύνοψη'!$I$2:$I289 & "" ("" & 'Σύνοψη'!$J$2"&":$J289 & "")"", 'Σύνοψη'!$F$2:$F289=$A41, 'Σύνοψη'!$G$2:$G289=$B41, 'Σύνοψη'!$C$2:$C289=H$3)), IF(SUMPRODUCT(('Σύνοψη'!$F$2:$F289=$A41)*('Σύνοψη'!$C$2:$C289=H$3)*('Σύνοψη'!$G$2:$G289<$B41)*('Σύνοψη'!$H$2:$H289>$B41))>0, CHAR(34), """") ), """")"),"""") -> "
A42: =$A$32 -> 46267 | B42: 0.75 | C42: =IFERROR(__xludf.DUMMYFUNCTION("IFERROR(IF(SUMPRODUCT(('Σύνοψη'!$F$2:$F289=$A42)*('Σύνοψη'!$C$2:$C289=C$3)*('Σύνοψη'!$G$2:$G289=$B42))>0, TEXTJOIN(CHAR(10) & ""-----------------------"" & CHAR(10), TRUE, FILTER('Σύνοψη'!$E$2:$E289 & "" - "" & 'Σύνοψη'!$I$2:$I289 & "" ("" & 'Σύνοψη'!$J$2"&":$J289 & "")"", 'Σύνοψη'!$F$2:$F289=$A42, 'Σύνοψη'!$G$2:$G289=$B42, 'Σύνοψη'!$C$2:$C289=C$3)), IF(SUMPRODUCT(('Σύνοψη'!$F$2:$F289=$A42)*('Σύνοψη'!$C$2:$C289=C$3)*('Σύνοψη'!$G$2:$G289<$B42)*('Σύνοψη'!$H$2:$H289>$B42))>0, CHAR(34), """") ), """")"),"") | D42: =IFERROR(__xludf.DUMMYFUNCTION("IFERROR(IF(SUMPRODUCT(('Σύνοψη'!$F$2:$F289=$A42)*('Σύνοψη'!$C$2:$C289=D$3)*('Σύνοψη'!$G$2:$G289=$B42))>0, TEXTJOIN(CHAR(10) & ""-----------------------"" & CHAR(10), TRUE, FILTER('Σύνοψη'!$E$2:$E289 & "" - "" & 'Σύνοψη'!$I$2:$I289 & "" ("" & 'Σύνοψη'!$J$2"&":$J289 & "")"", 'Σύνοψη'!$F$2:$F289=$A42, 'Σύνοψη'!$G$2:$G289=$B42, 'Σύνοψη'!$C$2:$C289=D$3)), IF(SUMPRODUCT(('Σύνοψη'!$F$2:$F289=$A42)*('Σύνοψη'!$C$2:$C289=D$3)*('Σύνοψη'!$G$2:$G289<$B42)*('Σύνοψη'!$H$2:$H289>$B42))>0, CHAR(34), """") ), """")"),"") | E42: =IFERROR(__xludf.DUMMYFUNCTION("IFERROR(IF(SUMPRODUCT(('Σύνοψη'!$F$2:$F289=$A42)*('Σύνοψη'!$C$2:$C289=E$3)*('Σύνοψη'!$G$2:$G289=$B42))>0, TEXTJOIN(CHAR(10) & ""-----------------------"" & CHAR(10), TRUE, FILTER('Σύνοψη'!$E$2:$E289 & "" - "" & 'Σύνοψη'!$I$2:$I289 & "" ("" & 'Σύνοψη'!$J$2"&":$J289 & "")"", 'Σύνοψη'!$F$2:$F289=$A42, 'Σύνοψη'!$G$2:$G289=$B42, 'Σύνοψη'!$C$2:$C289=E$3)), IF(SUMPRODUCT(('Σύνοψη'!$F$2:$F289=$A42)*('Σύνοψη'!$C$2:$C289=E$3)*('Σύνοψη'!$G$2:$G289<$B42)*('Σύνοψη'!$H$2:$H289>$B42))>0, CHAR(34), """") ), """")"),"") | F42: =IFERROR(__xludf.DUMMYFUNCTION("IFERROR(IF(SUMPRODUCT(('Σύνοψη'!$F$2:$F289=$A42)*('Σύνοψη'!$C$2:$C289=F$3)*('Σύνοψη'!$G$2:$G289=$B42))>0, TEXTJOIN(CHAR(10) & ""-----------------------"" & CHAR(10), TRUE, FILTER('Σύνοψη'!$E$2:$E289 & "" - "" & 'Σύνοψη'!$I$2:$I289 & "" ("" & 'Σύνοψη'!$J$2"&":$J289 & "")"", 'Σύνοψη'!$F$2:$F289=$A42, 'Σύνοψη'!$G$2:$G289=$B42, 'Σύνοψη'!$C$2:$C289=F$3)), IF(SUMPRODUCT(('Σύνοψη'!$F$2:$F289=$A42)*('Σύνοψη'!$C$2:$C289=F$3)*('Σύνοψη'!$G$2:$G289<$B42)*('Σύνοψη'!$H$2:$H289>$B42))>0, CHAR(34), """") ), """")"),"") | G42: =IFERROR(__xludf.DUMMYFUNCTION("IFERROR(IF(SUMPRODUCT(('Σύνοψη'!$F$2:$F289=$A42)*('Σύνοψη'!$C$2:$C289=G$3)*('Σύνοψη'!$G$2:$G289=$B42))>0, TEXTJOIN(CHAR(10) & ""-----------------------"" & CHAR(10), TRUE, FILTER('Σύνοψη'!$E$2:$E289 & "" - "" & 'Σύνοψη'!$I$2:$I289 & "" ("" & 'Σύνοψη'!$J$2"&":$J289 & "")"", 'Σύνοψη'!$F$2:$F289=$A42, 'Σύνοψη'!$G$2:$G289=$B42, 'Σύνοψη'!$C$2:$C289=G$3)), IF(SUMPRODUCT(('Σύνοψη'!$F$2:$F289=$A42)*('Σύνοψη'!$C$2:$C289=G$3)*('Σύνοψη'!$G$2:$G289<$B42)*('Σύνοψη'!$H$2:$H289>$B42))>0, CHAR(34), """") ), """")"),"") | H42: =IFERROR(__xludf.DUMMYFUNCTION("IFERROR(IF(SUMPRODUCT(('Σύνοψη'!$F$2:$F289=$A42)*('Σύνοψη'!$C$2:$C289=H$3)*('Σύνοψη'!$G$2:$G289=$B42))>0, TEXTJOIN(CHAR(10) & ""-----------------------"" & CHAR(10), TRUE, FILTER('Σύνοψη'!$E$2:$E289 & "" - "" & 'Σύνοψη'!$I$2:$I289 & "" ("" & 'Σύνοψη'!$J$2"&":$J289 & "")"", 'Σύνοψη'!$F$2:$F289=$A42, 'Σύνοψη'!$G$2:$G289=$B42, 'Σύνοψη'!$C$2:$C289=H$3)), IF(SUMPRODUCT(('Σύνοψη'!$F$2:$F289=$A42)*('Σύνοψη'!$C$2:$C289=H$3)*('Σύνοψη'!$G$2:$G289<$B42)*('Σύνοψη'!$H$2:$H289>$B42))>0, CHAR(34), """") ), """")"),"Διαγνωστική Παθολογική Αντομική ΙΙΙ (ΠΠΣ) - 18:00 - 21:00 (Αίθουσα Έναντι Χειρουργικής)") -> Διαγνωστική Παθολογική Αντομική ΙΙΙ (ΠΠΣ) - 18:00 - 21:00 (Αίθουσα Έναντι Χειρουργικής)
A43: =$A$32 -> 46267 | B43: 0.79166667 | C43: =IFERROR(__xludf.DUMMYFUNCTION("IFERROR(IF(SUMPRODUCT(('Σύνοψη'!$F$2:$F289=$A43)*('Σύνοψη'!$C$2:$C289=C$3)*('Σύνοψη'!$G$2:$G289=$B43))>0, TEXTJOIN(CHAR(10) & ""-----------------------"" & CHAR(10), TRUE, FILTER('Σύνοψη'!$E$2:$E289 & "" - "" & 'Σύνοψη'!$I$2:$I289 & "" ("" & 'Σύνοψη'!$J$2"&":$J289 & "")"", 'Σύνοψη'!$F$2:$F289=$A43, 'Σύνοψη'!$G$2:$G289=$B43, 'Σύνοψη'!$C$2:$C289=C$3)), IF(SUMPRODUCT(('Σύνοψη'!$F$2:$F289=$A43)*('Σύνοψη'!$C$2:$C289=C$3)*('Σύνοψη'!$G$2:$G289<$B43)*('Σύνοψη'!$H$2:$H289>$B43))>0, CHAR(34), """") ), """")"),"") | D43: =IFERROR(__xludf.DUMMYFUNCTION("IFERROR(IF(SUMPRODUCT(('Σύνοψη'!$F$2:$F289=$A43)*('Σύνοψη'!$C$2:$C289=D$3)*('Σύνοψη'!$G$2:$G289=$B43))>0, TEXTJOIN(CHAR(10) & ""-----------------------"" & CHAR(10), TRUE, FILTER('Σύνοψη'!$E$2:$E289 & "" - "" & 'Σύνοψη'!$I$2:$I289 & "" ("" & 'Σύνοψη'!$J$2"&":$J289 & "")"", 'Σύνοψη'!$F$2:$F289=$A43, 'Σύνοψη'!$G$2:$G289=$B43, 'Σύνοψη'!$C$2:$C289=D$3)), IF(SUMPRODUCT(('Σύνοψη'!$F$2:$F289=$A43)*('Σύνοψη'!$C$2:$C289=D$3)*('Σύνοψη'!$G$2:$G289<$B43)*('Σύνοψη'!$H$2:$H289>$B43))>0, CHAR(34), """") ), """")"),"") | E43: =IFERROR(__xludf.DUMMYFUNCTION("IFERROR(IF(SUMPRODUCT(('Σύνοψη'!$F$2:$F289=$A43)*('Σύνοψη'!$C$2:$C289=E$3)*('Σύνοψη'!$G$2:$G289=$B43))>0, TEXTJOIN(CHAR(10) & ""-----------------------"" & CHAR(10), TRUE, FILTER('Σύνοψη'!$E$2:$E289 & "" - "" & 'Σύνοψη'!$I$2:$I289 & "" ("" & 'Σύνοψη'!$J$2"&":$J289 & "")"", 'Σύνοψη'!$F$2:$F289=$A43, 'Σύνοψη'!$G$2:$G289=$B43, 'Σύνοψη'!$C$2:$C289=E$3)), IF(SUMPRODUCT(('Σύνοψη'!$F$2:$F289=$A43)*('Σύνοψη'!$C$2:$C289=E$3)*('Σύνοψη'!$G$2:$G289<$B43)*('Σύνοψη'!$H$2:$H289>$B43))>0, CHAR(34), """") ), """")"),"") | F43: =IFERROR(__xludf.DUMMYFUNCTION("IFERROR(IF(SUMPRODUCT(('Σύνοψη'!$F$2:$F289=$A43)*('Σύνοψη'!$C$2:$C289=F$3)*('Σύνοψη'!$G$2:$G289=$B43))>0, TEXTJOIN(CHAR(10) & ""-----------------------"" & CHAR(10), TRUE, FILTER('Σύνοψη'!$E$2:$E289 & "" - "" & 'Σύνοψη'!$I$2:$I289 & "" ("" & 'Σύνοψη'!$J$2"&":$J289 & "")"", 'Σύνοψη'!$F$2:$F289=$A43, 'Σύνοψη'!$G$2:$G289=$B43, 'Σύνοψη'!$C$2:$C289=F$3)), IF(SUMPRODUCT(('Σύνοψη'!$F$2:$F289=$A43)*('Σύνοψη'!$C$2:$C289=F$3)*('Σύνοψη'!$G$2:$G289<$B43)*('Σύνοψη'!$H$2:$H289>$B43))>0, CHAR(34), """") ), """")"),"") | G43: =IFERROR(__xludf.DUMMYFUNCTION("IFERROR(IF(SUMPRODUCT(('Σύνοψη'!$F$2:$F289=$A43)*('Σύνοψη'!$C$2:$C289=G$3)*('Σύνοψη'!$G$2:$G289=$B43))>0, TEXTJOIN(CHAR(10) & ""-----------------------"" & CHAR(10), TRUE, FILTER('Σύνοψη'!$E$2:$E289 & "" - "" & 'Σύνοψη'!$I$2:$I289 & "" ("" & 'Σύνοψη'!$J$2"&":$J289 & "")"", 'Σύνοψη'!$F$2:$F289=$A43, 'Σύνοψη'!$G$2:$G289=$B43, 'Σύνοψη'!$C$2:$C289=G$3)), IF(SUMPRODUCT(('Σύνοψη'!$F$2:$F289=$A43)*('Σύνοψη'!$C$2:$C289=G$3)*('Σύνοψη'!$G$2:$G289<$B43)*('Σύνοψη'!$H$2:$H289>$B43))>0, CHAR(34), """") ), """")"),"") | H43: =IFERROR(__xludf.DUMMYFUNCTION("IFERROR(IF(SUMPRODUCT(('Σύνοψη'!$F$2:$F289=$A43)*('Σύνοψη'!$C$2:$C289=H$3)*('Σύνοψη'!$G$2:$G289=$B43))>0, TEXTJOIN(CHAR(10) & ""-----------------------"" & CHAR(10), TRUE, FILTER('Σύνοψη'!$E$2:$E289 & "" - "" & 'Σύνοψη'!$I$2:$I289 & "" ("" & 'Σύνοψη'!$J$2"&":$J289 & "")"", 'Σύνοψη'!$F$2:$F289=$A43, 'Σύνοψη'!$G$2:$G289=$B43, 'Σύνοψη'!$C$2:$C289=H$3)), IF(SUMPRODUCT(('Σύνοψη'!$F$2:$F289=$A43)*('Σύνοψη'!$C$2:$C289=H$3)*('Σύνοψη'!$G$2:$G289<$B43)*('Σύνοψη'!$H$2:$H289>$B43))>0, CHAR(34), """") ), """")"),"""") -> "
A44: =$A$32 -> 46267 | B44: 0.83333333 | C44: =IFERROR(__xludf.DUMMYFUNCTION("IFERROR(IF(SUMPRODUCT(('Σύνοψη'!$F$2:$F289=$A44)*('Σύνοψη'!$C$2:$C289=C$3)*('Σύνοψη'!$G$2:$G289=$B44))>0, TEXTJOIN(CHAR(10) & ""-----------------------"" & CHAR(10), TRUE, FILTER('Σύνοψη'!$E$2:$E289 & "" - "" & 'Σύνοψη'!$I$2:$I289 & "" ("" & 'Σύνοψη'!$J$2"&":$J289 & "")"", 'Σύνοψη'!$F$2:$F289=$A44, 'Σύνοψη'!$G$2:$G289=$B44, 'Σύνοψη'!$C$2:$C289=C$3)), IF(SUMPRODUCT(('Σύνοψη'!$F$2:$F289=$A44)*('Σύνοψη'!$C$2:$C289=C$3)*('Σύνοψη'!$G$2:$G289<$B44)*('Σύνοψη'!$H$2:$H289>$B44))>0, CHAR(34), """") ), """")"),"") | D44: =IFERROR(__xludf.DUMMYFUNCTION("IFERROR(IF(SUMPRODUCT(('Σύνοψη'!$F$2:$F289=$A44)*('Σύνοψη'!$C$2:$C289=D$3)*('Σύνοψη'!$G$2:$G289=$B44))>0, TEXTJOIN(CHAR(10) & ""-----------------------"" & CHAR(10), TRUE, FILTER('Σύνοψη'!$E$2:$E289 & "" - "" & 'Σύνοψη'!$I$2:$I289 & "" ("" & 'Σύνοψη'!$J$2"&":$J289 & "")"", 'Σύνοψη'!$F$2:$F289=$A44, 'Σύνοψη'!$G$2:$G289=$B44, 'Σύνοψη'!$C$2:$C289=D$3)), IF(SUMPRODUCT(('Σύνοψη'!$F$2:$F289=$A44)*('Σύνοψη'!$C$2:$C289=D$3)*('Σύνοψη'!$G$2:$G289<$B44)*('Σύνοψη'!$H$2:$H289>$B44))>0, CHAR(34), """") ), """")"),"") | E44: =IFERROR(__xludf.DUMMYFUNCTION("IFERROR(IF(SUMPRODUCT(('Σύνοψη'!$F$2:$F289=$A44)*('Σύνοψη'!$C$2:$C289=E$3)*('Σύνοψη'!$G$2:$G289=$B44))>0, TEXTJOIN(CHAR(10) & ""-----------------------"" & CHAR(10), TRUE, FILTER('Σύνοψη'!$E$2:$E289 & "" - "" & 'Σύνοψη'!$I$2:$I289 & "" ("" & 'Σύνοψη'!$J$2"&":$J289 & "")"", 'Σύνοψη'!$F$2:$F289=$A44, 'Σύνοψη'!$G$2:$G289=$B44, 'Σύνοψη'!$C$2:$C289=E$3)), IF(SUMPRODUCT(('Σύνοψη'!$F$2:$F289=$A44)*('Σύνοψη'!$C$2:$C289=E$3)*('Σύνοψη'!$G$2:$G289<$B44)*('Σύνοψη'!$H$2:$H289>$B44))>0, CHAR(34), """") ), """")"),"") | F44: =IFERROR(__xludf.DUMMYFUNCTION("IFERROR(IF(SUMPRODUCT(('Σύνοψη'!$F$2:$F289=$A44)*('Σύνοψη'!$C$2:$C289=F$3)*('Σύνοψη'!$G$2:$G289=$B44))>0, TEXTJOIN(CHAR(10) & ""-----------------------"" & CHAR(10), TRUE, FILTER('Σύνοψη'!$E$2:$E289 & "" - "" & 'Σύνοψη'!$I$2:$I289 & "" ("" & 'Σύνοψη'!$J$2"&":$J289 & "")"", 'Σύνοψη'!$F$2:$F289=$A44, 'Σύνοψη'!$G$2:$G289=$B44, 'Σύνοψη'!$C$2:$C289=F$3)), IF(SUMPRODUCT(('Σύνοψη'!$F$2:$F289=$A44)*('Σύνοψη'!$C$2:$C289=F$3)*('Σύνοψη'!$G$2:$G289<$B44)*('Σύνοψη'!$H$2:$H289>$B44))>0, CHAR(34), """") ), """")"),"") | G44: =IFERROR(__xludf.DUMMYFUNCTION("IFERROR(IF(SUMPRODUCT(('Σύνοψη'!$F$2:$F289=$A44)*('Σύνοψη'!$C$2:$C289=G$3)*('Σύνοψη'!$G$2:$G289=$B44))>0, TEXTJOIN(CHAR(10) & ""-----------------------"" & CHAR(10), TRUE, FILTER('Σύνοψη'!$E$2:$E289 & "" - "" & 'Σύνοψη'!$I$2:$I289 & "" ("" & 'Σύνοψη'!$J$2"&":$J289 & "")"", 'Σύνοψη'!$F$2:$F289=$A44, 'Σύνοψη'!$G$2:$G289=$B44, 'Σύνοψη'!$C$2:$C289=G$3)), IF(SUMPRODUCT(('Σύνοψη'!$F$2:$F289=$A44)*('Σύνοψη'!$C$2:$C289=G$3)*('Σύνοψη'!$G$2:$G289<$B44)*('Σύνοψη'!$H$2:$H289>$B44))>0, CHAR(34), """") ), """")"),"") | H44: =IFERROR(__xludf.DUMMYFUNCTION("IFERROR(IF(SUMPRODUCT(('Σύνοψη'!$F$2:$F289=$A44)*('Σύνοψη'!$C$2:$C289=H$3)*('Σύνοψη'!$G$2:$G289=$B44))>0, TEXTJOIN(CHAR(10) & ""-----------------------"" & CHAR(10), TRUE, FILTER('Σύνοψη'!$E$2:$E289 & "" - "" & 'Σύνοψη'!$I$2:$I289 & "" ("" & 'Σύνοψη'!$J$2"&":$J289 & "")"", 'Σύνοψη'!$F$2:$F289=$A44, 'Σύνοψη'!$G$2:$G289=$B44, 'Σύνοψη'!$C$2:$C289=H$3)), IF(SUMPRODUCT(('Σύνοψη'!$F$2:$F289=$A44)*('Σύνοψη'!$C$2:$C289=H$3)*('Σύνοψη'!$G$2:$G289<$B44)*('Σύνοψη'!$H$2:$H289>$B44))>0, CHAR(34), """") ), """")"),"""") -> "
A45: =$A$32 -> 46267 | B45: 0.875 | C45: =IFERROR(__xludf.DUMMYFUNCTION("IFERROR(IF(SUMPRODUCT(('Σύνοψη'!$F$2:$F289=$A45)*('Σύνοψη'!$C$2:$C289=C$3)*('Σύνοψη'!$G$2:$G289=$B45))>0, TEXTJOIN(CHAR(10) & ""-----------------------"" & CHAR(10), TRUE, FILTER('Σύνοψη'!$E$2:$E289 & "" - "" & 'Σύνοψη'!$I$2:$I289 & "" ("" & 'Σύνοψη'!$J$2"&":$J289 & "")"", 'Σύνοψη'!$F$2:$F289=$A45, 'Σύνοψη'!$G$2:$G289=$B45, 'Σύνοψη'!$C$2:$C289=C$3)), IF(SUMPRODUCT(('Σύνοψη'!$F$2:$F289=$A45)*('Σύνοψη'!$C$2:$C289=C$3)*('Σύνοψη'!$G$2:$G289<$B45)*('Σύνοψη'!$H$2:$H289>$B45))>0, CHAR(34), """") ), """")"),"") | D45: =IFERROR(__xludf.DUMMYFUNCTION("IFERROR(IF(SUMPRODUCT(('Σύνοψη'!$F$2:$F289=$A45)*('Σύνοψη'!$C$2:$C289=D$3)*('Σύνοψη'!$G$2:$G289=$B45))>0, TEXTJOIN(CHAR(10) & ""-----------------------"" & CHAR(10), TRUE, FILTER('Σύνοψη'!$E$2:$E289 & "" - "" & 'Σύνοψη'!$I$2:$I289 & "" ("" & 'Σύνοψη'!$J$2"&":$J289 & "")"", 'Σύνοψη'!$F$2:$F289=$A45, 'Σύνοψη'!$G$2:$G289=$B45, 'Σύνοψη'!$C$2:$C289=D$3)), IF(SUMPRODUCT(('Σύνοψη'!$F$2:$F289=$A45)*('Σύνοψη'!$C$2:$C289=D$3)*('Σύνοψη'!$G$2:$G289<$B45)*('Σύνοψη'!$H$2:$H289>$B45))>0, CHAR(34), """") ), """")"),"") | E45: =IFERROR(__xludf.DUMMYFUNCTION("IFERROR(IF(SUMPRODUCT(('Σύνοψη'!$F$2:$F289=$A45)*('Σύνοψη'!$C$2:$C289=E$3)*('Σύνοψη'!$G$2:$G289=$B45))>0, TEXTJOIN(CHAR(10) & ""-----------------------"" & CHAR(10), TRUE, FILTER('Σύνοψη'!$E$2:$E289 & "" - "" & 'Σύνοψη'!$I$2:$I289 & "" ("" & 'Σύνοψη'!$J$2"&":$J289 & "")"", 'Σύνοψη'!$F$2:$F289=$A45, 'Σύνοψη'!$G$2:$G289=$B45, 'Σύνοψη'!$C$2:$C289=E$3)), IF(SUMPRODUCT(('Σύνοψη'!$F$2:$F289=$A45)*('Σύνοψη'!$C$2:$C289=E$3)*('Σύνοψη'!$G$2:$G289<$B45)*('Σύνοψη'!$H$2:$H289>$B45))>0, CHAR(34), """") ), """")"),"") | F45: =IFERROR(__xludf.DUMMYFUNCTION("IFERROR(IF(SUMPRODUCT(('Σύνοψη'!$F$2:$F289=$A45)*('Σύνοψη'!$C$2:$C289=F$3)*('Σύνοψη'!$G$2:$G289=$B45))>0, TEXTJOIN(CHAR(10) & ""-----------------------"" & CHAR(10), TRUE, FILTER('Σύνοψη'!$E$2:$E289 & "" - "" & 'Σύνοψη'!$I$2:$I289 & "" ("" & 'Σύνοψη'!$J$2"&":$J289 & "")"", 'Σύνοψη'!$F$2:$F289=$A45, 'Σύνοψη'!$G$2:$G289=$B45, 'Σύνοψη'!$C$2:$C289=F$3)), IF(SUMPRODUCT(('Σύνοψη'!$F$2:$F289=$A45)*('Σύνοψη'!$C$2:$C289=F$3)*('Σύνοψη'!$G$2:$G289<$B45)*('Σύνοψη'!$H$2:$H289>$B45))>0, CHAR(34), """") ), """")"),"") | G45: =IFERROR(__xludf.DUMMYFUNCTION("IFERROR(IF(SUMPRODUCT(('Σύνοψη'!$F$2:$F289=$A45)*('Σύνοψη'!$C$2:$C289=G$3)*('Σύνοψη'!$G$2:$G289=$B45))>0, TEXTJOIN(CHAR(10) & ""-----------------------"" & CHAR(10), TRUE, FILTER('Σύνοψη'!$E$2:$E289 & "" - "" & 'Σύνοψη'!$I$2:$I289 & "" ("" & 'Σύνοψη'!$J$2"&":$J289 & "")"", 'Σύνοψη'!$F$2:$F289=$A45, 'Σύνοψη'!$G$2:$G289=$B45, 'Σύνοψη'!$C$2:$C289=G$3)), IF(SUMPRODUCT(('Σύνοψη'!$F$2:$F289=$A45)*('Σύνοψη'!$C$2:$C289=G$3)*('Σύνοψη'!$G$2:$G289<$B45)*('Σύνοψη'!$H$2:$H289>$B45))>0, CHAR(34), """") ), """")"),"") | H45: =IFERROR(__xludf.DUMMYFUNCTION("IFERROR(IF(SUMPRODUCT(('Σύνοψη'!$F$2:$F289=$A45)*('Σύνοψη'!$C$2:$C289=H$3)*('Σύνοψη'!$G$2:$G289=$B45))>0, TEXTJOIN(CHAR(10) & ""-----------------------"" & CHAR(10), TRUE, FILTER('Σύνοψη'!$E$2:$E289 & "" - "" & 'Σύνοψη'!$I$2:$I289 & "" ("" & 'Σύνοψη'!$J$2"&":$J289 & "")"", 'Σύνοψη'!$F$2:$F289=$A45, 'Σύνοψη'!$G$2:$G289=$B45, 'Σύνοψη'!$C$2:$C289=H$3)), IF(SUMPRODUCT(('Σύνοψη'!$F$2:$F289=$A45)*('Σύνοψη'!$C$2:$C289=H$3)*('Σύνοψη'!$G$2:$G289<$B45)*('Σύνοψη'!$H$2:$H289>$B45))>0, CHAR(34), """") ), """")"),"")
A46: =$D$1+3 -> 46268 | B46: 0.33333333 | C46: =IFERROR(__xludf.DUMMYFUNCTION("IFERROR(IF(SUMPRODUCT(('Σύνοψη'!$F$2:$F289=$A46)*('Σύνοψη'!$C$2:$C289=C$3)*('Σύνοψη'!$G$2:$G289=$B46))>0, TEXTJOIN(CHAR(10) & ""-----------------------"" & CHAR(10), TRUE, FILTER('Σύνοψη'!$E$2:$E289 & "" - "" & 'Σύνοψη'!$I$2:$I289 & "" ("" & 'Σύνοψη'!$J$2"&":$J289 & "")"", 'Σύνοψη'!$F$2:$F289=$A46, 'Σύνοψη'!$G$2:$G289=$B46, 'Σύνοψη'!$C$2:$C289=C$3)), IF(SUMPRODUCT(('Σύνοψη'!$F$2:$F289=$A46)*('Σύνοψη'!$C$2:$C289=C$3)*('Σύνοψη'!$G$2:$G289<$B46)*('Σύνοψη'!$H$2:$H289>$B46))>0, CHAR(34), """") ), """")"),"") | D46: =IFERROR(__xludf.DUMMYFUNCTION("IFERROR(IF(SUMPRODUCT(('Σύνοψη'!$F$2:$F289=$A46)*('Σύνοψη'!$C$2:$C289=D$3)*('Σύνοψη'!$G$2:$G289=$B46))>0, TEXTJOIN(CHAR(10) & ""-----------------------"" & CHAR(10), TRUE, FILTER('Σύνοψη'!$E$2:$E289 & "" - "" & 'Σύνοψη'!$I$2:$I289 & "" ("" & 'Σύνοψη'!$J$2"&":$J289 & "")"", 'Σύνοψη'!$F$2:$F289=$A46, 'Σύνοψη'!$G$2:$G289=$B46, 'Σύνοψη'!$C$2:$C289=D$3)), IF(SUMPRODUCT(('Σύνοψη'!$F$2:$F289=$A46)*('Σύνοψη'!$C$2:$C289=D$3)*('Σύνοψη'!$G$2:$G289<$B46)*('Σύνοψη'!$H$2:$H289>$B46))>0, CHAR(34), """") ), """")"),"") | E46: =IFERROR(__xludf.DUMMYFUNCTION("IFERROR(IF(SUMPRODUCT(('Σύνοψη'!$F$2:$F289=$A46)*('Σύνοψη'!$C$2:$C289=E$3)*('Σύνοψη'!$G$2:$G289=$B46))>0, TEXTJOIN(CHAR(10) & ""-----------------------"" & CHAR(10), TRUE, FILTER('Σύνοψη'!$E$2:$E289 & "" - "" & 'Σύνοψη'!$I$2:$I289 & "" ("" & 'Σύνοψη'!$J$2"&":$J289 & "")"", 'Σύνοψη'!$F$2:$F289=$A46, 'Σύνοψη'!$G$2:$G289=$B46, 'Σύνοψη'!$C$2:$C289=E$3)), IF(SUMPRODUCT(('Σύνοψη'!$F$2:$F289=$A46)*('Σύνοψη'!$C$2:$C289=E$3)*('Σύνοψη'!$G$2:$G289<$B46)*('Σύνοψη'!$H$2:$H289>$B46))>0, CHAR(34), """") ), """")"),"") | F46: =IFERROR(__xludf.DUMMYFUNCTION("IFERROR(IF(SUMPRODUCT(('Σύνοψη'!$F$2:$F289=$A46)*('Σύνοψη'!$C$2:$C289=F$3)*('Σύνοψη'!$G$2:$G289=$B46))>0, TEXTJOIN(CHAR(10) & ""-----------------------"" & CHAR(10), TRUE, FILTER('Σύνοψη'!$E$2:$E289 & "" - "" & 'Σύνοψη'!$I$2:$I289 & "" ("" & 'Σύνοψη'!$J$2"&":$J289 & "")"", 'Σύνοψη'!$F$2:$F289=$A46, 'Σύνοψη'!$G$2:$G289=$B46, 'Σύνοψη'!$C$2:$C289=F$3)), IF(SUMPRODUCT(('Σύνοψη'!$F$2:$F289=$A46)*('Σύνοψη'!$C$2:$C289=F$3)*('Σύνοψη'!$G$2:$G289<$B46)*('Σύνοψη'!$H$2:$H289>$B46))>0, CHAR(34), """") ), """")"),"") | G46: =IFERROR(__xludf.DUMMYFUNCTION("IFERROR(IF(SUMPRODUCT(('Σύνοψη'!$F$2:$F289=$A46)*('Σύνοψη'!$C$2:$C289=G$3)*('Σύνοψη'!$G$2:$G289=$B46))>0, TEXTJOIN(CHAR(10) & ""-----------------------"" & CHAR(10), TRUE, FILTER('Σύνοψη'!$E$2:$E289 & "" - "" & 'Σύνοψη'!$I$2:$I289 & "" ("" & 'Σύνοψη'!$J$2"&":$J289 & "")"", 'Σύνοψη'!$F$2:$F289=$A46, 'Σύνοψη'!$G$2:$G289=$B46, 'Σύνοψη'!$C$2:$C289=G$3)), IF(SUMPRODUCT(('Σύνοψη'!$F$2:$F289=$A46)*('Σύνοψη'!$C$2:$C289=G$3)*('Σύνοψη'!$G$2:$G289<$B46)*('Σύνοψη'!$H$2:$H289>$B46))>0, CHAR(34), """") ), """")"),"") | H46: =IFERROR(__xludf.DUMMYFUNCTION("IFERROR(IF(SUMPRODUCT(('Σύνοψη'!$F$2:$F289=$A46)*('Σύνοψη'!$C$2:$C289=H$3)*('Σύνοψη'!$G$2:$G289=$B46))>0, TEXTJOIN(CHAR(10) & ""-----------------------"" & CHAR(10), TRUE, FILTER('Σύνοψη'!$E$2:$E289 & "" - "" & 'Σύνοψη'!$I$2:$I289 & "" ("" & 'Σύνοψη'!$J$2"&":$J289 & "")"", 'Σύνοψη'!$F$2:$F289=$A46, 'Σύνοψη'!$G$2:$G289=$B46, 'Σύνοψη'!$C$2:$C289=H$3)), IF(SUMPRODUCT(('Σύνοψη'!$F$2:$F289=$A46)*('Σύνοψη'!$C$2:$C289=H$3)*('Σύνοψη'!$G$2:$G289<$B46)*('Σύνοψη'!$H$2:$H289>$B46))>0, CHAR(34), """") ), """")"),"")
A47: =$A$46 -> 46268 | B47: 0.375 | C47: =IFERROR(__xludf.DUMMYFUNCTION("IFERROR(IF(SUMPRODUCT(('Σύνοψη'!$F$2:$F289=$A47)*('Σύνοψη'!$C$2:$C289=C$3)*('Σύνοψη'!$G$2:$G289=$B47))>0, TEXTJOIN(CHAR(10) & ""-----------------------"" & CHAR(10), TRUE, FILTER('Σύνοψη'!$E$2:$E289 & "" - "" & 'Σύνοψη'!$I$2:$I289 & "" ("" & 'Σύνοψη'!$J$2"&":$J289 & "")"", 'Σύνοψη'!$F$2:$F289=$A47, 'Σύνοψη'!$G$2:$G289=$B47, 'Σύνοψη'!$C$2:$C289=C$3)), IF(SUMPRODUCT(('Σύνοψη'!$F$2:$F289=$A47)*('Σύνοψη'!$C$2:$C289=C$3)*('Σύνοψη'!$G$2:$G289<$B47)*('Σύνοψη'!$H$2:$H289>$B47))>0, CHAR(34), """") ), """")"),"") | D47: =IFERROR(__xludf.DUMMYFUNCTION("IFERROR(IF(SUMPRODUCT(('Σύνοψη'!$F$2:$F289=$A47)*('Σύνοψη'!$C$2:$C289=D$3)*('Σύνοψη'!$G$2:$G289=$B47))>0, TEXTJOIN(CHAR(10) & ""-----------------------"" & CHAR(10), TRUE, FILTER('Σύνοψη'!$E$2:$E289 & "" - "" & 'Σύνοψη'!$I$2:$I289 & "" ("" & 'Σύνοψη'!$J$2"&":$J289 & "")"", 'Σύνοψη'!$F$2:$F289=$A47, 'Σύνοψη'!$G$2:$G289=$B47, 'Σύνοψη'!$C$2:$C289=D$3)), IF(SUMPRODUCT(('Σύνοψη'!$F$2:$F289=$A47)*('Σύνοψη'!$C$2:$C289=D$3)*('Σύνοψη'!$G$2:$G289<$B47)*('Σύνοψη'!$H$2:$H289>$B47))>0, CHAR(34), """") ), """")"),"") | E47: =IFERROR(__xludf.DUMMYFUNCTION("IFERROR(IF(SUMPRODUCT(('Σύνοψη'!$F$2:$F289=$A47)*('Σύνοψη'!$C$2:$C289=E$3)*('Σύνοψη'!$G$2:$G289=$B47))>0, TEXTJOIN(CHAR(10) & ""-----------------------"" & CHAR(10), TRUE, FILTER('Σύνοψη'!$E$2:$E289 & "" - "" & 'Σύνοψη'!$I$2:$I289 & "" ("" & 'Σύνοψη'!$J$2"&":$J289 & "")"", 'Σύνοψη'!$F$2:$F289=$A47, 'Σύνοψη'!$G$2:$G289=$B47, 'Σύνοψη'!$C$2:$C289=E$3)), IF(SUMPRODUCT(('Σύνοψη'!$F$2:$F289=$A47)*('Σύνοψη'!$C$2:$C289=E$3)*('Σύνοψη'!$G$2:$G289<$B47)*('Σύνοψη'!$H$2:$H289>$B47))>0, CHAR(34), """") ), """")"),"") | F47: =IFERROR(__xludf.DUMMYFUNCTION("IFERROR(IF(SUMPRODUCT(('Σύνοψη'!$F$2:$F289=$A47)*('Σύνοψη'!$C$2:$C289=F$3)*('Σύνοψη'!$G$2:$G289=$B47))>0, TEXTJOIN(CHAR(10) & ""-----------------------"" & CHAR(10), TRUE, FILTER('Σύνοψη'!$E$2:$E289 & "" - "" & 'Σύνοψη'!$I$2:$I289 & "" ("" & 'Σύνοψη'!$J$2"&":$J289 & "")"", 'Σύνοψη'!$F$2:$F289=$A47, 'Σύνοψη'!$G$2:$G289=$B47, 'Σύνοψη'!$C$2:$C289=F$3)), IF(SUMPRODUCT(('Σύνοψη'!$F$2:$F289=$A47)*('Σύνοψη'!$C$2:$C289=F$3)*('Σύνοψη'!$G$2:$G289<$B47)*('Σύνοψη'!$H$2:$H289>$B47))>0, CHAR(34), """") ), """")"),"") | G47: =IFERROR(__xludf.DUMMYFUNCTION("IFERROR(IF(SUMPRODUCT(('Σύνοψη'!$F$2:$F289=$A47)*('Σύνοψη'!$C$2:$C289=G$3)*('Σύνοψη'!$G$2:$G289=$B47))>0, TEXTJOIN(CHAR(10) & ""-----------------------"" & CHAR(10), TRUE, FILTER('Σύνοψη'!$E$2:$E289 & "" - "" & 'Σύνοψη'!$I$2:$I289 & "" ("" & 'Σύνοψη'!$J$2"&":$J289 & "")"", 'Σύνοψη'!$F$2:$F289=$A47, 'Σύνοψη'!$G$2:$G289=$B47, 'Σύνοψη'!$C$2:$C289=G$3)), IF(SUMPRODUCT(('Σύνοψη'!$F$2:$F289=$A47)*('Σύνοψη'!$C$2:$C289=G$3)*('Σύνοψη'!$G$2:$G289<$B47)*('Σύνοψη'!$H$2:$H289>$B47))>0, CHAR(34), """") ), """")"),"Πρακτική Άσκηση στην Παθολογία Ζώων Συντροφιάς Ι (2η ημέρα) - 09:00 - 15:00 (Παθολογική Κλινική) ----------------------- Πρακτική Άσκηση στην Παθολογία Ζώων Συντροφιάς ΙΙ (2η ημέρα) - 09:00 - 15:00 (Παθολογική Κλινική)") -> Πρακτική Άσκηση στην Παθολογία Ζώων Συντροφιάς Ι (2η ημέρα) - 09:00 - 15:00 (Παθολογική Κλινική) ----------------------- Πρακτική Άσκηση στην Παθολογία Ζώων Συντροφιάς ΙΙ (2η ημέρα) - 09:00 - 15:00 (Παθολογική Κλινική) | H47: =IFERROR(__xludf.DUMMYFUNCTION("IFERROR(IF(SUMPRODUCT(('Σύνοψη'!$F$2:$F289=$A47)*('Σύνοψη'!$C$2:$C289=H$3)*('Σύνοψη'!$G$2:$G289=$B47))>0, TEXTJOIN(CHAR(10) & ""-----------------------"" & CHAR(10), TRUE, FILTER('Σύνοψη'!$E$2:$E289 & "" - "" & 'Σύνοψη'!$I$2:$I289 & "" ("" & 'Σύνοψη'!$J$2"&":$J289 & "")"", 'Σύνοψη'!$F$2:$F289=$A47, 'Σύνοψη'!$G$2:$G289=$B47, 'Σύνοψη'!$C$2:$C289=H$3)), IF(SUMPRODUCT(('Σύνοψη'!$F$2:$F289=$A47)*('Σύνοψη'!$C$2:$C289=H$3)*('Σύνοψη'!$G$2:$G289<$B47)*('Σύνοψη'!$H$2:$H289>$B47))>0, CHAR(34), """") ), """")"),"Ειδικη Παθολογία ΖΣ V (ΠΠΣ) (Πρακτικά) (2η ημέρα) - 09:00 - 15:00 (Παθολογική Κλινική)") -> Ειδικη Παθολογία ΖΣ V (ΠΠΣ) (Πρακτικά) (2η ημέρα) - 09:00 - 15:00 (Παθολογική Κλινική)
A48: =$A$46 -> 46268 | B48: 0.41666667 | C48: =IFERROR(__xludf.DUMMYFUNCTION("IFERROR(IF(SUMPRODUCT(('Σύνοψη'!$F$2:$F289=$A48)*('Σύνοψη'!$C$2:$C289=C$3)*('Σύνοψη'!$G$2:$G289=$B48))>0, TEXTJOIN(CHAR(10) & ""-----------------------"" & CHAR(10), TRUE, FILTER('Σύνοψη'!$E$2:$E289 & "" - "" & 'Σύνοψη'!$I$2:$I289 & "" ("" & 'Σύνοψη'!$J$2"&":$J289 & "")"", 'Σύνοψη'!$F$2:$F289=$A48, 'Σύνοψη'!$G$2:$G289=$B48, 'Σύνοψη'!$C$2:$C289=C$3)), IF(SUMPRODUCT(('Σύνοψη'!$F$2:$F289=$A48)*('Σύνοψη'!$C$2:$C289=C$3)*('Σύνοψη'!$G$2:$G289<$B48)*('Σύνοψη'!$H$2:$H289>$B48))>0, CHAR(34), """") ), """")"),"") | D48: =IFERROR(__xludf.DUMMYFUNCTION("IFERROR(IF(SUMPRODUCT(('Σύνοψη'!$F$2:$F289=$A48)*('Σύνοψη'!$C$2:$C289=D$3)*('Σύνοψη'!$G$2:$G289=$B48))>0, TEXTJOIN(CHAR(10) & ""-----------------------"" & CHAR(10), TRUE, FILTER('Σύνοψη'!$E$2:$E289 & "" - "" & 'Σύνοψη'!$I$2:$I289 & "" ("" & 'Σύνοψη'!$J$2"&":$J289 & "")"", 'Σύνοψη'!$F$2:$F289=$A48, 'Σύνοψη'!$G$2:$G289=$B48, 'Σύνοψη'!$C$2:$C289=D$3)), IF(SUMPRODUCT(('Σύνοψη'!$F$2:$F289=$A48)*('Σύνοψη'!$C$2:$C289=D$3)*('Σύνοψη'!$G$2:$G289<$B48)*('Σύνοψη'!$H$2:$H289>$B48))>0, CHAR(34), """") ), """")"),"") | E48: =IFERROR(__xludf.DUMMYFUNCTION("IFERROR(IF(SUMPRODUCT(('Σύνοψη'!$F$2:$F289=$A48)*('Σύνοψη'!$C$2:$C289=E$3)*('Σύνοψη'!$G$2:$G289=$B48))>0, TEXTJOIN(CHAR(10) & ""-----------------------"" & CHAR(10), TRUE, FILTER('Σύνοψη'!$E$2:$E289 & "" - "" & 'Σύνοψη'!$I$2:$I289 & "" ("" & 'Σύνοψη'!$J$2"&":$J289 & "")"", 'Σύνοψη'!$F$2:$F289=$A48, 'Σύνοψη'!$G$2:$G289=$B48, 'Σύνοψη'!$C$2:$C289=E$3)), IF(SUMPRODUCT(('Σύνοψη'!$F$2:$F289=$A48)*('Σύνοψη'!$C$2:$C289=E$3)*('Σύνοψη'!$G$2:$G289<$B48)*('Σύνοψη'!$H$2:$H289>$B48))>0, CHAR(34), """") ), """")"),"") | F48: =IFERROR(__xludf.DUMMYFUNCTION("IFERROR(IF(SUMPRODUCT(('Σύνοψη'!$F$2:$F289=$A48)*('Σύνοψη'!$C$2:$C289=F$3)*('Σύνοψη'!$G$2:$G289=$B48))>0, TEXTJOIN(CHAR(10) & ""-----------------------"" & CHAR(10), TRUE, FILTER('Σύνοψη'!$E$2:$E289 & "" - "" & 'Σύνοψη'!$I$2:$I289 & "" ("" & 'Σύνοψη'!$J$2"&":$J289 & "")"", 'Σύνοψη'!$F$2:$F289=$A48, 'Σύνοψη'!$G$2:$G289=$B48, 'Σύνοψη'!$C$2:$C289=F$3)), IF(SUMPRODUCT(('Σύνοψη'!$F$2:$F289=$A48)*('Σύνοψη'!$C$2:$C289=F$3)*('Σύνοψη'!$G$2:$G289<$B48)*('Σύνοψη'!$H$2:$H289>$B48))>0, CHAR(34), """") ), """")"),"") | G48: =IFERROR(__xludf.DUMMYFUNCTION("IFERROR(IF(SUMPRODUCT(('Σύνοψη'!$F$2:$F289=$A48)*('Σύνοψη'!$C$2:$C289=G$3)*('Σύνοψη'!$G$2:$G289=$B48))>0, TEXTJOIN(CHAR(10) & ""-----------------------"" & CHAR(10), TRUE, FILTER('Σύνοψη'!$E$2:$E289 & "" - "" & 'Σύνοψη'!$I$2:$I289 & "" ("" & 'Σύνοψη'!$J$2"&":$J289 & "")"", 'Σύνοψη'!$F$2:$F289=$A48, 'Σύνοψη'!$G$2:$G289=$B48, 'Σύνοψη'!$C$2:$C289=G$3)), IF(SUMPRODUCT(('Σύνοψη'!$F$2:$F289=$A48)*('Σύνοψη'!$C$2:$C289=G$3)*('Σύνοψη'!$G$2:$G289<$B48)*('Σύνοψη'!$H$2:$H289>$B48))>0, CHAR(34), """") ), """")"),"""") -> " | H48: =IFERROR(__xludf.DUMMYFUNCTION("IFERROR(IF(SUMPRODUCT(('Σύνοψη'!$F$2:$F289=$A48)*('Σύνοψη'!$C$2:$C289=H$3)*('Σύνοψη'!$G$2:$G289=$B48))>0, TEXTJOIN(CHAR(10) & ""-----------------------"" & CHAR(10), TRUE, FILTER('Σύνοψη'!$E$2:$E289 & "" - "" & 'Σύνοψη'!$I$2:$I289 & "" ("" & 'Σύνοψη'!$J$2"&":$J289 & "")"", 'Σύνοψη'!$F$2:$F289=$A48, 'Σύνοψη'!$G$2:$G289=$B48, 'Σύνοψη'!$C$2:$C289=H$3)), IF(SUMPRODUCT(('Σύνοψη'!$F$2:$F289=$A48)*('Σύνοψη'!$C$2:$C289=H$3)*('Σύνοψη'!$G$2:$G289<$B48)*('Σύνοψη'!$H$2:$H289>$B48))>0, CHAR(34), """") ), """")"),"""") -> "
A49: =$A$46 -> 46268 | B49: 0.45833333 | C49: =IFERROR(__xludf.DUMMYFUNCTION("IFERROR(IF(SUMPRODUCT(('Σύνοψη'!$F$2:$F289=$A49)*('Σύνοψη'!$C$2:$C289=C$3)*('Σύνοψη'!$G$2:$G289=$B49))>0, TEXTJOIN(CHAR(10) & ""-----------------------"" & CHAR(10), TRUE, FILTER('Σύνοψη'!$E$2:$E289 & "" - "" & 'Σύνοψη'!$I$2:$I289 & "" ("" & 'Σύνοψη'!$J$2"&":$J289 & "")"", 'Σύνοψη'!$F$2:$F289=$A49, 'Σύνοψη'!$G$2:$G289=$B49, 'Σύνοψη'!$C$2:$C289=C$3)), IF(SUMPRODUCT(('Σύνοψη'!$F$2:$F289=$A49)*('Σύνοψη'!$C$2:$C289=C$3)*('Σύνοψη'!$G$2:$G289<$B49)*('Σύνοψη'!$H$2:$H289>$B49))>0, CHAR(34), """") ), """")"),"") | D49: =IFERROR(__xludf.DUMMYFUNCTION("IFERROR(IF(SUMPRODUCT(('Σύνοψη'!$F$2:$F289=$A49)*('Σύνοψη'!$C$2:$C289=D$3)*('Σύνοψη'!$G$2:$G289=$B49))>0, TEXTJOIN(CHAR(10) & ""-----------------------"" & CHAR(10), TRUE, FILTER('Σύνοψη'!$E$2:$E289 & "" - "" & 'Σύνοψη'!$I$2:$I289 & "" ("" & 'Σύνοψη'!$J$2"&":$J289 & "")"", 'Σύνοψη'!$F$2:$F289=$A49, 'Σύνοψη'!$G$2:$G289=$B49, 'Σύνοψη'!$C$2:$C289=D$3)), IF(SUMPRODUCT(('Σύνοψη'!$F$2:$F289=$A49)*('Σύνοψη'!$C$2:$C289=D$3)*('Σύνοψη'!$G$2:$G289<$B49)*('Σύνοψη'!$H$2:$H289>$B49))>0, CHAR(34), """") ), """")"),"") | E49: =IFERROR(__xludf.DUMMYFUNCTION("IFERROR(IF(SUMPRODUCT(('Σύνοψη'!$F$2:$F289=$A49)*('Σύνοψη'!$C$2:$C289=E$3)*('Σύνοψη'!$G$2:$G289=$B49))>0, TEXTJOIN(CHAR(10) & ""-----------------------"" & CHAR(10), TRUE, FILTER('Σύνοψη'!$E$2:$E289 & "" - "" & 'Σύνοψη'!$I$2:$I289 & "" ("" & 'Σύνοψη'!$J$2"&":$J289 & "")"", 'Σύνοψη'!$F$2:$F289=$A49, 'Σύνοψη'!$G$2:$G289=$B49, 'Σύνοψη'!$C$2:$C289=E$3)), IF(SUMPRODUCT(('Σύνοψη'!$F$2:$F289=$A49)*('Σύνοψη'!$C$2:$C289=E$3)*('Σύνοψη'!$G$2:$G289<$B49)*('Σύνοψη'!$H$2:$H289>$B49))>0, CHAR(34), """") ), """")"),"") | F49: =IFERROR(__xludf.DUMMYFUNCTION("IFERROR(IF(SUMPRODUCT(('Σύνοψη'!$F$2:$F289=$A49)*('Σύνοψη'!$C$2:$C289=F$3)*('Σύνοψη'!$G$2:$G289=$B49))>0, TEXTJOIN(CHAR(10) & ""-----------------------"" & CHAR(10), TRUE, FILTER('Σύνοψη'!$E$2:$E289 & "" - "" & 'Σύνοψη'!$I$2:$I289 & "" ("" & 'Σύνοψη'!$J$2"&":$J289 & "")"", 'Σύνοψη'!$F$2:$F289=$A49, 'Σύνοψη'!$G$2:$G289=$B49, 'Σύνοψη'!$C$2:$C289=F$3)), IF(SUMPRODUCT(('Σύνοψη'!$F$2:$F289=$A49)*('Σύνοψη'!$C$2:$C289=F$3)*('Σύνοψη'!$G$2:$G289<$B49)*('Σύνοψη'!$H$2:$H289>$B49))>0, CHAR(34), """") ), """")"),"") | G49: =IFERROR(__xludf.DUMMYFUNCTION("IFERROR(IF(SUMPRODUCT(('Σύνοψη'!$F$2:$F289=$A49)*('Σύνοψη'!$C$2:$C289=G$3)*('Σύνοψη'!$G$2:$G289=$B49))>0, TEXTJOIN(CHAR(10) & ""-----------------------"" & CHAR(10), TRUE, FILTER('Σύνοψη'!$E$2:$E289 & "" - "" & 'Σύνοψη'!$I$2:$I289 & "" ("" & 'Σύνοψη'!$J$2"&":$J289 & "")"", 'Σύνοψη'!$F$2:$F289=$A49, 'Σύνοψη'!$G$2:$G289=$B49, 'Σύνοψη'!$C$2:$C289=G$3)), IF(SUMPRODUCT(('Σύνοψη'!$F$2:$F289=$A49)*('Σύνοψη'!$C$2:$C289=G$3)*('Σύνοψη'!$G$2:$G289<$B49)*('Σύνοψη'!$H$2:$H289>$B49))>0, CHAR(34), """") ), """")"),"""") -> " | H49: =IFERROR(__xludf.DUMMYFUNCTION("IFERROR(IF(SUMPRODUCT(('Σύνοψη'!$F$2:$F289=$A49)*('Σύνοψη'!$C$2:$C289=H$3)*('Σύνοψη'!$G$2:$G289=$B49))>0, TEXTJOIN(CHAR(10) & ""-----------------------"" & CHAR(10), TRUE, FILTER('Σύνοψη'!$E$2:$E289 & "" - "" & 'Σύνοψη'!$I$2:$I289 & "" ("" & 'Σύνοψη'!$J$2"&":$J289 & "")"", 'Σύνοψη'!$F$2:$F289=$A49, 'Σύνοψη'!$G$2:$G289=$B49, 'Σύνοψη'!$C$2:$C289=H$3)), IF(SUMPRODUCT(('Σύνοψη'!$F$2:$F289=$A49)*('Σύνοψη'!$C$2:$C289=H$3)*('Σύνοψη'!$G$2:$G289<$B49)*('Σύνοψη'!$H$2:$H289>$B49))>0, CHAR(34), """") ), """")"),"""") -> "
A50: =$A$46 -> 46268 | B50: 0.5 | C50: =IFERROR(__xludf.DUMMYFUNCTION("IFERROR(IF(SUMPRODUCT(('Σύνοψη'!$F$2:$F289=$A50)*('Σύνοψη'!$C$2:$C289=C$3)*('Σύνοψη'!$G$2:$G289=$B50))>0, TEXTJOIN(CHAR(10) & ""-----------------------"" & CHAR(10), TRUE, FILTER('Σύνοψη'!$E$2:$E289 & "" - "" & 'Σύνοψη'!$I$2:$I289 & "" ("" & 'Σύνοψη'!$J$2"&":$J289 & "")"", 'Σύνοψη'!$F$2:$F289=$A50, 'Σύνοψη'!$G$2:$G289=$B50, 'Σύνοψη'!$C$2:$C289=C$3)), IF(SUMPRODUCT(('Σύνοψη'!$F$2:$F289=$A50)*('Σύνοψη'!$C$2:$C289=C$3)*('Σύνοψη'!$G$2:$G289<$B50)*('Σύνοψη'!$H$2:$H289>$B50))>0, CHAR(34), """") ), """")"),"") | D50: =IFERROR(__xludf.DUMMYFUNCTION("IFERROR(IF(SUMPRODUCT(('Σύνοψη'!$F$2:$F289=$A50)*('Σύνοψη'!$C$2:$C289=D$3)*('Σύνοψη'!$G$2:$G289=$B50))>0, TEXTJOIN(CHAR(10) & ""-----------------------"" & CHAR(10), TRUE, FILTER('Σύνοψη'!$E$2:$E289 & "" - "" & 'Σύνοψη'!$I$2:$I289 & "" ("" & 'Σύνοψη'!$J$2"&":$J289 & "")"", 'Σύνοψη'!$F$2:$F289=$A50, 'Σύνοψη'!$G$2:$G289=$B50, 'Σύνοψη'!$C$2:$C289=D$3)), IF(SUMPRODUCT(('Σύνοψη'!$F$2:$F289=$A50)*('Σύνοψη'!$C$2:$C289=D$3)*('Σύνοψη'!$G$2:$G289<$B50)*('Σύνοψη'!$H$2:$H289>$B50))>0, CHAR(34), """") ), """")"),"Ιχθυολογία, Υδρόβια Πανίδα & Υδατοκαλλιέργειες (Θεωρία) - 12:00 - 15:00 (Νέες Αίθουσες)") -> Ιχθυολογία, Υδρόβια Πανίδα & Υδατοκαλλιέργειες (Θεωρία) - 12:00 - 15:00 (Νέες Αίθουσες) | E50: =IFERROR(__xludf.DUMMYFUNCTION("IFERROR(IF(SUMPRODUCT(('Σύνοψη'!$F$2:$F289=$A50)*('Σύνοψη'!$C$2:$C289=E$3)*('Σύνοψη'!$G$2:$G289=$B50))>0, TEXTJOIN(CHAR(10) & ""-----------------------"" & CHAR(10), TRUE, FILTER('Σύνοψη'!$E$2:$E289 & "" - "" & 'Σύνοψη'!$I$2:$I289 & "" ("" & 'Σύνοψη'!$J$2"&":$J289 & "")"", 'Σύνοψη'!$F$2:$F289=$A50, 'Σύνοψη'!$G$2:$G289=$B50, 'Σύνοψη'!$C$2:$C289=E$3)), IF(SUMPRODUCT(('Σύνοψη'!$F$2:$F289=$A50)*('Σύνοψη'!$C$2:$C289=E$3)*('Σύνοψη'!$G$2:$G289<$B50)*('Σύνοψη'!$H$2:$H289>$B50))>0, CHAR(34), """") ), """")"),"Ιχθυοπαθολογία & Διαχείριση Υγείας Υδρόβιων Οργανισμών - 12:00 - 15:00 (Νέες Αίθουσες)") -> Ιχθυοπαθολογία & Διαχείριση Υγείας Υδρόβιων Οργανισμών - 12:00 - 15:00 (Νέες Αίθουσες) | F50: =IFERROR(__xludf.DUMMYFUNCTION("IFERROR(IF(SUMPRODUCT(('Σύνοψη'!$F$2:$F289=$A50)*('Σύνοψη'!$C$2:$C289=F$3)*('Σύνοψη'!$G$2:$G289=$B50))>0, TEXTJOIN(CHAR(10) & ""-----------------------"" & CHAR(10), TRUE, FILTER('Σύνοψη'!$E$2:$E289 & "" - "" & 'Σύνοψη'!$I$2:$I289 & "" ("" & 'Σύνοψη'!$J$2"&":$J289 & "")"", 'Σύνοψη'!$F$2:$F289=$A50, 'Σύνοψη'!$G$2:$G289=$B50, 'Σύνοψη'!$C$2:$C289=F$3)), IF(SUMPRODUCT(('Σύνοψη'!$F$2:$F289=$A50)*('Σύνοψη'!$C$2:$C289=F$3)*('Σύνοψη'!$G$2:$G289<$B50)*('Σύνοψη'!$H$2:$H289>$B50))>0, CHAR(34), """") ), """")"),"Αναισθησιολογία & Εντατική Θεραπεία - 12:00 - 14:00 (Αμφιθέατρα)") -> Αναισθησιολογία & Εντατική Θεραπεία - 12:00 - 14:00 (Αμφιθέατρα) | G50: =IFERROR(__xludf.DUMMYFUNCTION("IFERROR(IF(SUMPRODUCT(('Σύνοψη'!$F$2:$F289=$A50)*('Σύνοψη'!$C$2:$C289=G$3)*('Σύνοψη'!$G$2:$G289=$B50))>0, TEXTJOIN(CHAR(10) & ""-----------------------"" & CHAR(10), TRUE, FILTER('Σύνοψη'!$E$2:$E289 & "" - "" & 'Σύνοψη'!$I$2:$I289 & "" ("" & 'Σύνοψη'!$J$2"&":$J289 & "")"", 'Σύνοψη'!$F$2:$F289=$A50, 'Σύνοψη'!$G$2:$G289=$B50, 'Σύνοψη'!$C$2:$C289=G$3)), IF(SUMPRODUCT(('Σύνοψη'!$F$2:$F289=$A50)*('Σύνοψη'!$C$2:$C289=G$3)*('Σύνοψη'!$G$2:$G289<$B50)*('Σύνοψη'!$H$2:$H289>$B50))>0, CHAR(34), """") ), """")"),"""") -> " | H50: =IFERROR(__xludf.DUMMYFUNCTION("IFERROR(IF(SUMPRODUCT(('Σύνοψη'!$F$2:$F289=$A50)*('Σύνοψη'!$C$2:$C289=H$3)*('Σύνοψη'!$G$2:$G289=$B50))>0, TEXTJOIN(CHAR(10) & ""-----------------------"" & CHAR(10), TRUE, FILTER('Σύνοψη'!$E$2:$E289 & "" - "" & 'Σύνοψη'!$I$2:$I289 & "" ("" & 'Σύνοψη'!$J$2"&":$J289 & "")"", 'Σύνοψη'!$F$2:$F289=$A50, 'Σύνοψη'!$G$2:$G289=$B50, 'Σύνοψη'!$C$2:$C289=H$3)), IF(SUMPRODUCT(('Σύνοψη'!$F$2:$F289=$A50)*('Σύνοψη'!$C$2:$C289=H$3)*('Σύνοψη'!$G$2:$G289<$B50)*('Σύνοψη'!$H$2:$H289>$B50))>0, CHAR(34), """") ), """")"),"Χειρουργική Ι (γραπτά) - 12:00 - 14:00 (Αμφιθέατρα)") -> Χειρουργική Ι (γραπτά) - 12:00 - 14:00 (Αμφιθέατρα)
A51: =$A$46 -> 46268 | B51: 0.54166667 | C51: =IFERROR(__xludf.DUMMYFUNCTION("IFERROR(IF(SUMPRODUCT(('Σύνοψη'!$F$2:$F289=$A51)*('Σύνοψη'!$C$2:$C289=C$3)*('Σύνοψη'!$G$2:$G289=$B51))>0, TEXTJOIN(CHAR(10) & ""-----------------------"" & CHAR(10), TRUE, FILTER('Σύνοψη'!$E$2:$E289 & "" - "" & 'Σύνοψη'!$I$2:$I289 & "" ("" & 'Σύνοψη'!$J$2"&":$J289 & "")"", 'Σύνοψη'!$F$2:$F289=$A51, 'Σύνοψη'!$G$2:$G289=$B51, 'Σύνοψη'!$C$2:$C289=C$3)), IF(SUMPRODUCT(('Σύνοψη'!$F$2:$F289=$A51)*('Σύνοψη'!$C$2:$C289=C$3)*('Σύνοψη'!$G$2:$G289<$B51)*('Σύνοψη'!$H$2:$H289>$B51))>0, CHAR(34), """") ), """")"),"") | D51: =IFERROR(__xludf.DUMMYFUNCTION("IFERROR(IF(SUMPRODUCT(('Σύνοψη'!$F$2:$F289=$A51)*('Σύνοψη'!$C$2:$C289=D$3)*('Σύνοψη'!$G$2:$G289=$B51))>0, TEXTJOIN(CHAR(10) & ""-----------------------"" & CHAR(10), TRUE, FILTER('Σύνοψη'!$E$2:$E289 & "" - "" & 'Σύνοψη'!$I$2:$I289 & "" ("" & 'Σύνοψη'!$J$2"&":$J289 & "")"", 'Σύνοψη'!$F$2:$F289=$A51, 'Σύνοψη'!$G$2:$G289=$B51, 'Σύνοψη'!$C$2:$C289=D$3)), IF(SUMPRODUCT(('Σύνοψη'!$F$2:$F289=$A51)*('Σύνοψη'!$C$2:$C289=D$3)*('Σύνοψη'!$G$2:$G289<$B51)*('Σύνοψη'!$H$2:$H289>$B51))>0, CHAR(34), """") ), """")"),"""") -> " | E51: =IFERROR(__xludf.DUMMYFUNCTION("IFERROR(IF(SUMPRODUCT(('Σύνοψη'!$F$2:$F289=$A51)*('Σύνοψη'!$C$2:$C289=E$3)*('Σύνοψη'!$G$2:$G289=$B51))>0, TEXTJOIN(CHAR(10) & ""-----------------------"" & CHAR(10), TRUE, FILTER('Σύνοψη'!$E$2:$E289 & "" - "" & 'Σύνοψη'!$I$2:$I289 & "" ("" & 'Σύνοψη'!$J$2"&":$J289 & "")"", 'Σύνοψη'!$F$2:$F289=$A51, 'Σύνοψη'!$G$2:$G289=$B51, 'Σύνοψη'!$C$2:$C289=E$3)), IF(SUMPRODUCT(('Σύνοψη'!$F$2:$F289=$A51)*('Σύνοψη'!$C$2:$C289=E$3)*('Σύνοψη'!$G$2:$G289<$B51)*('Σύνοψη'!$H$2:$H289>$B51))>0, CHAR(34), """") ), """")"),"""") -> " | F51: =IFERROR(__xludf.DUMMYFUNCTION("IFERROR(IF(SUMPRODUCT(('Σύνοψη'!$F$2:$F289=$A51)*('Σύνοψη'!$C$2:$C289=F$3)*('Σύνοψη'!$G$2:$G289=$B51))>0, TEXTJOIN(CHAR(10) & ""-----------------------"" & CHAR(10), TRUE, FILTER('Σύνοψη'!$E$2:$E289 & "" - "" & 'Σύνοψη'!$I$2:$I289 & "" ("" & 'Σύνοψη'!$J$2"&":$J289 & "")"", 'Σύνοψη'!$F$2:$F289=$A51, 'Σύνοψη'!$G$2:$G289=$B51, 'Σύνοψη'!$C$2:$C289=F$3)), IF(SUMPRODUCT(('Σύνοψη'!$F$2:$F289=$A51)*('Σύνοψη'!$C$2:$C289=F$3)*('Σύνοψη'!$G$2:$G289<$B51)*('Σύνοψη'!$H$2:$H289>$B51))>0, CHAR(34), """") ), """")"),"""") -> " | G51: =IFERROR(__xludf.DUMMYFUNCTION("IFERROR(IF(SUMPRODUCT(('Σύνοψη'!$F$2:$F289=$A51)*('Σύνοψη'!$C$2:$C289=G$3)*('Σύνοψη'!$G$2:$G289=$B51))>0, TEXTJOIN(CHAR(10) & ""-----------------------"" & CHAR(10), TRUE, FILTER('Σύνοψη'!$E$2:$E289 & "" - "" & 'Σύνοψη'!$I$2:$I289 & "" ("" & 'Σύνοψη'!$J$2"&":$J289 & "")"", 'Σύνοψη'!$F$2:$F289=$A51, 'Σύνοψη'!$G$2:$G289=$B51, 'Σύνοψη'!$C$2:$C289=G$3)), IF(SUMPRODUCT(('Σύνοψη'!$F$2:$F289=$A51)*('Σύνοψη'!$C$2:$C289=G$3)*('Σύνοψη'!$G$2:$G289<$B51)*('Σύνοψη'!$H$2:$H289>$B51))>0, CHAR(34), """") ), """")"),"""") -> " | H51: =IFERROR(__xludf.DUMMYFUNCTION("IFERROR(IF(SUMPRODUCT(('Σύνοψη'!$F$2:$F289=$A51)*('Σύνοψη'!$C$2:$C289=H$3)*('Σύνοψη'!$G$2:$G289=$B51))>0, TEXTJOIN(CHAR(10) & ""-----------------------"" & CHAR(10), TRUE, FILTER('Σύνοψη'!$E$2:$E289 & "" - "" & 'Σύνοψη'!$I$2:$I289 & "" ("" & 'Σύνοψη'!$J$2"&":$J289 & "")"", 'Σύνοψη'!$F$2:$F289=$A51, 'Σύνοψη'!$G$2:$G289=$B51, 'Σύνοψη'!$C$2:$C289=H$3)), IF(SUMPRODUCT(('Σύνοψη'!$F$2:$F289=$A51)*('Σύνοψη'!$C$2:$C289=H$3)*('Σύνοψη'!$G$2:$G289<$B51)*('Σύνοψη'!$H$2:$H289>$B51))>0, CHAR(34), """") ), """")"),"""") -> "
A52: =$A$46 -> 46268 | B52: 0.58333333 | C52: =IFERROR(__xludf.DUMMYFUNCTION("IFERROR(IF(SUMPRODUCT(('Σύνοψη'!$F$2:$F289=$A52)*('Σύνοψη'!$C$2:$C289=C$3)*('Σύνοψη'!$G$2:$G289=$B52))>0, TEXTJOIN(CHAR(10) & ""-----------------------"" & CHAR(10), TRUE, FILTER('Σύνοψη'!$E$2:$E289 & "" - "" & 'Σύνοψη'!$I$2:$I289 & "" ("" & 'Σύνοψη'!$J$2"&":$J289 & "")"", 'Σύνοψη'!$F$2:$F289=$A52, 'Σύνοψη'!$G$2:$G289=$B52, 'Σύνοψη'!$C$2:$C289=C$3)), IF(SUMPRODUCT(('Σύνοψη'!$F$2:$F289=$A52)*('Σύνοψη'!$C$2:$C289=C$3)*('Σύνοψη'!$G$2:$G289<$B52)*('Σύνοψη'!$H$2:$H289>$B52))>0, CHAR(34), """") ), """")"),"") | D52: =IFERROR(__xludf.DUMMYFUNCTION("IFERROR(IF(SUMPRODUCT(('Σύνοψη'!$F$2:$F289=$A52)*('Σύνοψη'!$C$2:$C289=D$3)*('Σύνοψη'!$G$2:$G289=$B52))>0, TEXTJOIN(CHAR(10) & ""-----------------------"" & CHAR(10), TRUE, FILTER('Σύνοψη'!$E$2:$E289 & "" - "" & 'Σύνοψη'!$I$2:$I289 & "" ("" & 'Σύνοψη'!$J$2"&":$J289 & "")"", 'Σύνοψη'!$F$2:$F289=$A52, 'Σύνοψη'!$G$2:$G289=$B52, 'Σύνοψη'!$C$2:$C289=D$3)), IF(SUMPRODUCT(('Σύνοψη'!$F$2:$F289=$A52)*('Σύνοψη'!$C$2:$C289=D$3)*('Σύνοψη'!$G$2:$G289<$B52)*('Σύνοψη'!$H$2:$H289>$B52))>0, CHAR(34), """") ), """")"),"""") -> " | E52: =IFERROR(__xludf.DUMMYFUNCTION("IFERROR(IF(SUMPRODUCT(('Σύνοψη'!$F$2:$F289=$A52)*('Σύνοψη'!$C$2:$C289=E$3)*('Σύνοψη'!$G$2:$G289=$B52))>0, TEXTJOIN(CHAR(10) & ""-----------------------"" & CHAR(10), TRUE, FILTER('Σύνοψη'!$E$2:$E289 & "" - "" & 'Σύνοψη'!$I$2:$I289 & "" ("" & 'Σύνοψη'!$J$2"&":$J289 & "")"", 'Σύνοψη'!$F$2:$F289=$A52, 'Σύνοψη'!$G$2:$G289=$B52, 'Σύνοψη'!$C$2:$C289=E$3)), IF(SUMPRODUCT(('Σύνοψη'!$F$2:$F289=$A52)*('Σύνοψη'!$C$2:$C289=E$3)*('Σύνοψη'!$G$2:$G289<$B52)*('Σύνοψη'!$H$2:$H289>$B52))>0, CHAR(34), """") ), """")"),"""") -> " | F52: =IFERROR(__xludf.DUMMYFUNCTION("IFERROR(IF(SUMPRODUCT(('Σύνοψη'!$F$2:$F289=$A52)*('Σύνοψη'!$C$2:$C289=F$3)*('Σύνοψη'!$G$2:$G289=$B52))>0, TEXTJOIN(CHAR(10) & ""-----------------------"" & CHAR(10), TRUE, FILTER('Σύνοψη'!$E$2:$E289 & "" - "" & 'Σύνοψη'!$I$2:$I289 & "" ("" & 'Σύνοψη'!$J$2"&":$J289 & "")"", 'Σύνοψη'!$F$2:$F289=$A52, 'Σύνοψη'!$G$2:$G289=$B52, 'Σύνοψη'!$C$2:$C289=F$3)), IF(SUMPRODUCT(('Σύνοψη'!$F$2:$F289=$A52)*('Σύνοψη'!$C$2:$C289=F$3)*('Σύνοψη'!$G$2:$G289<$B52)*('Σύνοψη'!$H$2:$H289>$B52))>0, CHAR(34), """") ), """")"),"") | G52: =IFERROR(__xludf.DUMMYFUNCTION("IFERROR(IF(SUMPRODUCT(('Σύνοψη'!$F$2:$F289=$A52)*('Σύνοψη'!$C$2:$C289=G$3)*('Σύνοψη'!$G$2:$G289=$B52))>0, TEXTJOIN(CHAR(10) & ""-----------------------"" & CHAR(10), TRUE, FILTER('Σύνοψη'!$E$2:$E289 & "" - "" & 'Σύνοψη'!$I$2:$I289 & "" ("" & 'Σύνοψη'!$J$2"&":$J289 & "")"", 'Σύνοψη'!$F$2:$F289=$A52, 'Σύνοψη'!$G$2:$G289=$B52, 'Σύνοψη'!$C$2:$C289=G$3)), IF(SUMPRODUCT(('Σύνοψη'!$F$2:$F289=$A52)*('Σύνοψη'!$C$2:$C289=G$3)*('Σύνοψη'!$G$2:$G289<$B52)*('Σύνοψη'!$H$2:$H289>$B52))>0, CHAR(34), """") ), """")"),"""") -> " | H52: =IFERROR(__xludf.DUMMYFUNCTION("IFERROR(IF(SUMPRODUCT(('Σύνοψη'!$F$2:$F289=$A52)*('Σύνοψη'!$C$2:$C289=H$3)*('Σύνοψη'!$G$2:$G289=$B52))>0, TEXTJOIN(CHAR(10) & ""-----------------------"" & CHAR(10), TRUE, FILTER('Σύνοψη'!$E$2:$E289 & "" - "" & 'Σύνοψη'!$I$2:$I289 & "" ("" & 'Σύνοψη'!$J$2"&":$J289 & "")"", 'Σύνοψη'!$F$2:$F289=$A52, 'Σύνοψη'!$G$2:$G289=$B52, 'Σύνοψη'!$C$2:$C289=H$3)), IF(SUMPRODUCT(('Σύνοψη'!$F$2:$F289=$A52)*('Σύνοψη'!$C$2:$C289=H$3)*('Σύνοψη'!$G$2:$G289<$B52)*('Σύνοψη'!$H$2:$H289>$B52))>0, CHAR(34), """") ), """")"),"""") -> "
A53: =$A$46 -> 46268 | B53: 0.625 | C53: =IFERROR(__xludf.DUMMYFUNCTION("IFERROR(IF(SUMPRODUCT(('Σύνοψη'!$F$2:$F289=$A53)*('Σύνοψη'!$C$2:$C289=C$3)*('Σύνοψη'!$G$2:$G289=$B53))>0, TEXTJOIN(CHAR(10) & ""-----------------------"" & CHAR(10), TRUE, FILTER('Σύνοψη'!$E$2:$E289 & "" - "" & 'Σύνοψη'!$I$2:$I289 & "" ("" & 'Σύνοψη'!$J$2"&":$J289 & "")"", 'Σύνοψη'!$F$2:$F289=$A53, 'Σύνοψη'!$G$2:$G289=$B53, 'Σύνοψη'!$C$2:$C289=C$3)), IF(SUMPRODUCT(('Σύνοψη'!$F$2:$F289=$A53)*('Σύνοψη'!$C$2:$C289=C$3)*('Σύνοψη'!$G$2:$G289<$B53)*('Σύνοψη'!$H$2:$H289>$B53))>0, CHAR(34), """") ), """")"),"Ζωοτεχνία, Ηθολογία, Ευζωΐα & Σχετική Νομοθεσία Ι - 15:00 - 18:00 (Αμφιθέατρα) ----------------------- Ζωοτεχνία, Ηθολογία, Ευζωΐα & Σχετική Νομοθεσία ΙΙ - 15:00 - 18:00 (Αμφιθέατρα)") -> Ζωοτεχνία, Ηθολογία, Ευζωΐα & Σχετική Νομοθεσία Ι - 15:00 - 18:00 (Αμφιθέατρα) ----------------------- Ζωοτεχνία, Ηθολογία, Ευζωΐα & Σχετική Νομοθεσία ΙΙ - 15:00 - 18:00 (Αμφιθέατρα) | D53: =IFERROR(__xludf.DUMMYFUNCTION("IFERROR(IF(SUMPRODUCT(('Σύνοψη'!$F$2:$F289=$A53)*('Σύνοψη'!$C$2:$C289=D$3)*('Σύνοψη'!$G$2:$G289=$B53))>0, TEXTJOIN(CHAR(10) & ""-----------------------"" & CHAR(10), TRUE, FILTER('Σύνοψη'!$E$2:$E289 & "" - "" & 'Σύνοψη'!$I$2:$I289 & "" ("" & 'Σύνοψη'!$J$2"&":$J289 & "")"", 'Σύνοψη'!$F$2:$F289=$A53, 'Σύνοψη'!$G$2:$G289=$B53, 'Σύνοψη'!$C$2:$C289=D$3)), IF(SUMPRODUCT(('Σύνοψη'!$F$2:$F289=$A53)*('Σύνοψη'!$C$2:$C289=D$3)*('Σύνοψη'!$G$2:$G289<$B53)*('Σύνοψη'!$H$2:$H289>$B53))>0, CHAR(34), """") ), """")"),"") | E53: =IFERROR(__xludf.DUMMYFUNCTION("IFERROR(IF(SUMPRODUCT(('Σύνοψη'!$F$2:$F289=$A53)*('Σύνοψη'!$C$2:$C289=E$3)*('Σύνοψη'!$G$2:$G289=$B53))>0, TEXTJOIN(CHAR(10) & ""-----------------------"" & CHAR(10), TRUE, FILTER('Σύνοψη'!$E$2:$E289 & "" - "" & 'Σύνοψη'!$I$2:$I289 & "" ("" & 'Σύνοψη'!$J$2"&":$J289 & "")"", 'Σύνοψη'!$F$2:$F289=$A53, 'Σύνοψη'!$G$2:$G289=$B53, 'Σύνοψη'!$C$2:$C289=E$3)), IF(SUMPRODUCT(('Σύνοψη'!$F$2:$F289=$A53)*('Σύνοψη'!$C$2:$C289=E$3)*('Σύνοψη'!$G$2:$G289<$B53)*('Σύνοψη'!$H$2:$H289>$B53))>0, CHAR(34), """") ), """")"),"") | F53: =IFERROR(__xludf.DUMMYFUNCTION("IFERROR(IF(SUMPRODUCT(('Σύνοψη'!$F$2:$F289=$A53)*('Σύνοψη'!$C$2:$C289=F$3)*('Σύνοψη'!$G$2:$G289=$B53))>0, TEXTJOIN(CHAR(10) & ""-----------------------"" & CHAR(10), TRUE, FILTER('Σύνοψη'!$E$2:$E289 & "" - "" & 'Σύνοψη'!$I$2:$I289 & "" ("" & 'Σύνοψη'!$J$2"&":$J289 & "")"", 'Σύνοψη'!$F$2:$F289=$A53, 'Σύνοψη'!$G$2:$G289=$B53, 'Σύνοψη'!$C$2:$C289=F$3)), IF(SUMPRODUCT(('Σύνοψη'!$F$2:$F289=$A53)*('Σύνοψη'!$C$2:$C289=F$3)*('Σύνοψη'!$G$2:$G289<$B53)*('Σύνοψη'!$H$2:$H289>$B53))>0, CHAR(34), """") ), """")"),"") | G53: =IFERROR(__xludf.DUMMYFUNCTION("IFERROR(IF(SUMPRODUCT(('Σύνοψη'!$F$2:$F289=$A53)*('Σύνοψη'!$C$2:$C289=G$3)*('Σύνοψη'!$G$2:$G289=$B53))>0, TEXTJOIN(CHAR(10) & ""-----------------------"" & CHAR(10), TRUE, FILTER('Σύνοψη'!$E$2:$E289 & "" - "" & 'Σύνοψη'!$I$2:$I289 & "" ("" & 'Σύνοψη'!$J$2"&":$J289 & "")"", 'Σύνοψη'!$F$2:$F289=$A53, 'Σύνοψη'!$G$2:$G289=$B53, 'Σύνοψη'!$C$2:$C289=G$3)), IF(SUMPRODUCT(('Σύνοψη'!$F$2:$F289=$A53)*('Σύνοψη'!$C$2:$C289=G$3)*('Σύνοψη'!$G$2:$G289<$B53)*('Σύνοψη'!$H$2:$H289>$B53))>0, CHAR(34), """") ), """")"),"") | H53: =IFERROR(__xludf.DUMMYFUNCTION("IFERROR(IF(SUMPRODUCT(('Σύνοψη'!$F$2:$F289=$A53)*('Σύνοψη'!$C$2:$C289=H$3)*('Σύνοψη'!$G$2:$G289=$B53))>0, TEXTJOIN(CHAR(10) & ""-----------------------"" & CHAR(10), TRUE, FILTER('Σύνοψη'!$E$2:$E289 & "" - "" & 'Σύνοψη'!$I$2:$I289 & "" ("" & 'Σύνοψη'!$J$2"&":$J289 & "")"", 'Σύνοψη'!$F$2:$F289=$A53, 'Σύνοψη'!$G$2:$G289=$B53, 'Σύνοψη'!$C$2:$C289=H$3)), IF(SUMPRODUCT(('Σύνοψη'!$F$2:$F289=$A53)*('Σύνοψη'!$C$2:$C289=H$3)*('Σύνοψη'!$G$2:$G289<$B53)*('Σύνοψη'!$H$2:$H289>$B53))>0, CHAR(34), """") ), """")"),"Ζωοτεχνία, Ηθολογία..Ι, ΙΙ, ΙΙΙ (ΠΠΣ) - 15:00 - 18:00 (Αμφιθέατρα)") -> Ζωοτεχνία, Ηθολογία..Ι, ΙΙ, ΙΙΙ (ΠΠΣ) - 15:00 - 18:00 (Αμφιθέατρα)
A54: =$A$46 -> 46268 | B54: 0.66666667 | C54: =IFERROR(__xludf.DUMMYFUNCTION("IFERROR(IF(SUMPRODUCT(('Σύνοψη'!$F$2:$F289=$A54)*('Σύνοψη'!$C$2:$C289=C$3)*('Σύνοψη'!$G$2:$G289=$B54))>0, TEXTJOIN(CHAR(10) & ""-----------------------"" & CHAR(10), TRUE, FILTER('Σύνοψη'!$E$2:$E289 & "" - "" & 'Σύνοψη'!$I$2:$I289 & "" ("" & 'Σύνοψη'!$J$2"&":$J289 & "")"", 'Σύνοψη'!$F$2:$F289=$A54, 'Σύνοψη'!$G$2:$G289=$B54, 'Σύνοψη'!$C$2:$C289=C$3)), IF(SUMPRODUCT(('Σύνοψη'!$F$2:$F289=$A54)*('Σύνοψη'!$C$2:$C289=C$3)*('Σύνοψη'!$G$2:$G289<$B54)*('Σύνοψη'!$H$2:$H289>$B54))>0, CHAR(34), """") ), """")"),"""") -> " | D54: =IFERROR(__xludf.DUMMYFUNCTION("IFERROR(IF(SUMPRODUCT(('Σύνοψη'!$F$2:$F289=$A54)*('Σύνοψη'!$C$2:$C289=D$3)*('Σύνοψη'!$G$2:$G289=$B54))>0, TEXTJOIN(CHAR(10) & ""-----------------------"" & CHAR(10), TRUE, FILTER('Σύνοψη'!$E$2:$E289 & "" - "" & 'Σύνοψη'!$I$2:$I289 & "" ("" & 'Σύνοψη'!$J$2"&":$J289 & "")"", 'Σύνοψη'!$F$2:$F289=$A54, 'Σύνοψη'!$G$2:$G289=$B54, 'Σύνοψη'!$C$2:$C289=D$3)), IF(SUMPRODUCT(('Σύνοψη'!$F$2:$F289=$A54)*('Σύνοψη'!$C$2:$C289=D$3)*('Σύνοψη'!$G$2:$G289<$B54)*('Σύνοψη'!$H$2:$H289>$B54))>0, CHAR(34), """") ), """")"),"") | E54: =IFERROR(__xludf.DUMMYFUNCTION("IFERROR(IF(SUMPRODUCT(('Σύνοψη'!$F$2:$F289=$A54)*('Σύνοψη'!$C$2:$C289=E$3)*('Σύνοψη'!$G$2:$G289=$B54))>0, TEXTJOIN(CHAR(10) & ""-----------------------"" & CHAR(10), TRUE, FILTER('Σύνοψη'!$E$2:$E289 & "" - "" & 'Σύνοψη'!$I$2:$I289 & "" ("" & 'Σύνοψη'!$J$2"&":$J289 & "")"", 'Σύνοψη'!$F$2:$F289=$A54, 'Σύνοψη'!$G$2:$G289=$B54, 'Σύνοψη'!$C$2:$C289=E$3)), IF(SUMPRODUCT(('Σύνοψη'!$F$2:$F289=$A54)*('Σύνοψη'!$C$2:$C289=E$3)*('Σύνοψη'!$G$2:$G289<$B54)*('Σύνοψη'!$H$2:$H289>$B54))>0, CHAR(34), """") ), """")"),"") | F54: =IFERROR(__xludf.DUMMYFUNCTION("IFERROR(IF(SUMPRODUCT(('Σύνοψη'!$F$2:$F289=$A54)*('Σύνοψη'!$C$2:$C289=F$3)*('Σύνοψη'!$G$2:$G289=$B54))>0, TEXTJOIN(CHAR(10) & ""-----------------------"" & CHAR(10), TRUE, FILTER('Σύνοψη'!$E$2:$E289 & "" - "" & 'Σύνοψη'!$I$2:$I289 & "" ("" & 'Σύνοψη'!$J$2"&":$J289 & "")"", 'Σύνοψη'!$F$2:$F289=$A54, 'Σύνοψη'!$G$2:$G289=$B54, 'Σύνοψη'!$C$2:$C289=F$3)), IF(SUMPRODUCT(('Σύνοψη'!$F$2:$F289=$A54)*('Σύνοψη'!$C$2:$C289=F$3)*('Σύνοψη'!$G$2:$G289<$B54)*('Σύνοψη'!$H$2:$H289>$B54))>0, CHAR(34), """") ), """")"),"") | G54: =IFERROR(__xludf.DUMMYFUNCTION("IFERROR(IF(SUMPRODUCT(('Σύνοψη'!$F$2:$F289=$A54)*('Σύνοψη'!$C$2:$C289=G$3)*('Σύνοψη'!$G$2:$G289=$B54))>0, TEXTJOIN(CHAR(10) & ""-----------------------"" & CHAR(10), TRUE, FILTER('Σύνοψη'!$E$2:$E289 & "" - "" & 'Σύνοψη'!$I$2:$I289 & "" ("" & 'Σύνοψη'!$J$2"&":$J289 & "")"", 'Σύνοψη'!$F$2:$F289=$A54, 'Σύνοψη'!$G$2:$G289=$B54, 'Σύνοψη'!$C$2:$C289=G$3)), IF(SUMPRODUCT(('Σύνοψη'!$F$2:$F289=$A54)*('Σύνοψη'!$C$2:$C289=G$3)*('Σύνοψη'!$G$2:$G289<$B54)*('Σύνοψη'!$H$2:$H289>$B54))>0, CHAR(34), """") ), """")"),"") | H54: =IFERROR(__xludf.DUMMYFUNCTION("IFERROR(IF(SUMPRODUCT(('Σύνοψη'!$F$2:$F289=$A54)*('Σύνοψη'!$C$2:$C289=H$3)*('Σύνοψη'!$G$2:$G289=$B54))>0, TEXTJOIN(CHAR(10) & ""-----------------------"" & CHAR(10), TRUE, FILTER('Σύνοψη'!$E$2:$E289 & "" - "" & 'Σύνοψη'!$I$2:$I289 & "" ("" & 'Σύνοψη'!$J$2"&":$J289 & "")"", 'Σύνοψη'!$F$2:$F289=$A54, 'Σύνοψη'!$G$2:$G289=$B54, 'Σύνοψη'!$C$2:$C289=H$3)), IF(SUMPRODUCT(('Σύνοψη'!$F$2:$F289=$A54)*('Σύνοψη'!$C$2:$C289=H$3)*('Σύνοψη'!$G$2:$G289<$B54)*('Σύνοψη'!$H$2:$H289>$B54))>0, CHAR(34), """") ), """")"),"""") -> "
A55: =$A$46 -> 46268 | B55: 0.70833333 | C55: =IFERROR(__xludf.DUMMYFUNCTION("IFERROR(IF(SUMPRODUCT(('Σύνοψη'!$F$2:$F289=$A55)*('Σύνοψη'!$C$2:$C289=C$3)*('Σύνοψη'!$G$2:$G289=$B55))>0, TEXTJOIN(CHAR(10) & ""-----------------------"" & CHAR(10), TRUE, FILTER('Σύνοψη'!$E$2:$E289 & "" - "" & 'Σύνοψη'!$I$2:$I289 & "" ("" & 'Σύνοψη'!$J$2"&":$J289 & "")"", 'Σύνοψη'!$F$2:$F289=$A55, 'Σύνοψη'!$G$2:$G289=$B55, 'Σύνοψη'!$C$2:$C289=C$3)), IF(SUMPRODUCT(('Σύνοψη'!$F$2:$F289=$A55)*('Σύνοψη'!$C$2:$C289=C$3)*('Σύνοψη'!$G$2:$G289<$B55)*('Σύνοψη'!$H$2:$H289>$B55))>0, CHAR(34), """") ), """")"),"""") -> " | D55: =IFERROR(__xludf.DUMMYFUNCTION("IFERROR(IF(SUMPRODUCT(('Σύνοψη'!$F$2:$F289=$A55)*('Σύνοψη'!$C$2:$C289=D$3)*('Σύνοψη'!$G$2:$G289=$B55))>0, TEXTJOIN(CHAR(10) & ""-----------------------"" & CHAR(10), TRUE, FILTER('Σύνοψη'!$E$2:$E289 & "" - "" & 'Σύνοψη'!$I$2:$I289 & "" ("" & 'Σύνοψη'!$J$2"&":$J289 & "")"", 'Σύνοψη'!$F$2:$F289=$A55, 'Σύνοψη'!$G$2:$G289=$B55, 'Σύνοψη'!$C$2:$C289=D$3)), IF(SUMPRODUCT(('Σύνοψη'!$F$2:$F289=$A55)*('Σύνοψη'!$C$2:$C289=D$3)*('Σύνοψη'!$G$2:$G289<$B55)*('Σύνοψη'!$H$2:$H289>$B55))>0, CHAR(34), """") ), """")"),"") | E55: =IFERROR(__xludf.DUMMYFUNCTION("IFERROR(IF(SUMPRODUCT(('Σύνοψη'!$F$2:$F289=$A55)*('Σύνοψη'!$C$2:$C289=E$3)*('Σύνοψη'!$G$2:$G289=$B55))>0, TEXTJOIN(CHAR(10) & ""-----------------------"" & CHAR(10), TRUE, FILTER('Σύνοψη'!$E$2:$E289 & "" - "" & 'Σύνοψη'!$I$2:$I289 & "" ("" & 'Σύνοψη'!$J$2"&":$J289 & "")"", 'Σύνοψη'!$F$2:$F289=$A55, 'Σύνοψη'!$G$2:$G289=$B55, 'Σύνοψη'!$C$2:$C289=E$3)), IF(SUMPRODUCT(('Σύνοψη'!$F$2:$F289=$A55)*('Σύνοψη'!$C$2:$C289=E$3)*('Σύνοψη'!$G$2:$G289<$B55)*('Σύνοψη'!$H$2:$H289>$B55))>0, CHAR(34), """") ), """")"),"") | F55: =IFERROR(__xludf.DUMMYFUNCTION("IFERROR(IF(SUMPRODUCT(('Σύνοψη'!$F$2:$F289=$A55)*('Σύνοψη'!$C$2:$C289=F$3)*('Σύνοψη'!$G$2:$G289=$B55))>0, TEXTJOIN(CHAR(10) & ""-----------------------"" & CHAR(10), TRUE, FILTER('Σύνοψη'!$E$2:$E289 & "" - "" & 'Σύνοψη'!$I$2:$I289 & "" ("" & 'Σύνοψη'!$J$2"&":$J289 & "")"", 'Σύνοψη'!$F$2:$F289=$A55, 'Σύνοψη'!$G$2:$G289=$B55, 'Σύνοψη'!$C$2:$C289=F$3)), IF(SUMPRODUCT(('Σύνοψη'!$F$2:$F289=$A55)*('Σύνοψη'!$C$2:$C289=F$3)*('Σύνοψη'!$G$2:$G289<$B55)*('Σύνοψη'!$H$2:$H289>$B55))>0, CHAR(34), """") ), """")"),"") | G55: =IFERROR(__xludf.DUMMYFUNCTION("IFERROR(IF(SUMPRODUCT(('Σύνοψη'!$F$2:$F289=$A55)*('Σύνοψη'!$C$2:$C289=G$3)*('Σύνοψη'!$G$2:$G289=$B55))>0, TEXTJOIN(CHAR(10) & ""-----------------------"" & CHAR(10), TRUE, FILTER('Σύνοψη'!$E$2:$E289 & "" - "" & 'Σύνοψη'!$I$2:$I289 & "" ("" & 'Σύνοψη'!$J$2"&":$J289 & "")"", 'Σύνοψη'!$F$2:$F289=$A55, 'Σύνοψη'!$G$2:$G289=$B55, 'Σύνοψη'!$C$2:$C289=G$3)), IF(SUMPRODUCT(('Σύνοψη'!$F$2:$F289=$A55)*('Σύνοψη'!$C$2:$C289=G$3)*('Σύνοψη'!$G$2:$G289<$B55)*('Σύνοψη'!$H$2:$H289>$B55))>0, CHAR(34), """") ), """")"),"") | H55: =IFERROR(__xludf.DUMMYFUNCTION("IFERROR(IF(SUMPRODUCT(('Σύνοψη'!$F$2:$F289=$A55)*('Σύνοψη'!$C$2:$C289=H$3)*('Σύνοψη'!$G$2:$G289=$B55))>0, TEXTJOIN(CHAR(10) & ""-----------------------"" & CHAR(10), TRUE, FILTER('Σύνοψη'!$E$2:$E289 & "" - "" & 'Σύνοψη'!$I$2:$I289 & "" ("" & 'Σύνοψη'!$J$2"&":$J289 & "")"", 'Σύνοψη'!$F$2:$F289=$A55, 'Σύνοψη'!$G$2:$G289=$B55, 'Σύνοψη'!$C$2:$C289=H$3)), IF(SUMPRODUCT(('Σύνοψη'!$F$2:$F289=$A55)*('Σύνοψη'!$C$2:$C289=H$3)*('Σύνοψη'!$G$2:$G289<$B55)*('Σύνοψη'!$H$2:$H289>$B55))>0, CHAR(34), """") ), """")"),"""") -> "
A56: =$A$46 -> 46268 | B56: 0.75 | C56: =IFERROR(__xludf.DUMMYFUNCTION("IFERROR(IF(SUMPRODUCT(('Σύνοψη'!$F$2:$F289=$A56)*('Σύνοψη'!$C$2:$C289=C$3)*('Σύνοψη'!$G$2:$G289=$B56))>0, TEXTJOIN(CHAR(10) & ""-----------------------"" & CHAR(10), TRUE, FILTER('Σύνοψη'!$E$2:$E289 & "" - "" & 'Σύνοψη'!$I$2:$I289 & "" ("" & 'Σύνοψη'!$J$2"&":$J289 & "")"", 'Σύνοψη'!$F$2:$F289=$A56, 'Σύνοψη'!$G$2:$G289=$B56, 'Σύνοψη'!$C$2:$C289=C$3)), IF(SUMPRODUCT(('Σύνοψη'!$F$2:$F289=$A56)*('Σύνοψη'!$C$2:$C289=C$3)*('Σύνοψη'!$G$2:$G289<$B56)*('Σύνοψη'!$H$2:$H289>$B56))>0, CHAR(34), """") ), """")"),"") | D56: =IFERROR(__xludf.DUMMYFUNCTION("IFERROR(IF(SUMPRODUCT(('Σύνοψη'!$F$2:$F289=$A56)*('Σύνοψη'!$C$2:$C289=D$3)*('Σύνοψη'!$G$2:$G289=$B56))>0, TEXTJOIN(CHAR(10) & ""-----------------------"" & CHAR(10), TRUE, FILTER('Σύνοψη'!$E$2:$E289 & "" - "" & 'Σύνοψη'!$I$2:$I289 & "" ("" & 'Σύνοψη'!$J$2"&":$J289 & "")"", 'Σύνοψη'!$F$2:$F289=$A56, 'Σύνοψη'!$G$2:$G289=$B56, 'Σύνοψη'!$C$2:$C289=D$3)), IF(SUMPRODUCT(('Σύνοψη'!$F$2:$F289=$A56)*('Σύνοψη'!$C$2:$C289=D$3)*('Σύνοψη'!$G$2:$G289<$B56)*('Σύνοψη'!$H$2:$H289>$B56))>0, CHAR(34), """") ), """")"),"") | E56: =IFERROR(__xludf.DUMMYFUNCTION("IFERROR(IF(SUMPRODUCT(('Σύνοψη'!$F$2:$F289=$A56)*('Σύνοψη'!$C$2:$C289=E$3)*('Σύνοψη'!$G$2:$G289=$B56))>0, TEXTJOIN(CHAR(10) & ""-----------------------"" & CHAR(10), TRUE, FILTER('Σύνοψη'!$E$2:$E289 & "" - "" & 'Σύνοψη'!$I$2:$I289 & "" ("" & 'Σύνοψη'!$J$2"&":$J289 & "")"", 'Σύνοψη'!$F$2:$F289=$A56, 'Σύνοψη'!$G$2:$G289=$B56, 'Σύνοψη'!$C$2:$C289=E$3)), IF(SUMPRODUCT(('Σύνοψη'!$F$2:$F289=$A56)*('Σύνοψη'!$C$2:$C289=E$3)*('Σύνοψη'!$G$2:$G289<$B56)*('Σύνοψη'!$H$2:$H289>$B56))>0, CHAR(34), """") ), """")"),"Γενική Ιστοπαθολογία Ζωικών Οργανισμών - 18:00 - 21:00 (Αίθουσα Μικροσκοπίας)") -> Γενική Ιστοπαθολογία Ζωικών Οργανισμών - 18:00 - 21:00 (Αίθουσα Μικροσκοπίας) | F56: =IFERROR(__xludf.DUMMYFUNCTION("IFERROR(IF(SUMPRODUCT(('Σύνοψη'!$F$2:$F289=$A56)*('Σύνοψη'!$C$2:$C289=F$3)*('Σύνοψη'!$G$2:$G289=$B56))>0, TEXTJOIN(CHAR(10) & ""-----------------------"" & CHAR(10), TRUE, FILTER('Σύνοψη'!$E$2:$E289 & "" - "" & 'Σύνοψη'!$I$2:$I289 & "" ("" & 'Σύνοψη'!$J$2"&":$J289 & "")"", 'Σύνοψη'!$F$2:$F289=$A56, 'Σύνοψη'!$G$2:$G289=$B56, 'Σύνοψη'!$C$2:$C289=F$3)), IF(SUMPRODUCT(('Σύνοψη'!$F$2:$F289=$A56)*('Σύνοψη'!$C$2:$C289=F$3)*('Σύνοψη'!$G$2:$G289<$B56)*('Σύνοψη'!$H$2:$H289>$B56))>0, CHAR(34), """") ), """")"),"") | G56: =IFERROR(__xludf.DUMMYFUNCTION("IFERROR(IF(SUMPRODUCT(('Σύνοψη'!$F$2:$F289=$A56)*('Σύνοψη'!$C$2:$C289=G$3)*('Σύνοψη'!$G$2:$G289=$B56))>0, TEXTJOIN(CHAR(10) & ""-----------------------"" & CHAR(10), TRUE, FILTER('Σύνοψη'!$E$2:$E289 & "" - "" & 'Σύνοψη'!$I$2:$I289 & "" ("" & 'Σύνοψη'!$J$2"&":$J289 & "")"", 'Σύνοψη'!$F$2:$F289=$A56, 'Σύνοψη'!$G$2:$G289=$B56, 'Σύνοψη'!$C$2:$C289=G$3)), IF(SUMPRODUCT(('Σύνοψη'!$F$2:$F289=$A56)*('Σύνοψη'!$C$2:$C289=G$3)*('Σύνοψη'!$G$2:$G289<$B56)*('Σύνοψη'!$H$2:$H289>$B56))>0, CHAR(34), """") ), """")"),"Σχεδιασμός Σταδιοδρομίας, Διαχείριση Κτηνιατρείων & Σχετική Νομοθεσία - 18:00 - 21:00 (Νέες Αίθουσες)") -> Σχεδιασμός Σταδιοδρομίας, Διαχείριση Κτηνιατρείων & Σχετική Νομοθεσία - 18:00 - 21:00 (Νέες Αίθουσες) | H56: =IFERROR(__xludf.DUMMYFUNCTION("IFERROR(IF(SUMPRODUCT(('Σύνοψη'!$F$2:$F289=$A56)*('Σύνοψη'!$C$2:$C289=H$3)*('Σύνοψη'!$G$2:$G289=$B56))>0, TEXTJOIN(CHAR(10) & ""-----------------------"" & CHAR(10), TRUE, FILTER('Σύνοψη'!$E$2:$E289 & "" - "" & 'Σύνοψη'!$I$2:$I289 & "" ("" & 'Σύνοψη'!$J$2"&":$J289 & "")"", 'Σύνοψη'!$F$2:$F289=$A56, 'Σύνοψη'!$G$2:$G289=$B56, 'Σύνοψη'!$C$2:$C289=H$3)), IF(SUMPRODUCT(('Σύνοψη'!$F$2:$F289=$A56)*('Σύνοψη'!$C$2:$C289=H$3)*('Σύνοψη'!$G$2:$G289<$B56)*('Σύνοψη'!$H$2:$H289>$B56))>0, CHAR(34), """") ), """")"),"")
A57: =$A$46 -> 46268 | B57: 0.79166667 | C57: =IFERROR(__xludf.DUMMYFUNCTION("IFERROR(IF(SUMPRODUCT(('Σύνοψη'!$F$2:$F289=$A57)*('Σύνοψη'!$C$2:$C289=C$3)*('Σύνοψη'!$G$2:$G289=$B57))>0, TEXTJOIN(CHAR(10) & ""-----------------------"" & CHAR(10), TRUE, FILTER('Σύνοψη'!$E$2:$E289 & "" - "" & 'Σύνοψη'!$I$2:$I289 & "" ("" & 'Σύνοψη'!$J$2"&":$J289 & "")"", 'Σύνοψη'!$F$2:$F289=$A57, 'Σύνοψη'!$G$2:$G289=$B57, 'Σύνοψη'!$C$2:$C289=C$3)), IF(SUMPRODUCT(('Σύνοψη'!$F$2:$F289=$A57)*('Σύνοψη'!$C$2:$C289=C$3)*('Σύνοψη'!$G$2:$G289<$B57)*('Σύνοψη'!$H$2:$H289>$B57))>0, CHAR(34), """") ), """")"),"") | D57: =IFERROR(__xludf.DUMMYFUNCTION("IFERROR(IF(SUMPRODUCT(('Σύνοψη'!$F$2:$F289=$A57)*('Σύνοψη'!$C$2:$C289=D$3)*('Σύνοψη'!$G$2:$G289=$B57))>0, TEXTJOIN(CHAR(10) & ""-----------------------"" & CHAR(10), TRUE, FILTER('Σύνοψη'!$E$2:$E289 & "" - "" & 'Σύνοψη'!$I$2:$I289 & "" ("" & 'Σύνοψη'!$J$2"&":$J289 & "")"", 'Σύνοψη'!$F$2:$F289=$A57, 'Σύνοψη'!$G$2:$G289=$B57, 'Σύνοψη'!$C$2:$C289=D$3)), IF(SUMPRODUCT(('Σύνοψη'!$F$2:$F289=$A57)*('Σύνοψη'!$C$2:$C289=D$3)*('Σύνοψη'!$G$2:$G289<$B57)*('Σύνοψη'!$H$2:$H289>$B57))>0, CHAR(34), """") ), """")"),"") | E57: =IFERROR(__xludf.DUMMYFUNCTION("IFERROR(IF(SUMPRODUCT(('Σύνοψη'!$F$2:$F289=$A57)*('Σύνοψη'!$C$2:$C289=E$3)*('Σύνοψη'!$G$2:$G289=$B57))>0, TEXTJOIN(CHAR(10) & ""-----------------------"" & CHAR(10), TRUE, FILTER('Σύνοψη'!$E$2:$E289 & "" - "" & 'Σύνοψη'!$I$2:$I289 & "" ("" & 'Σύνοψη'!$J$2"&":$J289 & "")"", 'Σύνοψη'!$F$2:$F289=$A57, 'Σύνοψη'!$G$2:$G289=$B57, 'Σύνοψη'!$C$2:$C289=E$3)), IF(SUMPRODUCT(('Σύνοψη'!$F$2:$F289=$A57)*('Σύνοψη'!$C$2:$C289=E$3)*('Σύνοψη'!$G$2:$G289<$B57)*('Σύνοψη'!$H$2:$H289>$B57))>0, CHAR(34), """") ), """")"),"""") -> " | F57: =IFERROR(__xludf.DUMMYFUNCTION("IFERROR(IF(SUMPRODUCT(('Σύνοψη'!$F$2:$F289=$A57)*('Σύνοψη'!$C$2:$C289=F$3)*('Σύνοψη'!$G$2:$G289=$B57))>0, TEXTJOIN(CHAR(10) & ""-----------------------"" & CHAR(10), TRUE, FILTER('Σύνοψη'!$E$2:$E289 & "" - "" & 'Σύνοψη'!$I$2:$I289 & "" ("" & 'Σύνοψη'!$J$2"&":$J289 & "")"", 'Σύνοψη'!$F$2:$F289=$A57, 'Σύνοψη'!$G$2:$G289=$B57, 'Σύνοψη'!$C$2:$C289=F$3)), IF(SUMPRODUCT(('Σύνοψη'!$F$2:$F289=$A57)*('Σύνοψη'!$C$2:$C289=F$3)*('Σύνοψη'!$G$2:$G289<$B57)*('Σύνοψη'!$H$2:$H289>$B57))>0, CHAR(34), """") ), """")"),"") | G57: =IFERROR(__xludf.DUMMYFUNCTION("IFERROR(IF(SUMPRODUCT(('Σύνοψη'!$F$2:$F289=$A57)*('Σύνοψη'!$C$2:$C289=G$3)*('Σύνοψη'!$G$2:$G289=$B57))>0, TEXTJOIN(CHAR(10) & ""-----------------------"" & CHAR(10), TRUE, FILTER('Σύνοψη'!$E$2:$E289 & "" - "" & 'Σύνοψη'!$I$2:$I289 & "" ("" & 'Σύνοψη'!$J$2"&":$J289 & "")"", 'Σύνοψη'!$F$2:$F289=$A57, 'Σύνοψη'!$G$2:$G289=$B57, 'Σύνοψη'!$C$2:$C289=G$3)), IF(SUMPRODUCT(('Σύνοψη'!$F$2:$F289=$A57)*('Σύνοψη'!$C$2:$C289=G$3)*('Σύνοψη'!$G$2:$G289<$B57)*('Σύνοψη'!$H$2:$H289>$B57))>0, CHAR(34), """") ), """")"),"""") -> " | H57: =IFERROR(__xludf.DUMMYFUNCTION("IFERROR(IF(SUMPRODUCT(('Σύνοψη'!$F$2:$F289=$A57)*('Σύνοψη'!$C$2:$C289=H$3)*('Σύνοψη'!$G$2:$G289=$B57))>0, TEXTJOIN(CHAR(10) & ""-----------------------"" & CHAR(10), TRUE, FILTER('Σύνοψη'!$E$2:$E289 & "" - "" & 'Σύνοψη'!$I$2:$I289 & "" ("" & 'Σύνοψη'!$J$2"&":$J289 & "")"", 'Σύνοψη'!$F$2:$F289=$A57, 'Σύνοψη'!$G$2:$G289=$B57, 'Σύνοψη'!$C$2:$C289=H$3)), IF(SUMPRODUCT(('Σύνοψη'!$F$2:$F289=$A57)*('Σύνοψη'!$C$2:$C289=H$3)*('Σύνοψη'!$G$2:$G289<$B57)*('Σύνοψη'!$H$2:$H289>$B57))>0, CHAR(34), """") ), """")"),"")
A58: =$A$46 -> 46268 | B58: 0.83333333 | C58: =IFERROR(__xludf.DUMMYFUNCTION("IFERROR(IF(SUMPRODUCT(('Σύνοψη'!$F$2:$F289=$A58)*('Σύνοψη'!$C$2:$C289=C$3)*('Σύνοψη'!$G$2:$G289=$B58))>0, TEXTJOIN(CHAR(10) & ""-----------------------"" & CHAR(10), TRUE, FILTER('Σύνοψη'!$E$2:$E289 & "" - "" & 'Σύνοψη'!$I$2:$I289 & "" ("" & 'Σύνοψη'!$J$2"&":$J289 & "")"", 'Σύνοψη'!$F$2:$F289=$A58, 'Σύνοψη'!$G$2:$G289=$B58, 'Σύνοψη'!$C$2:$C289=C$3)), IF(SUMPRODUCT(('Σύνοψη'!$F$2:$F289=$A58)*('Σύνοψη'!$C$2:$C289=C$3)*('Σύνοψη'!$G$2:$G289<$B58)*('Σύνοψη'!$H$2:$H289>$B58))>0, CHAR(34), """") ), """")"),"") | D58: =IFERROR(__xludf.DUMMYFUNCTION("IFERROR(IF(SUMPRODUCT(('Σύνοψη'!$F$2:$F289=$A58)*('Σύνοψη'!$C$2:$C289=D$3)*('Σύνοψη'!$G$2:$G289=$B58))>0, TEXTJOIN(CHAR(10) & ""-----------------------"" & CHAR(10), TRUE, FILTER('Σύνοψη'!$E$2:$E289 & "" - "" & 'Σύνοψη'!$I$2:$I289 & "" ("" & 'Σύνοψη'!$J$2"&":$J289 & "")"", 'Σύνοψη'!$F$2:$F289=$A58, 'Σύνοψη'!$G$2:$G289=$B58, 'Σύνοψη'!$C$2:$C289=D$3)), IF(SUMPRODUCT(('Σύνοψη'!$F$2:$F289=$A58)*('Σύνοψη'!$C$2:$C289=D$3)*('Σύνοψη'!$G$2:$G289<$B58)*('Σύνοψη'!$H$2:$H289>$B58))>0, CHAR(34), """") ), """")"),"") | E58: =IFERROR(__xludf.DUMMYFUNCTION("IFERROR(IF(SUMPRODUCT(('Σύνοψη'!$F$2:$F289=$A58)*('Σύνοψη'!$C$2:$C289=E$3)*('Σύνοψη'!$G$2:$G289=$B58))>0, TEXTJOIN(CHAR(10) & ""-----------------------"" & CHAR(10), TRUE, FILTER('Σύνοψη'!$E$2:$E289 & "" - "" & 'Σύνοψη'!$I$2:$I289 & "" ("" & 'Σύνοψη'!$J$2"&":$J289 & "")"", 'Σύνοψη'!$F$2:$F289=$A58, 'Σύνοψη'!$G$2:$G289=$B58, 'Σύνοψη'!$C$2:$C289=E$3)), IF(SUMPRODUCT(('Σύνοψη'!$F$2:$F289=$A58)*('Σύνοψη'!$C$2:$C289=E$3)*('Σύνοψη'!$G$2:$G289<$B58)*('Σύνοψη'!$H$2:$H289>$B58))>0, CHAR(34), """") ), """")"),"""") -> " | F58: =IFERROR(__xludf.DUMMYFUNCTION("IFERROR(IF(SUMPRODUCT(('Σύνοψη'!$F$2:$F289=$A58)*('Σύνοψη'!$C$2:$C289=F$3)*('Σύνοψη'!$G$2:$G289=$B58))>0, TEXTJOIN(CHAR(10) & ""-----------------------"" & CHAR(10), TRUE, FILTER('Σύνοψη'!$E$2:$E289 & "" - "" & 'Σύνοψη'!$I$2:$I289 & "" ("" & 'Σύνοψη'!$J$2"&":$J289 & "")"", 'Σύνοψη'!$F$2:$F289=$A58, 'Σύνοψη'!$G$2:$G289=$B58, 'Σύνοψη'!$C$2:$C289=F$3)), IF(SUMPRODUCT(('Σύνοψη'!$F$2:$F289=$A58)*('Σύνοψη'!$C$2:$C289=F$3)*('Σύνοψη'!$G$2:$G289<$B58)*('Σύνοψη'!$H$2:$H289>$B58))>0, CHAR(34), """") ), """")"),"") | G58: =IFERROR(__xludf.DUMMYFUNCTION("IFERROR(IF(SUMPRODUCT(('Σύνοψη'!$F$2:$F289=$A58)*('Σύνοψη'!$C$2:$C289=G$3)*('Σύνοψη'!$G$2:$G289=$B58))>0, TEXTJOIN(CHAR(10) & ""-----------------------"" & CHAR(10), TRUE, FILTER('Σύνοψη'!$E$2:$E289 & "" - "" & 'Σύνοψη'!$I$2:$I289 & "" ("" & 'Σύνοψη'!$J$2"&":$J289 & "")"", 'Σύνοψη'!$F$2:$F289=$A58, 'Σύνοψη'!$G$2:$G289=$B58, 'Σύνοψη'!$C$2:$C289=G$3)), IF(SUMPRODUCT(('Σύνοψη'!$F$2:$F289=$A58)*('Σύνοψη'!$C$2:$C289=G$3)*('Σύνοψη'!$G$2:$G289<$B58)*('Σύνοψη'!$H$2:$H289>$B58))>0, CHAR(34), """") ), """")"),"""") -> " | H58: =IFERROR(__xludf.DUMMYFUNCTION("IFERROR(IF(SUMPRODUCT(('Σύνοψη'!$F$2:$F289=$A58)*('Σύνοψη'!$C$2:$C289=H$3)*('Σύνοψη'!$G$2:$G289=$B58))>0, TEXTJOIN(CHAR(10) & ""-----------------------"" & CHAR(10), TRUE, FILTER('Σύνοψη'!$E$2:$E289 & "" - "" & 'Σύνοψη'!$I$2:$I289 & "" ("" & 'Σύνοψη'!$J$2"&":$J289 & "")"", 'Σύνοψη'!$F$2:$F289=$A58, 'Σύνοψη'!$G$2:$G289=$B58, 'Σύνοψη'!$C$2:$C289=H$3)), IF(SUMPRODUCT(('Σύνοψη'!$F$2:$F289=$A58)*('Σύνοψη'!$C$2:$C289=H$3)*('Σύνοψη'!$G$2:$G289<$B58)*('Σύνοψη'!$H$2:$H289>$B58))>0, CHAR(34), """") ), """")"),"")
A59: =$A$46 -> 46268 | B59: 0.875 | C59: =IFERROR(__xludf.DUMMYFUNCTION("IFERROR(IF(SUMPRODUCT(('Σύνοψη'!$F$2:$F289=$A59)*('Σύνοψη'!$C$2:$C289=C$3)*('Σύνοψη'!$G$2:$G289=$B59))>0, TEXTJOIN(CHAR(10) & ""-----------------------"" & CHAR(10), TRUE, FILTER('Σύνοψη'!$E$2:$E289 & "" - "" & 'Σύνοψη'!$I$2:$I289 & "" ("" & 'Σύνοψη'!$J$2"&":$J289 & "")"", 'Σύνοψη'!$F$2:$F289=$A59, 'Σύνοψη'!$G$2:$G289=$B59, 'Σύνοψη'!$C$2:$C289=C$3)), IF(SUMPRODUCT(('Σύνοψη'!$F$2:$F289=$A59)*('Σύνοψη'!$C$2:$C289=C$3)*('Σύνοψη'!$G$2:$G289<$B59)*('Σύνοψη'!$H$2:$H289>$B59))>0, CHAR(34), """") ), """")"),"") | D59: =IFERROR(__xludf.DUMMYFUNCTION("IFERROR(IF(SUMPRODUCT(('Σύνοψη'!$F$2:$F289=$A59)*('Σύνοψη'!$C$2:$C289=D$3)*('Σύνοψη'!$G$2:$G289=$B59))>0, TEXTJOIN(CHAR(10) & ""-----------------------"" & CHAR(10), TRUE, FILTER('Σύνοψη'!$E$2:$E289 & "" - "" & 'Σύνοψη'!$I$2:$I289 & "" ("" & 'Σύνοψη'!$J$2"&":$J289 & "")"", 'Σύνοψη'!$F$2:$F289=$A59, 'Σύνοψη'!$G$2:$G289=$B59, 'Σύνοψη'!$C$2:$C289=D$3)), IF(SUMPRODUCT(('Σύνοψη'!$F$2:$F289=$A59)*('Σύνοψη'!$C$2:$C289=D$3)*('Σύνοψη'!$G$2:$G289<$B59)*('Σύνοψη'!$H$2:$H289>$B59))>0, CHAR(34), """") ), """")"),"") | E59: =IFERROR(__xludf.DUMMYFUNCTION("IFERROR(IF(SUMPRODUCT(('Σύνοψη'!$F$2:$F289=$A59)*('Σύνοψη'!$C$2:$C289=E$3)*('Σύνοψη'!$G$2:$G289=$B59))>0, TEXTJOIN(CHAR(10) & ""-----------------------"" & CHAR(10), TRUE, FILTER('Σύνοψη'!$E$2:$E289 & "" - "" & 'Σύνοψη'!$I$2:$I289 & "" ("" & 'Σύνοψη'!$J$2"&":$J289 & "")"", 'Σύνοψη'!$F$2:$F289=$A59, 'Σύνοψη'!$G$2:$G289=$B59, 'Σύνοψη'!$C$2:$C289=E$3)), IF(SUMPRODUCT(('Σύνοψη'!$F$2:$F289=$A59)*('Σύνοψη'!$C$2:$C289=E$3)*('Σύνοψη'!$G$2:$G289<$B59)*('Σύνοψη'!$H$2:$H289>$B59))>0, CHAR(34), """") ), """")"),"") | F59: =IFERROR(__xludf.DUMMYFUNCTION("IFERROR(IF(SUMPRODUCT(('Σύνοψη'!$F$2:$F289=$A59)*('Σύνοψη'!$C$2:$C289=F$3)*('Σύνοψη'!$G$2:$G289=$B59))>0, TEXTJOIN(CHAR(10) & ""-----------------------"" & CHAR(10), TRUE, FILTER('Σύνοψη'!$E$2:$E289 & "" - "" & 'Σύνοψη'!$I$2:$I289 & "" ("" & 'Σύνοψη'!$J$2"&":$J289 & "")"", 'Σύνοψη'!$F$2:$F289=$A59, 'Σύνοψη'!$G$2:$G289=$B59, 'Σύνοψη'!$C$2:$C289=F$3)), IF(SUMPRODUCT(('Σύνοψη'!$F$2:$F289=$A59)*('Σύνοψη'!$C$2:$C289=F$3)*('Σύνοψη'!$G$2:$G289<$B59)*('Σύνοψη'!$H$2:$H289>$B59))>0, CHAR(34), """") ), """")"),"") | G59: =IFERROR(__xludf.DUMMYFUNCTION("IFERROR(IF(SUMPRODUCT(('Σύνοψη'!$F$2:$F289=$A59)*('Σύνοψη'!$C$2:$C289=G$3)*('Σύνοψη'!$G$2:$G289=$B59))>0, TEXTJOIN(CHAR(10) & ""-----------------------"" & CHAR(10), TRUE, FILTER('Σύνοψη'!$E$2:$E289 & "" - "" & 'Σύνοψη'!$I$2:$I289 & "" ("" & 'Σύνοψη'!$J$2"&":$J289 & "")"", 'Σύνοψη'!$F$2:$F289=$A59, 'Σύνοψη'!$G$2:$G289=$B59, 'Σύνοψη'!$C$2:$C289=G$3)), IF(SUMPRODUCT(('Σύνοψη'!$F$2:$F289=$A59)*('Σύνοψη'!$C$2:$C289=G$3)*('Σύνοψη'!$G$2:$G289<$B59)*('Σύνοψη'!$H$2:$H289>$B59))>0, CHAR(34), """") ), """")"),"") | H59: =IFERROR(__xludf.DUMMYFUNCTION("IFERROR(IF(SUMPRODUCT(('Σύνοψη'!$F$2:$F289=$A59)*('Σύνοψη'!$C$2:$C289=H$3)*('Σύνοψη'!$G$2:$G289=$B59))>0, TEXTJOIN(CHAR(10) & ""-----------------------"" & CHAR(10), TRUE, FILTER('Σύνοψη'!$E$2:$E289 & "" - "" & 'Σύνοψη'!$I$2:$I289 & "" ("" & 'Σύνοψη'!$J$2"&":$J289 & "")"", 'Σύνοψη'!$F$2:$F289=$A59, 'Σύνοψη'!$G$2:$G289=$B59, 'Σύνοψη'!$C$2:$C289=H$3)), IF(SUMPRODUCT(('Σύνοψη'!$F$2:$F289=$A59)*('Σύνοψη'!$C$2:$C289=H$3)*('Σύνοψη'!$G$2:$G289<$B59)*('Σύνοψη'!$H$2:$H289>$B59))>0, CHAR(34), """") ), """")"),"")
A60: =$D$1+4 -> 46269 | B60: 0.33333333 | C60: =IFERROR(__xludf.DUMMYFUNCTION("IFERROR(IF(SUMPRODUCT(('Σύνοψη'!$F$2:$F289=$A60)*('Σύνοψη'!$C$2:$C289=C$3)*('Σύνοψη'!$G$2:$G289=$B60))>0, TEXTJOIN(CHAR(10) & ""-----------------------"" & CHAR(10), TRUE, FILTER('Σύνοψη'!$E$2:$E289 & "" - "" & 'Σύνοψη'!$I$2:$I289 & "" ("" & 'Σύνοψη'!$J$2"&":$J289 & "")"", 'Σύνοψη'!$F$2:$F289=$A60, 'Σύνοψη'!$G$2:$G289=$B60, 'Σύνοψη'!$C$2:$C289=C$3)), IF(SUMPRODUCT(('Σύνοψη'!$F$2:$F289=$A60)*('Σύνοψη'!$C$2:$C289=C$3)*('Σύνοψη'!$G$2:$G289<$B60)*('Σύνοψη'!$H$2:$H289>$B60))>0, CHAR(34), """") ), """")"),"") | D60: =IFERROR(__xludf.DUMMYFUNCTION("IFERROR(IF(SUMPRODUCT(('Σύνοψη'!$F$2:$F289=$A60)*('Σύνοψη'!$C$2:$C289=D$3)*('Σύνοψη'!$G$2:$G289=$B60))>0, TEXTJOIN(CHAR(10) & ""-----------------------"" & CHAR(10), TRUE, FILTER('Σύνοψη'!$E$2:$E289 & "" - "" & 'Σύνοψη'!$I$2:$I289 & "" ("" & 'Σύνοψη'!$J$2"&":$J289 & "")"", 'Σύνοψη'!$F$2:$F289=$A60, 'Σύνοψη'!$G$2:$G289=$B60, 'Σύνοψη'!$C$2:$C289=D$3)), IF(SUMPRODUCT(('Σύνοψη'!$F$2:$F289=$A60)*('Σύνοψη'!$C$2:$C289=D$3)*('Σύνοψη'!$G$2:$G289<$B60)*('Σύνοψη'!$H$2:$H289>$B60))>0, CHAR(34), """") ), """")"),"") | E60: =IFERROR(__xludf.DUMMYFUNCTION("IFERROR(IF(SUMPRODUCT(('Σύνοψη'!$F$2:$F289=$A60)*('Σύνοψη'!$C$2:$C289=E$3)*('Σύνοψη'!$G$2:$G289=$B60))>0, TEXTJOIN(CHAR(10) & ""-----------------------"" & CHAR(10), TRUE, FILTER('Σύνοψη'!$E$2:$E289 & "" - "" & 'Σύνοψη'!$I$2:$I289 & "" ("" & 'Σύνοψη'!$J$2"&":$J289 & "")"", 'Σύνοψη'!$F$2:$F289=$A60, 'Σύνοψη'!$G$2:$G289=$B60, 'Σύνοψη'!$C$2:$C289=E$3)), IF(SUMPRODUCT(('Σύνοψη'!$F$2:$F289=$A60)*('Σύνοψη'!$C$2:$C289=E$3)*('Σύνοψη'!$G$2:$G289<$B60)*('Σύνοψη'!$H$2:$H289>$B60))>0, CHAR(34), """") ), """")"),"") | F60: =IFERROR(__xludf.DUMMYFUNCTION("IFERROR(IF(SUMPRODUCT(('Σύνοψη'!$F$2:$F289=$A60)*('Σύνοψη'!$C$2:$C289=F$3)*('Σύνοψη'!$G$2:$G289=$B60))>0, TEXTJOIN(CHAR(10) & ""-----------------------"" & CHAR(10), TRUE, FILTER('Σύνοψη'!$E$2:$E289 & "" - "" & 'Σύνοψη'!$I$2:$I289 & "" ("" & 'Σύνοψη'!$J$2"&":$J289 & "")"", 'Σύνοψη'!$F$2:$F289=$A60, 'Σύνοψη'!$G$2:$G289=$B60, 'Σύνοψη'!$C$2:$C289=F$3)), IF(SUMPRODUCT(('Σύνοψη'!$F$2:$F289=$A60)*('Σύνοψη'!$C$2:$C289=F$3)*('Σύνοψη'!$G$2:$G289<$B60)*('Σύνοψη'!$H$2:$H289>$B60))>0, CHAR(34), """") ), """")"),"") | G60: =IFERROR(__xludf.DUMMYFUNCTION("IFERROR(IF(SUMPRODUCT(('Σύνοψη'!$F$2:$F289=$A60)*('Σύνοψη'!$C$2:$C289=G$3)*('Σύνοψη'!$G$2:$G289=$B60))>0, TEXTJOIN(CHAR(10) & ""-----------------------"" & CHAR(10), TRUE, FILTER('Σύνοψη'!$E$2:$E289 & "" - "" & 'Σύνοψη'!$I$2:$I289 & "" ("" & 'Σύνοψη'!$J$2"&":$J289 & "")"", 'Σύνοψη'!$F$2:$F289=$A60, 'Σύνοψη'!$G$2:$G289=$B60, 'Σύνοψη'!$C$2:$C289=G$3)), IF(SUMPRODUCT(('Σύνοψη'!$F$2:$F289=$A60)*('Σύνοψη'!$C$2:$C289=G$3)*('Σύνοψη'!$G$2:$G289<$B60)*('Σύνοψη'!$H$2:$H289>$B60))>0, CHAR(34), """") ), """")"),"") | H60: =IFERROR(__xludf.DUMMYFUNCTION("IFERROR(IF(SUMPRODUCT(('Σύνοψη'!$F$2:$F289=$A60)*('Σύνοψη'!$C$2:$C289=H$3)*('Σύνοψη'!$G$2:$G289=$B60))>0, TEXTJOIN(CHAR(10) & ""-----------------------"" & CHAR(10), TRUE, FILTER('Σύνοψη'!$E$2:$E289 & "" - "" & 'Σύνοψη'!$I$2:$I289 & "" ("" & 'Σύνοψη'!$J$2"&":$J289 & "")"", 'Σύνοψη'!$F$2:$F289=$A60, 'Σύνοψη'!$G$2:$G289=$B60, 'Σύνοψη'!$C$2:$C289=H$3)), IF(SUMPRODUCT(('Σύνοψη'!$F$2:$F289=$A60)*('Σύνοψη'!$C$2:$C289=H$3)*('Σύνοψη'!$G$2:$G289<$B60)*('Σύνοψη'!$H$2:$H289>$B60))>0, CHAR(34), """") ), """")"),"")
