Workbook
Name Μαθήματα: Σύνοψη!$E$8:$E$204

Sheet Πρόγραμμα
A1: =Σύνοψη!C2 -> Εξεταστική | B1: =Σύνοψη!E2 -> Σεπτεμβρίου | C1: =Σύνοψη!C3 -> Από | D1: =Σύνοψη!E3 -> 46265 | E1: =Σύνοψη!C4 -> Έως | F1: =Σύνοψη!E4 -> 46283 | G1: =Σύνοψη!C5 -> Διάρκεια | H1: =Σύνοψη!E5 -> 3 εβδομάδες
A3: Ημερομηνία | B3: Ώρα | C3: 1ο Έτος | D3: 2ο Έτος | E3: 3ο Έτος | F3: 4ο Έτος | G3: 5ο Έτος | H3: Επί Πτυχίω
A4: =$D$1 -> 46265 | B4: 0.33333333 | C4: =IFERROR(__xludf.DUMMYFUNCTION("IFERROR(IF(SUMPRODUCT(('Σύνοψη'!$F$2:$F289=$A4)*('Σύνοψη'!$C$2:$C289=C$3)*('Σύνοψη'!$G$2:$G289=$B4))>0, TEXTJOIN(CHAR(10) & ""-----------------------"" & CHAR(10), TRUE, FILTER('Σύνοψη'!$E$2:$E289 & "" - "" & 'Σύνοψη'!$I$2:$I289 & "" ("" & 'Σύνοψη'!$J$2:$"&"J289 & "")"", 'Σύνοψη'!$F$2:$F289=$A4, 'Σύνοψη'!$G$2:$G289=$B4, 'Σύνοψη'!$C$2:$C289=C$3)), IF(SUMPRODUCT(('Σύνοψη'!$F$2:$F289=$A4)*('Σύνοψη'!$C$2:$C289=C$3)*('Σύνοψη'!$G$2:$G289<$B4)*('Σύνοψη'!$H$2:$H289>$B4))>0, CHAR(34), """") ), """")"),"") | D4: =IFERROR(__xludf.DUMMYFUNCTION("IFERROR(IF(SUMPRODUCT(('Σύνοψη'!$F$2:$F289=$A4)*('Σύνοψη'!$C$2:$C289=D$3)*('Σύνοψη'!$G$2:$G289=$B4))>0, TEXTJOIN(CHAR(10) & ""-----------------------"" & CHAR(10), TRUE, FILTER('Σύνοψη'!$E$2:$E289 & "" - "" & 'Σύνοψη'!$I$2:$I289 & "" ("" & 'Σύνοψη'!$J$2:$"&"J289 & "")"", 'Σύνοψη'!$F$2:$F289=$A4, 'Σύνοψη'!$G$2:$G289=$B4, 'Σύνοψη'!$C$2:$C289=D$3)), IF(SUMPRODUCT(('Σύνοψη'!$F$2:$F289=$A4)*('Σύνοψη'!$C$2:$C289=D$3)*('Σύνοψη'!$G$2:$G289<$B4)*('Σύνοψη'!$H$2:$H289>$B4))>0, CHAR(34), """") ), """")"),"") | E4: =IFERROR(__xludf.DUMMYFUNCTION("IFERROR(IF(SUMPRODUCT(('Σύνοψη'!$F$2:$F289=$A4)*('Σύνοψη'!$C$2:$C289=E$3)*('Σύνοψη'!$G$2:$G289=$B4))>0, TEXTJOIN(CHAR(10) & ""-----------------------"" & CHAR(10), TRUE, FILTER('Σύνοψη'!$E$2:$E289 & "" - "" & 'Σύνοψη'!$I$2:$I289 & "" ("" & 'Σύνοψη'!$J$2:$"&"J289 & "")"", 'Σύνοψη'!$F$2:$F289=$A4, 'Σύνοψη'!$G$2:$G289=$B4, 'Σύνοψη'!$C$2:$C289=E$3)), IF(SUMPRODUCT(('Σύνοψη'!$F$2:$F289=$A4)*('Σύνοψη'!$C$2:$C289=E$3)*('Σύνοψη'!$G$2:$G289<$B4)*('Σύνοψη'!$H$2:$H289>$B4))>0, CHAR(34), """") ), """")"),"") | F4: =IFERROR(__xludf.DUMMYFUNCTION("IFERROR(IF(SUMPRODUCT(('Σύνοψη'!$F$2:$F289=$A4)*('Σύνοψη'!$C$2:$C289=F$3)*('Σύνοψη'!$G$2:$G289=$B4))>0, TEXTJOIN(CHAR(10) & ""-----------------------"" & CHAR(10), TRUE, FILTER('Σύνοψη'!$E$2:$E289 & "" - "" & 'Σύνοψη'!$I$2:$I289 & "" ("" & 'Σύνοψη'!$J$2:$"&"J289 & "")"", 'Σύνοψη'!$F$2:$F289=$A4, 'Σύνοψη'!$G$2:$G289=$B4, 'Σύνοψη'!$C$2:$C289=F$3)), IF(SUMPRODUCT(('Σύνοψη'!$F$2:$F289=$A4)*('Σύνοψη'!$C$2:$C289=F$3)*('Σύνοψη'!$G$2:$G289<$B4)*('Σύνοψη'!$H$2:$H289>$B4))>0, CHAR(34), """") ), """")"),"") | G4: =IFERROR(__xludf.DUMMYFUNCTION("IFERROR(IF(SUMPRODUCT(('Σύνοψη'!$F$2:$F289=$A4)*('Σύνοψη'!$C$2:$C289=G$3)*('Σύνοψη'!$G$2:$G289=$B4))>0, TEXTJOIN(CHAR(10) & ""-----------------------"" & CHAR(10), TRUE, FILTER('Σύνοψη'!$E$2:$E289 & "" - "" & 'Σύνοψη'!$I$2:$I289 & "" ("" & 'Σύνοψη'!$J$2:$"&"J289 & "")"", 'Σύνοψη'!$F$2:$F289=$A4, 'Σύνοψη'!$G$2:$G289=$B4, 'Σύνοψη'!$C$2:$C289=G$3)), IF(SUMPRODUCT(('Σύνοψη'!$F$2:$F289=$A4)*('Σύνοψη'!$C$2:$C289=G$3)*('Σύνοψη'!$G$2:$G289<$B4)*('Σύνοψη'!$H$2:$H289>$B4))>0, CHAR(34), """") ), """")"),"") | H4: =IFERROR(__xludf.DUMMYFUNCTION("IFERROR(IF(SUMPRODUCT(('Σύνοψη'!$F$2:$F289=$A4)*('Σύνοψη'!$C$2:$C289=H$3)*('Σύνοψη'!$G$2:$G289=$B4))>0, TEXTJOIN(CHAR(10) & ""-----------------------"" & CHAR(10), TRUE, FILTER('Σύνοψη'!$E$2:$E289 & "" - "" & 'Σύνοψη'!$I$2:$I289 & "" ("" & 'Σύνοψη'!$J$2:$"&"J289 & "")"", 'Σύνοψη'!$F$2:$F289=$A4, 'Σύνοψη'!$G$2:$G289=$B4, 'Σύνοψη'!$C$2:$C289=H$3)), IF(SUMPRODUCT(('Σύνοψη'!$F$2:$F289=$A4)*('Σύνοψη'!$C$2:$C289=H$3)*('Σύνοψη'!$G$2:$G289<$B4)*('Σύνοψη'!$H$2:$H289>$B4))>0, CHAR(34), """") ), """")"),"")
A5: =$A$4 -> 46265 | B5: 0.375 | C5: =IFERROR(__xludf.DUMMYFUNCTION("IFERROR(IF(SUMPRODUCT(('Σύνοψη'!$F$2:$F289=$A5)*('Σύνοψη'!$C$2:$C289=C$3)*('Σύνοψη'!$G$2:$G289=$B5))>0, TEXTJOIN(CHAR(10) & ""-----------------------"" & CHAR(10), TRUE, FILTER('Σύνοψη'!$E$2:$E289 & "" - "" & 'Σύνοψη'!$I$2:$I289 & "" ("" & 'Σύνοψη'!$J$2:$"&"J289 & "")"", 'Σύνοψη'!$F$2:$F289=$A5, 'Σύνοψη'!$G$2:$G289=$B5, 'Σύνοψη'!$C$2:$C289=C$3)), IF(SUMPRODUCT(('Σύνοψη'!$F$2:$F289=$A5)*('Σύνοψη'!$C$2:$C289=C$3)*('Σύνοψη'!$G$2:$G289<$B5)*('Σύνοψη'!$H$2:$H289>$B5))>0, CHAR(34), """") ), """")"),"") | D5: =IFERROR(__xludf.DUMMYFUNCTION("IFERROR(IF(SUMPRODUCT(('Σύνοψη'!$F$2:$F289=$A5)*('Σύνοψη'!$C$2:$C289=D$3)*('Σύνοψη'!$G$2:$G289=$B5))>0, TEXTJOIN(CHAR(10) & ""-----------------------"" & CHAR(10), TRUE, FILTER('Σύνοψη'!$E$2:$E289 & "" - "" & 'Σύνοψη'!$I$2:$I289 & "" ("" & 'Σύνοψη'!$J$2:$"&"J289 & "")"", 'Σύνοψη'!$F$2:$F289=$A5, 'Σύνοψη'!$G$2:$G289=$B5, 'Σύνοψη'!$C$2:$C289=D$3)), IF(SUMPRODUCT(('Σύνοψη'!$F$2:$F289=$A5)*('Σύνοψη'!$C$2:$C289=D$3)*('Σύνοψη'!$G$2:$G289<$B5)*('Σύνοψη'!$H$2:$H289>$B5))>0, CHAR(34), """") ), """")"),"") | E5: =IFERROR(__xludf.DUMMYFUNCTION("IFERROR(IF(SUMPRODUCT(('Σύνοψη'!$F$2:$F289=$A5)*('Σύνοψη'!$C$2:$C289=E$3)*('Σύνοψη'!$G$2:$G289=$B5))>0, TEXTJOIN(CHAR(10) & ""-----------------------"" & CHAR(10), TRUE, FILTER('Σύνοψη'!$E$2:$E289 & "" - "" & 'Σύνοψη'!$I$2:$I289 & "" ("" & 'Σύνοψη'!$J$2:$"&"J289 & "")"", 'Σύνοψη'!$F$2:$F289=$A5, 'Σύνοψη'!$G$2:$G289=$B5, 'Σύνοψη'!$C$2:$C289=E$3)), IF(SUMPRODUCT(('Σύνοψη'!$F$2:$F289=$A5)*('Σύνοψη'!$C$2:$C289=E$3)*('Σύνοψη'!$G$2:$G289<$B5)*('Σύνοψη'!$H$2:$H289>$B5))>0, CHAR(34), """") ), """")"),"") | F5: =IFERROR(__xludf.DUMMYFUNCTION("IFERROR(IF(SUMPRODUCT(('Σύνοψη'!$F$2:$F289=$A5)*('Σύνοψη'!$C$2:$C289=F$3)*('Σύνοψη'!$G$2:$G289=$B5))>0, TEXTJOIN(CHAR(10) & ""-----------------------"" & CHAR(10), TRUE, FILTER('Σύνοψη'!$E$2:$E289 & "" - "" & 'Σύνοψη'!$I$2:$I289 & "" ("" & 'Σύνοψη'!$J$2:$"&"J289 & "")"", 'Σύνοψη'!$F$2:$F289=$A5, 'Σύνοψη'!$G$2:$G289=$B5, 'Σύνοψη'!$C$2:$C289=F$3)), IF(SUMPRODUCT(('Σύνοψη'!$F$2:$F289=$A5)*('Σύνοψη'!$C$2:$C289=F$3)*('Σύνοψη'!$G$2:$G289<$B5)*('Σύνοψη'!$H$2:$H289>$B5))>0, CHAR(34), """") ), """")"),"") | G5: =IFERROR(__xludf.DUMMYFUNCTION("IFERROR(IF(SUMPRODUCT(('Σύνοψη'!$F$2:$F289=$A5)*('Σύνοψη'!$C$2:$C289=G$3)*('Σύνοψη'!$G$2:$G289=$B5))>0, TEXTJOIN(CHAR(10) & ""-----------------------"" & CHAR(10), TRUE, FILTER('Σύνοψη'!$E$2:$E289 & "" - "" & 'Σύνοψη'!$I$2:$I289 & "" ("" & 'Σύνοψη'!$J$2:$"&"J289 & "")"", 'Σύνοψη'!$F$2:$F289=$A5, 'Σύνοψη'!$G$2:$G289=$B5, 'Σύνοψη'!$C$2:$C289=G$3)), IF(SUMPRODUCT(('Σύνοψη'!$F$2:$F289=$A5)*('Σύνοψη'!$C$2:$C289=G$3)*('Σύνοψη'!$G$2:$G289<$B5)*('Σύνοψη'!$H$2:$H289>$B5))>0, CHAR(34), """") ), """")"),"Πρακτική Άσκηση στη Διαγνωστική Παθολογική Ανατομική ΙΙ (Γραπτά) - 09:00 - 12:00 (Αίθουσα Έναντι Χειρουργικής)") -> Πρακτική Άσκηση στη Διαγνωστική Παθολογική Ανατομική ΙΙ (Γραπτά) - 09:00 - 12:00 (Αίθουσα Έναντι Χειρουργικής) | H5: =IFERROR(__xludf.DUMMYFUNCTION("IFERROR(IF(SUMPRODUCT(('Σύνοψη'!$F$2:$F289=$A5)*('Σύνοψη'!$C$2:$C289=H$3)*('Σύνοψη'!$G$2:$G289=$B5))>0, TEXTJOIN(CHAR(10) & ""-----------------------"" & CHAR(10), TRUE, FILTER('Σύνοψη'!$E$2:$E289 & "" - "" & 'Σύνοψη'!$I$2:$I289 & "" ("" & 'Σύνοψη'!$J$2:$"&"J289 & "")"", 'Σύνοψη'!$F$2:$F289=$A5, 'Σύνοψη'!$G$2:$G289=$B5, 'Σύνοψη'!$C$2:$C289=H$3)), IF(SUMPRODUCT(('Σύνοψη'!$F$2:$F289=$A5)*('Σύνοψη'!$C$2:$C289=H$3)*('Σύνοψη'!$G$2:$G289<$B5)*('Σύνοψη'!$H$2:$H289>$B5))>0, CHAR(34), """") ), """")"),"")
A6: =$A$4 -> 46265 | B6: 0.41666667 | C6: =IFERROR(__xludf.DUMMYFUNCTION("IFERROR(IF(SUMPRODUCT(('Σύνοψη'!$F$2:$F289=$A6)*('Σύνοψη'!$C$2:$C289=C$3)*('Σύνοψη'!$G$2:$G289=$B6))>0, TEXTJOIN(CHAR(10) & ""-----------------------"" & CHAR(10), TRUE, FILTER('Σύνοψη'!$E$2:$E289 & "" - "" & 'Σύνοψη'!$I$2:$I289 & "" ("" & 'Σύνοψη'!$J$2:$"&"J289 & "")"", 'Σύνοψη'!$F$2:$F289=$A6, 'Σύνοψη'!$G$2:$G289=$B6, 'Σύνοψη'!$C$2:$C289=C$3)), IF(SUMPRODUCT(('Σύνοψη'!$F$2:$F289=$A6)*('Σύνοψη'!$C$2:$C289=C$3)*('Σύνοψη'!$G$2:$G289<$B6)*('Σύνοψη'!$H$2:$H289>$B6))>0, CHAR(34), """") ), """")"),"") | D6: =IFERROR(__xludf.DUMMYFUNCTION("IFERROR(IF(SUMPRODUCT(('Σύνοψη'!$F$2:$F289=$A6)*('Σύνοψη'!$C$2:$C289=D$3)*('Σύνοψη'!$G$2:$G289=$B6))>0, TEXTJOIN(CHAR(10) & ""-----------------------"" & CHAR(10), TRUE, FILTER('Σύνοψη'!$E$2:$E289 & "" - "" & 'Σύνοψη'!$I$2:$I289 & "" ("" & 'Σύνοψη'!$J$2:$"&"J289 & "")"", 'Σύνοψη'!$F$2:$F289=$A6, 'Σύνοψη'!$G$2:$G289=$B6, 'Σύνοψη'!$C$2:$C289=D$3)), IF(SUMPRODUCT(('Σύνοψη'!$F$2:$F289=$A6)*('Σύνοψη'!$C$2:$C289=D$3)*('Σύνοψη'!$G$2:$G289<$B6)*('Σύνοψη'!$H$2:$H289>$B6))>0, CHAR(34), """") ), """")"),"") | E6: =IFERROR(__xludf.DUMMYFUNCTION("IFERROR(IF(SUMPRODUCT(('Σύνοψη'!$F$2:$F289=$A6)*('Σύνοψη'!$C$2:$C289=E$3)*('Σύνοψη'!$G$2:$G289=$B6))>0, TEXTJOIN(CHAR(10) & ""-----------------------"" & CHAR(10), TRUE, FILTER('Σύνοψη'!$E$2:$E289 & "" - "" & 'Σύνοψη'!$I$2:$I289 & "" ("" & 'Σύνοψη'!$J$2:$"&"J289 & "")"", 'Σύνοψη'!$F$2:$F289=$A6, 'Σύνοψη'!$G$2:$G289=$B6, 'Σύνοψη'!$C$2:$C289=E$3)), IF(SUMPRODUCT(('Σύνοψη'!$F$2:$F289=$A6)*('Σύνοψη'!$C$2:$C289=E$3)*('Σύνοψη'!$G$2:$G289<$B6)*('Σύνοψη'!$H$2:$H289>$B6))>0, CHAR(34), """") ), """")"),"") | F6: =IFERROR(__xludf.DUMMYFUNCTION("IFERROR(IF(SUMPRODUCT(('Σύνοψη'!$F$2:$F289=$A6)*('Σύνοψη'!$C$2:$C289=F$3)*('Σύνοψη'!$G$2:$G289=$B6))>0, TEXTJOIN(CHAR(10) & ""-----------------------"" & CHAR(10), TRUE, FILTER('Σύνοψη'!$E$2:$E289 & "" - "" & 'Σύνοψη'!$I$2:$I289 & "" ("" & 'Σύνοψη'!$J$2:$"&"J289 & "")"", 'Σύνοψη'!$F$2:$F289=$A6, 'Σύνοψη'!$G$2:$G289=$B6, 'Σύνοψη'!$C$2:$C289=F$3)), IF(SUMPRODUCT(('Σύνοψη'!$F$2:$F289=$A6)*('Σύνοψη'!$C$2:$C289=F$3)*('Σύνοψη'!$G$2:$G289<$B6)*('Σύνοψη'!$H$2:$H289>$B6))>0, CHAR(34), """") ), """")"),"") | G6: =IFERROR(__xludf.DUMMYFUNCTION("IFERROR(IF(SUMPRODUCT(('Σύνοψη'!$F$2:$F289=$A6)*('Σύνοψη'!$C$2:$C289=G$3)*('Σύνοψη'!$G$2:$G289=$B6))>0, TEXTJOIN(CHAR(10) & ""-----------------------"" & CHAR(10), TRUE, FILTER('Σύνοψη'!$E$2:$E289 & "" - "" & 'Σύνοψη'!$I$2:$I289 & "" ("" & 'Σύνοψη'!$J$2:$"&"J289 & "")"", 'Σύνοψη'!$F$2:$F289=$A6, 'Σύνοψη'!$G$2:$G289=$B6, 'Σύνοψη'!$C$2:$C289=G$3)), IF(SUMPRODUCT(('Σύνοψη'!$F$2:$F289=$A6)*('Σύνοψη'!$C$2:$C289=G$3)*('Σύνοψη'!$G$2:$G289<$B6)*('Σύνοψη'!$H$2:$H289>$B6))>0, CHAR(34), """") ), """")"),"""") -> " | H6: =IFERROR(__xludf.DUMMYFUNCTION("IFERROR(IF(SUMPRODUCT(('Σύνοψη'!$F$2:$F289=$A6)*('Σύνοψη'!$C$2:$C289=H$3)*('Σύνοψη'!$G$2:$G289=$B6))>0, TEXTJOIN(CHAR(10) & ""-----------------------"" & CHAR(10), TRUE, FILTER('Σύνοψη'!$E$2:$E289 & "" - "" & 'Σύνοψη'!$I$2:$I289 & "" ("" & 'Σύνοψη'!$J$2:$"&"J289 & "")"", 'Σύνοψη'!$F$2:$F289=$A6, 'Σύνοψη'!$G$2:$G289=$B6, 'Σύνοψη'!$C$2:$C289=H$3)), IF(SUMPRODUCT(('Σύνοψη'!$F$2:$F289=$A6)*('Σύνοψη'!$C$2:$C289=H$3)*('Σύνοψη'!$G$2:$G289<$B6)*('Σύνοψη'!$H$2:$H289>$B6))>0, CHAR(34), """") ), """")"),"")
A7: =$A$4 -> 46265 | B7: 0.45833333 | C7: =IFERROR(__xludf.DUMMYFUNCTION("IFERROR(IF(SUMPRODUCT(('Σύνοψη'!$F$2:$F289=$A7)*('Σύνοψη'!$C$2:$C289=C$3)*('Σύνοψη'!$G$2:$G289=$B7))>0, TEXTJOIN(CHAR(10) & ""-----------------------"" & CHAR(10), TRUE, FILTER('Σύνοψη'!$E$2:$E289 & "" - "" & 'Σύνοψη'!$I$2:$I289 & "" ("" & 'Σύνοψη'!$J$2:$"&"J289 & "")"", 'Σύνοψη'!$F$2:$F289=$A7, 'Σύνοψη'!$G$2:$G289=$B7, 'Σύνοψη'!$C$2:$C289=C$3)), IF(SUMPRODUCT(('Σύνοψη'!$F$2:$F289=$A7)*('Σύνοψη'!$C$2:$C289=C$3)*('Σύνοψη'!$G$2:$G289<$B7)*('Σύνοψη'!$H$2:$H289>$B7))>0, CHAR(34), """") ), """")"),"") | D7: =IFERROR(__xludf.DUMMYFUNCTION("IFERROR(IF(SUMPRODUCT(('Σύνοψη'!$F$2:$F289=$A7)*('Σύνοψη'!$C$2:$C289=D$3)*('Σύνοψη'!$G$2:$G289=$B7))>0, TEXTJOIN(CHAR(10) & ""-----------------------"" & CHAR(10), TRUE, FILTER('Σύνοψη'!$E$2:$E289 & "" - "" & 'Σύνοψη'!$I$2:$I289 & "" ("" & 'Σύνοψη'!$J$2:$"&"J289 & "")"", 'Σύνοψη'!$F$2:$F289=$A7, 'Σύνοψη'!$G$2:$G289=$B7, 'Σύνοψη'!$C$2:$C289=D$3)), IF(SUMPRODUCT(('Σύνοψη'!$F$2:$F289=$A7)*('Σύνοψη'!$C$2:$C289=D$3)*('Σύνοψη'!$G$2:$G289<$B7)*('Σύνοψη'!$H$2:$H289>$B7))>0, CHAR(34), """") ), """")"),"") | E7: =IFERROR(__xludf.DUMMYFUNCTION("IFERROR(IF(SUMPRODUCT(('Σύνοψη'!$F$2:$F289=$A7)*('Σύνοψη'!$C$2:$C289=E$3)*('Σύνοψη'!$G$2:$G289=$B7))>0, TEXTJOIN(CHAR(10) & ""-----------------------"" & CHAR(10), TRUE, FILTER('Σύνοψη'!$E$2:$E289 & "" - "" & 'Σύνοψη'!$I$2:$I289 & "" ("" & 'Σύνοψη'!$J$2:$"&"J289 & "")"", 'Σύνοψη'!$F$2:$F289=$A7, 'Σύνοψη'!$G$2:$G289=$B7, 'Σύνοψη'!$C$2:$C289=E$3)), IF(SUMPRODUCT(('Σύνοψη'!$F$2:$F289=$A7)*('Σύνοψη'!$C$2:$C289=E$3)*('Σύνοψη'!$G$2:$G289<$B7)*('Σύνοψη'!$H$2:$H289>$B7))>0, CHAR(34), """") ), """")"),"") | F7: =IFERROR(__xludf.DUMMYFUNCTION("IFERROR(IF(SUMPRODUCT(('Σύνοψη'!$F$2:$F289=$A7)*('Σύνοψη'!$C$2:$C289=F$3)*('Σύνοψη'!$G$2:$G289=$B7))>0, TEXTJOIN(CHAR(10) & ""-----------------------"" & CHAR(10), TRUE, FILTER('Σύνοψη'!$E$2:$E289 & "" - "" & 'Σύνοψη'!$I$2:$I289 & "" ("" & 'Σύνοψη'!$J$2:$"&"J289 & "")"", 'Σύνοψη'!$F$2:$F289=$A7, 'Σύνοψη'!$G$2:$G289=$B7, 'Σύνοψη'!$C$2:$C289=F$3)), IF(SUMPRODUCT(('Σύνοψη'!$F$2:$F289=$A7)*('Σύνοψη'!$C$2:$C289=F$3)*('Σύνοψη'!$G$2:$G289<$B7)*('Σύνοψη'!$H$2:$H289>$B7))>0, CHAR(34), """") ), """")"),"") | G7: =IFERROR(__xludf.DUMMYFUNCTION("IFERROR(IF(SUMPRODUCT(('Σύνοψη'!$F$2:$F289=$A7)*('Σύνοψη'!$C$2:$C289=G$3)*('Σύνοψη'!$G$2:$G289=$B7))>0, TEXTJOIN(CHAR(10) & ""-----------------------"" & CHAR(10), TRUE, FILTER('Σύνοψη'!$E$2:$E289 & "" - "" & 'Σύνοψη'!$I$2:$I289 & "" ("" & 'Σύνοψη'!$J$2:$"&"J289 & "")"", 'Σύνοψη'!$F$2:$F289=$A7, 'Σύνοψη'!$G$2:$G289=$B7, 'Σύνοψη'!$C$2:$C289=G$3)), IF(SUMPRODUCT(('Σύνοψη'!$F$2:$F289=$A7)*('Σύνοψη'!$C$2:$C289=G$3)*('Σύνοψη'!$G$2:$G289<$B7)*('Σύνοψη'!$H$2:$H289>$B7))>0, CHAR(34), """") ), """")"),"""") -> " | H7: =IFERROR(__xludf.DUMMYFUNCTION("IFERROR(IF(SUMPRODUCT(('Σύνοψη'!$F$2:$F289=$A7)*('Σύνοψη'!$C$2:$C289=H$3)*('Σύνοψη'!$G$2:$G289=$B7))>0, TEXTJOIN(CHAR(10) & ""-----------------------"" & CHAR(10), TRUE, FILTER('Σύνοψη'!$E$2:$E289 & "" - "" & 'Σύνοψη'!$I$2:$I289 & "" ("" & 'Σύνοψη'!$J$2:$"&"J289 & "")"", 'Σύνοψη'!$F$2:$F289=$A7, 'Σύνοψη'!$G$2:$G289=$B7, 'Σύνοψη'!$C$2:$C289=H$3)), IF(SUMPRODUCT(('Σύνοψη'!$F$2:$F289=$A7)*('Σύνοψη'!$C$2:$C289=H$3)*('Σύνοψη'!$G$2:$G289<$B7)*('Σύνοψη'!$H$2:$H289>$B7))>0, CHAR(34), """") ), """")"),"")
A8: =$A$4 -> 46265 | B8: 0.5 | C8: =IFERROR(__xludf.DUMMYFUNCTION("IFERROR(IF(SUMPRODUCT(('Σύνοψη'!$F$2:$F289=$A8)*('Σύνοψη'!$C$2:$C289=C$3)*('Σύνοψη'!$G$2:$G289=$B8))>0, TEXTJOIN(CHAR(10) & ""-----------------------"" & CHAR(10), TRUE, FILTER('Σύνοψη'!$E$2:$E289 & "" - "" & 'Σύνοψη'!$I$2:$I289 & "" ("" & 'Σύνοψη'!$J$2:$"&"J289 & "")"", 'Σύνοψη'!$F$2:$F289=$A8, 'Σύνοψη'!$G$2:$G289=$B8, 'Σύνοψη'!$C$2:$C289=C$3)), IF(SUMPRODUCT(('Σύνοψη'!$F$2:$F289=$A8)*('Σύνοψη'!$C$2:$C289=C$3)*('Σύνοψη'!$G$2:$G289<$B8)*('Σύνοψη'!$H$2:$H289>$B8))>0, CHAR(34), """") ), """")"),"Ζωολογία - 12:00 - 15:00 (Αμφιθέατρα)") -> Ζωολογία - 12:00 - 15:00 (Αμφιθέατρα) | D8: =IFERROR(__xludf.DUMMYFUNCTION("IFERROR(IF(SUMPRODUCT(('Σύνοψη'!$F$2:$F289=$A8)*('Σύνοψη'!$C$2:$C289=D$3)*('Σύνοψη'!$G$2:$G289=$B8))>0, TEXTJOIN(CHAR(10) & ""-----------------------"" & CHAR(10), TRUE, FILTER('Σύνοψη'!$E$2:$E289 & "" - "" & 'Σύνοψη'!$I$2:$I289 & "" ("" & 'Σύνοψη'!$J$2:$"&"J289 & "")"", 'Σύνοψη'!$F$2:$F289=$A8, 'Σύνοψη'!$G$2:$G289=$B8, 'Σύνοψη'!$C$2:$C289=D$3)), IF(SUMPRODUCT(('Σύνοψη'!$F$2:$F289=$A8)*('Σύνοψη'!$C$2:$C289=D$3)*('Σύνοψη'!$G$2:$G289<$B8)*('Σύνοψη'!$H$2:$H289>$B8))>0, CHAR(34), """") ), """")"),"") | E8: =IFERROR(__xludf.DUMMYFUNCTION("IFERROR(IF(SUMPRODUCT(('Σύνοψη'!$F$2:$F289=$A8)*('Σύνοψη'!$C$2:$C289=E$3)*('Σύνοψη'!$G$2:$G289=$B8))>0, TEXTJOIN(CHAR(10) & ""-----------------------"" & CHAR(10), TRUE, FILTER('Σύνοψη'!$E$2:$E289 & "" - "" & 'Σύνοψη'!$I$2:$I289 & "" ("" & 'Σύνοψη'!$J$2:$"&"J289 & "")"", 'Σύνοψη'!$F$2:$F289=$A8, 'Σύνοψη'!$G$2:$G289=$B8, 'Σύνοψη'!$C$2:$C289=E$3)), IF(SUMPRODUCT(('Σύνοψη'!$F$2:$F289=$A8)*('Σύνοψη'!$C$2:$C289=E$3)*('Σύνοψη'!$G$2:$G289<$B8)*('Σύνοψη'!$H$2:$H289>$B8))>0, CHAR(34), """") ), """")"),"") | F8: =IFERROR(__xludf.DUMMYFUNCTION("IFERROR(IF(SUMPRODUCT(('Σύνοψη'!$F$2:$F289=$A8)*('Σύνοψη'!$C$2:$C289=F$3)*('Σύνοψη'!$G$2:$G289=$B8))>0, TEXTJOIN(CHAR(10) & ""-----------------------"" & CHAR(10), TRUE, FILTER('Σύνοψη'!$E$2:$E289 & "" - "" & 'Σύνοψη'!$I$2:$I289 & "" ("" & 'Σύνοψη'!$J$2:$"&"J289 & "")"", 'Σύνοψη'!$F$2:$F289=$A8, 'Σύνοψη'!$G$2:$G289=$B8, 'Σύνοψη'!$C$2:$C289=F$3)), IF(SUMPRODUCT(('Σύνοψη'!$F$2:$F289=$A8)*('Σύνοψη'!$C$2:$C289=F$3)*('Σύνοψη'!$G$2:$G289<$B8)*('Σύνοψη'!$H$2:$H289>$B8))>0, CHAR(34), """") ), """")"),"") | G8: =IFERROR(__xludf.DUMMYFUNCTION("IFERROR(IF(SUMPRODUCT(('Σύνοψη'!$F$2:$F289=$A8)*('Σύνοψη'!$C$2:$C289=G$3)*('Σύνοψη'!$G$2:$G289=$B8))>0, TEXTJOIN(CHAR(10) & ""-----------------------"" & CHAR(10), TRUE, FILTER('Σύνοψη'!$E$2:$E289 & "" - "" & 'Σύνοψη'!$I$2:$I289 & "" ("" & 'Σύνοψη'!$J$2:$"&"J289 & "")"", 'Σύνοψη'!$F$2:$F289=$A8, 'Σύνοψη'!$G$2:$G289=$B8, 'Σύνοψη'!$C$2:$C289=G$3)), IF(SUMPRODUCT(('Σύνοψη'!$F$2:$F289=$A8)*('Σύνοψη'!$C$2:$C289=G$3)*('Σύνοψη'!$G$2:$G289<$B8)*('Σύνοψη'!$H$2:$H289>$B8))>0, CHAR(34), """") ), """")"),"Πρακτική Άσκηση στη Διαγνωστική Παθολογική Ανατομική ΙΙ (Πρακτικά) - 12:00 - 17:00 (Νεκροτομείο)") -> Πρακτική Άσκηση στη Διαγνωστική Παθολογική Ανατομική ΙΙ (Πρακτικά) - 12:00 - 17:00 (Νεκροτομείο) | H8: =IFERROR(__xludf.DUMMYFUNCTION("IFERROR(IF(SUMPRODUCT(('Σύνοψη'!$F$2:$F289=$A8)*('Σύνοψη'!$C$2:$C289=H$3)*('Σύνοψη'!$G$2:$G289=$B8))>0, TEXTJOIN(CHAR(10) & ""-----------------------"" & CHAR(10), TRUE, FILTER('Σύνοψη'!$E$2:$E289 & "" - "" & 'Σύνοψη'!$I$2:$I289 & "" ("" & 'Σύνοψη'!$J$2:$"&"J289 & "")"", 'Σύνοψη'!$F$2:$F289=$A8, 'Σύνοψη'!$G$2:$G289=$B8, 'Σύνοψη'!$C$2:$C289=H$3)), IF(SUMPRODUCT(('Σύνοψη'!$F$2:$F289=$A8)*('Σύνοψη'!$C$2:$C289=H$3)*('Σύνοψη'!$G$2:$G289<$B8)*('Σύνοψη'!$H$2:$H289>$B8))>0, CHAR(34), """") ), """")"),"")
A9: =$A$4 -> 46265 | B9: 0.54166667 | C9: =IFERROR(__xludf.DUMMYFUNCTION("IFERROR(IF(SUMPRODUCT(('Σύνοψη'!$F$2:$F289=$A9)*('Σύνοψη'!$C$2:$C289=C$3)*('Σύνοψη'!$G$2:$G289=$B9))>0, TEXTJOIN(CHAR(10) & ""-----------------------"" & CHAR(10), TRUE, FILTER('Σύνοψη'!$E$2:$E289 & "" - "" & 'Σύνοψη'!$I$2:$I289 & "" ("" & 'Σύνοψη'!$J$2:$"&"J289 & "")"", 'Σύνοψη'!$F$2:$F289=$A9, 'Σύνοψη'!$G$2:$G289=$B9, 'Σύνοψη'!$C$2:$C289=C$3)), IF(SUMPRODUCT(('Σύνοψη'!$F$2:$F289=$A9)*('Σύνοψη'!$C$2:$C289=C$3)*('Σύνοψη'!$G$2:$G289<$B9)*('Σύνοψη'!$H$2:$H289>$B9))>0, CHAR(34), """") ), """")"),"""") -> " | D9: =IFERROR(__xludf.DUMMYFUNCTION("IFERROR(IF(SUMPRODUCT(('Σύνοψη'!$F$2:$F289=$A9)*('Σύνοψη'!$C$2:$C289=D$3)*('Σύνοψη'!$G$2:$G289=$B9))>0, TEXTJOIN(CHAR(10) & ""-----------------------"" & CHAR(10), TRUE, FILTER('Σύνοψη'!$E$2:$E289 & "" - "" & 'Σύνοψη'!$I$2:$I289 & "" ("" & 'Σύνοψη'!$J$2:$"&"J289 & "")"", 'Σύνοψη'!$F$2:$F289=$A9, 'Σύνοψη'!$G$2:$G289=$B9, 'Σύνοψη'!$C$2:$C289=D$3)), IF(SUMPRODUCT(('Σύνοψη'!$F$2:$F289=$A9)*('Σύνοψη'!$C$2:$C289=D$3)*('Σύνοψη'!$G$2:$G289<$B9)*('Σύνοψη'!$H$2:$H289>$B9))>0, CHAR(34), """") ), """")"),"") | E9: =IFERROR(__xludf.DUMMYFUNCTION("IFERROR(IF(SUMPRODUCT(('Σύνοψη'!$F$2:$F289=$A9)*('Σύνοψη'!$C$2:$C289=E$3)*('Σύνοψη'!$G$2:$G289=$B9))>0, TEXTJOIN(CHAR(10) & ""-----------------------"" & CHAR(10), TRUE, FILTER('Σύνοψη'!$E$2:$E289 & "" - "" & 'Σύνοψη'!$I$2:$I289 & "" ("" & 'Σύνοψη'!$J$2:$"&"J289 & "")"", 'Σύνοψη'!$F$2:$F289=$A9, 'Σύνοψη'!$G$2:$G289=$B9, 'Σύνοψη'!$C$2:$C289=E$3)), IF(SUMPRODUCT(('Σύνοψη'!$F$2:$F289=$A9)*('Σύνοψη'!$C$2:$C289=E$3)*('Σύνοψη'!$G$2:$G289<$B9)*('Σύνοψη'!$H$2:$H289>$B9))>0, CHAR(34), """") ), """")"),"") | F9: =IFERROR(__xludf.DUMMYFUNCTION("IFERROR(IF(SUMPRODUCT(('Σύνοψη'!$F$2:$F289=$A9)*('Σύνοψη'!$C$2:$C289=F$3)*('Σύνοψη'!$G$2:$G289=$B9))>0, TEXTJOIN(CHAR(10) & ""-----------------------"" & CHAR(10), TRUE, FILTER('Σύνοψη'!$E$2:$E289 & "" - "" & 'Σύνοψη'!$I$2:$I289 & "" ("" & 'Σύνοψη'!$J$2:$"&"J289 & "")"", 'Σύνοψη'!$F$2:$F289=$A9, 'Σύνοψη'!$G$2:$G289=$B9, 'Σύνοψη'!$C$2:$C289=F$3)), IF(SUMPRODUCT(('Σύνοψη'!$F$2:$F289=$A9)*('Σύνοψη'!$C$2:$C289=F$3)*('Σύνοψη'!$G$2:$G289<$B9)*('Σύνοψη'!$H$2:$H289>$B9))>0, CHAR(34), """") ), """")"),"") | G9: =IFERROR(__xludf.DUMMYFUNCTION("IFERROR(IF(SUMPRODUCT(('Σύνοψη'!$F$2:$F289=$A9)*('Σύνοψη'!$C$2:$C289=G$3)*('Σύνοψη'!$G$2:$G289=$B9))>0, TEXTJOIN(CHAR(10) & ""-----------------------"" & CHAR(10), TRUE, FILTER('Σύνοψη'!$E$2:$E289 & "" - "" & 'Σύνοψη'!$I$2:$I289 & "" ("" & 'Σύνοψη'!$J$2:$"&"J289 & "")"", 'Σύνοψη'!$F$2:$F289=$A9, 'Σύνοψη'!$G$2:$G289=$B9, 'Σύνοψη'!$C$2:$C289=G$3)), IF(SUMPRODUCT(('Σύνοψη'!$F$2:$F289=$A9)*('Σύνοψη'!$C$2:$C289=G$3)*('Σύνοψη'!$G$2:$G289<$B9)*('Σύνοψη'!$H$2:$H289>$B9))>0, CHAR(34), """") ), """")"),"""") -> " | H9: =IFERROR(__xludf.DUMMYFUNCTION("IFERROR(IF(SUMPRODUCT(('Σύνοψη'!$F$2:$F289=$A9)*('Σύνοψη'!$C$2:$C289=H$3)*('Σύνοψη'!$G$2:$G289=$B9))>0, TEXTJOIN(CHAR(10) & ""-----------------------"" & CHAR(10), TRUE, FILTER('Σύνοψη'!$E$2:$E289 & "" - "" & 'Σύνοψη'!$I$2:$I289 & "" ("" & 'Σύνοψη'!$J$2:$"&"J289 & "")"", 'Σύνοψη'!$F$2:$F289=$A9, 'Σύνοψη'!$G$2:$G289=$B9, 'Σύνοψη'!$C$2:$C289=H$3)), IF(SUMPRODUCT(('Σύνοψη'!$F$2:$F289=$A9)*('Σύνοψη'!$C$2:$C289=H$3)*('Σύνοψη'!$G$2:$G289<$B9)*('Σύνοψη'!$H$2:$H289>$B9))>0, CHAR(34), """") ), """")"),"")
A10: =$A$4 -> 46265 | B10: 0.58333333 | C10: =IFERROR(__xludf.DUMMYFUNCTION("IFERROR(IF(SUMPRODUCT(('Σύνοψη'!$F$2:$F289=$A10)*('Σύνοψη'!$C$2:$C289=C$3)*('Σύνοψη'!$G$2:$G289=$B10))>0, TEXTJOIN(CHAR(10) & ""-----------------------"" & CHAR(10), TRUE, FILTER('Σύνοψη'!$E$2:$E289 & "" - "" & 'Σύνοψη'!$I$2:$I289 & "" ("" & 'Σύνοψη'!$J$2"&":$J289 & "")"", 'Σύνοψη'!$F$2:$F289=$A10, 'Σύνοψη'!$G$2:$G289=$B10, 'Σύνοψη'!$C$2:$C289=C$3)), IF(SUMPRODUCT(('Σύνοψη'!$F$2:$F289=$A10)*('Σύνοψη'!$C$2:$C289=C$3)*('Σύνοψη'!$G$2:$G289<$B10)*('Σύνοψη'!$H$2:$H289>$B10))>0, CHAR(34), """") ), """")"),"""") -> " | D10: =IFERROR(__xludf.DUMMYFUNCTION("IFERROR(IF(SUMPRODUCT(('Σύνοψη'!$F$2:$F289=$A10)*('Σύνοψη'!$C$2:$C289=D$3)*('Σύνοψη'!$G$2:$G289=$B10))>0, TEXTJOIN(CHAR(10) & ""-----------------------"" & CHAR(10), TRUE, FILTER('Σύνοψη'!$E$2:$E289 & "" - "" & 'Σύνοψη'!$I$2:$I289 & "" ("" & 'Σύνοψη'!$J$2"&":$J289 & "")"", 'Σύνοψη'!$F$2:$F289=$A10, 'Σύνοψη'!$G$2:$G289=$B10, 'Σύνοψη'!$C$2:$C289=D$3)), IF(SUMPRODUCT(('Σύνοψη'!$F$2:$F289=$A10)*('Σύνοψη'!$C$2:$C289=D$3)*('Σύνοψη'!$G$2:$G289<$B10)*('Σύνοψη'!$H$2:$H289>$B10))>0, CHAR(34), """") ), """")"),"") | E10: =IFERROR(__xludf.DUMMYFUNCTION("IFERROR(IF(SUMPRODUCT(('Σύνοψη'!$F$2:$F289=$A10)*('Σύνοψη'!$C$2:$C289=E$3)*('Σύνοψη'!$G$2:$G289=$B10))>0, TEXTJOIN(CHAR(10) & ""-----------------------"" & CHAR(10), TRUE, FILTER('Σύνοψη'!$E$2:$E289 & "" - "" & 'Σύνοψη'!$I$2:$I289 & "" ("" & 'Σύνοψη'!$J$2"&":$J289 & "")"", 'Σύνοψη'!$F$2:$F289=$A10, 'Σύνοψη'!$G$2:$G289=$B10, 'Σύνοψη'!$C$2:$C289=E$3)), IF(SUMPRODUCT(('Σύνοψη'!$F$2:$F289=$A10)*('Σύνοψη'!$C$2:$C289=E$3)*('Σύνοψη'!$G$2:$G289<$B10)*('Σύνοψη'!$H$2:$H289>$B10))>0, CHAR(34), """") ), """")"),"") | F10: =IFERROR(__xludf.DUMMYFUNCTION("IFERROR(IF(SUMPRODUCT(('Σύνοψη'!$F$2:$F289=$A10)*('Σύνοψη'!$C$2:$C289=F$3)*('Σύνοψη'!$G$2:$G289=$B10))>0, TEXTJOIN(CHAR(10) & ""-----------------------"" & CHAR(10), TRUE, FILTER('Σύνοψη'!$E$2:$E289 & "" - "" & 'Σύνοψη'!$I$2:$I289 & "" ("" & 'Σύνοψη'!$J$2"&":$J289 & "")"", 'Σύνοψη'!$F$2:$F289=$A10, 'Σύνοψη'!$G$2:$G289=$B10, 'Σύνοψη'!$C$2:$C289=F$3)), IF(SUMPRODUCT(('Σύνοψη'!$F$2:$F289=$A10)*('Σύνοψη'!$C$2:$C289=F$3)*('Σύνοψη'!$G$2:$G289<$B10)*('Σύνοψη'!$H$2:$H289>$B10))>0, CHAR(34), """") ), """")"),"") | G10: =IFERROR(__xludf.DUMMYFUNCTION("IFERROR(IF(SUMPRODUCT(('Σύνοψη'!$F$2:$F289=$A10)*('Σύνοψη'!$C$2:$C289=G$3)*('Σύνοψη'!$G$2:$G289=$B10))>0, TEXTJOIN(CHAR(10) & ""-----------------------"" & CHAR(10), TRUE, FILTER('Σύνοψη'!$E$2:$E289 & "" - "" & 'Σύνοψη'!$I$2:$I289 & "" ("" & 'Σύνοψη'!$J$2"&":$J289 & "")"", 'Σύνοψη'!$F$2:$F289=$A10, 'Σύνοψη'!$G$2:$G289=$B10, 'Σύνοψη'!$C$2:$C289=G$3)), IF(SUMPRODUCT(('Σύνοψη'!$F$2:$F289=$A10)*('Σύνοψη'!$C$2:$C289=G$3)*('Σύνοψη'!$G$2:$G289<$B10)*('Σύνοψη'!$H$2:$H289>$B10))>0, CHAR(34), """") ), """")"),"""") -> " | H10: =IFERROR(__xludf.DUMMYFUNCTION("IFERROR(IF(SUMPRODUCT(('Σύνοψη'!$F$2:$F289=$A10)*('Σύνοψη'!$C$2:$C289=H$3)*('Σύνοψη'!$G$2:$G289=$B10))>0, TEXTJOIN(CHAR(10) & ""-----------------------"" & CHAR(10), TRUE, FILTER('Σύνοψη'!$E$2:$E289 & "" - "" & 'Σύνοψη'!$I$2:$I289 & "" ("" & 'Σύνοψη'!$J$2"&":$J289 & "")"", 'Σύνοψη'!$F$2:$F289=$A10, 'Σύνοψη'!$G$2:$G289=$B10, 'Σύνοψη'!$C$2:$C289=H$3)), IF(SUMPRODUCT(('Σύνοψη'!$F$2:$F289=$A10)*('Σύνοψη'!$C$2:$C289=H$3)*('Σύνοψη'!$G$2:$G289<$B10)*('Σύνοψη'!$H$2:$H289>$B10))>0, CHAR(34), """") ), """")"),"")
A11: =$A$4 -> 46265 | B11: 0.625 | C11: =IFERROR(__xludf.DUMMYFUNCTION("IFERROR(IF(SUMPRODUCT(('Σύνοψη'!$F$2:$F289=$A11)*('Σύνοψη'!$C$2:$C289=C$3)*('Σύνοψη'!$G$2:$G289=$B11))>0, TEXTJOIN(CHAR(10) & ""-----------------------"" & CHAR(10), TRUE, FILTER('Σύνοψη'!$E$2:$E289 & "" - "" & 'Σύνοψη'!$I$2:$I289 & "" ("" & 'Σύνοψη'!$J$2"&":$J289 & "")"", 'Σύνοψη'!$F$2:$F289=$A11, 'Σύνοψη'!$G$2:$G289=$B11, 'Σύνοψη'!$C$2:$C289=C$3)), IF(SUMPRODUCT(('Σύνοψη'!$F$2:$F289=$A11)*('Σύνοψη'!$C$2:$C289=C$3)*('Σύνοψη'!$G$2:$G289<$B11)*('Σύνοψη'!$H$2:$H289>$B11))>0, CHAR(34), """") ), """")"),"") | D11: =IFERROR(__xludf.DUMMYFUNCTION("IFERROR(IF(SUMPRODUCT(('Σύνοψη'!$F$2:$F289=$A11)*('Σύνοψη'!$C$2:$C289=D$3)*('Σύνοψη'!$G$2:$G289=$B11))>0, TEXTJOIN(CHAR(10) & ""-----------------------"" & CHAR(10), TRUE, FILTER('Σύνοψη'!$E$2:$E289 & "" - "" & 'Σύνοψη'!$I$2:$I289 & "" ("" & 'Σύνοψη'!$J$2"&":$J289 & "")"", 'Σύνοψη'!$F$2:$F289=$A11, 'Σύνοψη'!$G$2:$G289=$B11, 'Σύνοψη'!$C$2:$C289=D$3)), IF(SUMPRODUCT(('Σύνοψη'!$F$2:$F289=$A11)*('Σύνοψη'!$C$2:$C289=D$3)*('Σύνοψη'!$G$2:$G289<$B11)*('Σύνοψη'!$H$2:$H289>$B11))>0, CHAR(34), """") ), """")"),"Κτηνιατρική Δεοντολογία & Νομοθεσία - 15:00 - 18:00 (Αίθουσα Έναντι Χειρουργικής)") -> Κτηνιατρική Δεοντολογία & Νομοθεσία - 15:00 - 18:00 (Αίθουσα Έναντι Χειρουργικής) | E11: =IFERROR(__xludf.DUMMYFUNCTION("IFERROR(IF(SUMPRODUCT(('Σύνοψη'!$F$2:$F289=$A11)*('Σύνοψη'!$C$2:$C289=E$3)*('Σύνοψη'!$G$2:$G289=$B11))>0, TEXTJOIN(CHAR(10) & ""-----------------------"" & CHAR(10), TRUE, FILTER('Σύνοψη'!$E$2:$E289 & "" - "" & 'Σύνοψη'!$I$2:$I289 & "" ("" & 'Σύνοψη'!$J$2"&":$J289 & "")"", 'Σύνοψη'!$F$2:$F289=$A11, 'Σύνοψη'!$G$2:$G289=$B11, 'Σύνοψη'!$C$2:$C289=E$3)), IF(SUMPRODUCT(('Σύνοψη'!$F$2:$F289=$A11)*('Σύνοψη'!$C$2:$C289=E$3)*('Σύνοψη'!$G$2:$G289<$B11)*('Σύνοψη'!$H$2:$H289>$B11))>0, CHAR(34), """") ), """")"),"") | F11: =IFERROR(__xludf.DUMMYFUNCTION("IFERROR(IF(SUMPRODUCT(('Σύνοψη'!$F$2:$F289=$A11)*('Σύνοψη'!$C$2:$C289=F$3)*('Σύνοψη'!$G$2:$G289=$B11))>0, TEXTJOIN(CHAR(10) & ""-----------------------"" & CHAR(10), TRUE, FILTER('Σύνοψη'!$E$2:$E289 & "" - "" & 'Σύνοψη'!$I$2:$I289 & "" ("" & 'Σύνοψη'!$J$2"&":$J289 & "")"", 'Σύνοψη'!$F$2:$F289=$A11, 'Σύνοψη'!$G$2:$G289=$B11, 'Σύνοψη'!$C$2:$C289=F$3)), IF(SUMPRODUCT(('Σύνοψη'!$F$2:$F289=$A11)*('Σύνοψη'!$C$2:$C289=F$3)*('Σύνοψη'!$G$2:$G289<$B11)*('Σύνοψη'!$H$2:$H289>$B11))>0, CHAR(34), """") ), """")"),"") | G11: =IFERROR(__xludf.DUMMYFUNCTION("IFERROR(IF(SUMPRODUCT(('Σύνοψη'!$F$2:$F289=$A11)*('Σύνοψη'!$C$2:$C289=G$3)*('Σύνοψη'!$G$2:$G289=$B11))>0, TEXTJOIN(CHAR(10) & ""-----------------------"" & CHAR(10), TRUE, FILTER('Σύνοψη'!$E$2:$E289 & "" - "" & 'Σύνοψη'!$I$2:$I289 & "" ("" & 'Σύνοψη'!$J$2"&":$J289 & "")"", 'Σύνοψη'!$F$2:$F289=$A11, 'Σύνοψη'!$G$2:$G289=$B11, 'Σύνοψη'!$C$2:$C289=G$3)), IF(SUMPRODUCT(('Σύνοψη'!$F$2:$F289=$A11)*('Σύνοψη'!$C$2:$C289=G$3)*('Σύνοψη'!$G$2:$G289<$B11)*('Σύνοψη'!$H$2:$H289>$B11))>0, CHAR(34), """") ), """")"),"""") -> " | H11: =IFERROR(__xludf.DUMMYFUNCTION("IFERROR(IF(SUMPRODUCT(('Σύνοψη'!$F$2:$F289=$A11)*('Σύνοψη'!$C$2:$C289=H$3)*('Σύνοψη'!$G$2:$G289=$B11))>0, TEXTJOIN(CHAR(10) & ""-----------------------"" & CHAR(10), TRUE, FILTER('Σύνοψη'!$E$2:$E289 & "" - "" & 'Σύνοψη'!$I$2:$I289 & "" ("" & 'Σύνοψη'!$J$2"&":$J289 & "")"", 'Σύνοψη'!$F$2:$F289=$A11, 'Σύνοψη'!$G$2:$G289=$B11, 'Σύνοψη'!$C$2:$C289=H$3)), IF(SUMPRODUCT(('Σύνοψη'!$F$2:$F289=$A11)*('Σύνοψη'!$C$2:$C289=H$3)*('Σύνοψη'!$G$2:$G289<$B11)*('Σύνοψη'!$H$2:$H289>$B11))>0, CHAR(34), """") ), """")"),"")
A12: =$A$4 -> 46265 | B12: 0.66666667 | C12: =IFERROR(__xludf.DUMMYFUNCTION("IFERROR(IF(SUMPRODUCT(('Σύνοψη'!$F$2:$F289=$A12)*('Σύνοψη'!$C$2:$C289=C$3)*('Σύνοψη'!$G$2:$G289=$B12))>0, TEXTJOIN(CHAR(10) & ""-----------------------"" & CHAR(10), TRUE, FILTER('Σύνοψη'!$E$2:$E289 & "" - "" & 'Σύνοψη'!$I$2:$I289 & "" ("" & 'Σύνοψη'!$J$2"&":$J289 & "")"", 'Σύνοψη'!$F$2:$F289=$A12, 'Σύνοψη'!$G$2:$G289=$B12, 'Σύνοψη'!$C$2:$C289=C$3)), IF(SUMPRODUCT(('Σύνοψη'!$F$2:$F289=$A12)*('Σύνοψη'!$C$2:$C289=C$3)*('Σύνοψη'!$G$2:$G289<$B12)*('Σύνοψη'!$H$2:$H289>$B12))>0, CHAR(34), """") ), """")"),"") | D12: =IFERROR(__xludf.DUMMYFUNCTION("IFERROR(IF(SUMPRODUCT(('Σύνοψη'!$F$2:$F289=$A12)*('Σύνοψη'!$C$2:$C289=D$3)*('Σύνοψη'!$G$2:$G289=$B12))>0, TEXTJOIN(CHAR(10) & ""-----------------------"" & CHAR(10), TRUE, FILTER('Σύνοψη'!$E$2:$E289 & "" - "" & 'Σύνοψη'!$I$2:$I289 & "" ("" & 'Σύνοψη'!$J$2"&":$J289 & "")"", 'Σύνοψη'!$F$2:$F289=$A12, 'Σύνοψη'!$G$2:$G289=$B12, 'Σύνοψη'!$C$2:$C289=D$3)), IF(SUMPRODUCT(('Σύνοψη'!$F$2:$F289=$A12)*('Σύνοψη'!$C$2:$C289=D$3)*('Σύνοψη'!$G$2:$G289<$B12)*('Σύνοψη'!$H$2:$H289>$B12))>0, CHAR(34), """") ), """")"),"""") -> " | E12: =IFERROR(__xludf.DUMMYFUNCTION("IFERROR(IF(SUMPRODUCT(('Σύνοψη'!$F$2:$F289=$A12)*('Σύνοψη'!$C$2:$C289=E$3)*('Σύνοψη'!$G$2:$G289=$B12))>0, TEXTJOIN(CHAR(10) & ""-----------------------"" & CHAR(10), TRUE, FILTER('Σύνοψη'!$E$2:$E289 & "" - "" & 'Σύνοψη'!$I$2:$I289 & "" ("" & 'Σύνοψη'!$J$2"&":$J289 & "")"", 'Σύνοψη'!$F$2:$F289=$A12, 'Σύνοψη'!$G$2:$G289=$B12, 'Σύνοψη'!$C$2:$C289=E$3)), IF(SUMPRODUCT(('Σύνοψη'!$F$2:$F289=$A12)*('Σύνοψη'!$C$2:$C289=E$3)*('Σύνοψη'!$G$2:$G289<$B12)*('Σύνοψη'!$H$2:$H289>$B12))>0, CHAR(34), """") ), """")"),"") | F12: =IFERROR(__xludf.DUMMYFUNCTION("IFERROR(IF(SUMPRODUCT(('Σύνοψη'!$F$2:$F289=$A12)*('Σύνοψη'!$C$2:$C289=F$3)*('Σύνοψη'!$G$2:$G289=$B12))>0, TEXTJOIN(CHAR(10) & ""-----------------------"" & CHAR(10), TRUE, FILTER('Σύνοψη'!$E$2:$E289 & "" - "" & 'Σύνοψη'!$I$2:$I289 & "" ("" & 'Σύνοψη'!$J$2"&":$J289 & "")"", 'Σύνοψη'!$F$2:$F289=$A12, 'Σύνοψη'!$G$2:$G289=$B12, 'Σύνοψη'!$C$2:$C289=F$3)), IF(SUMPRODUCT(('Σύνοψη'!$F$2:$F289=$A12)*('Σύνοψη'!$C$2:$C289=F$3)*('Σύνοψη'!$G$2:$G289<$B12)*('Σύνοψη'!$H$2:$H289>$B12))>0, CHAR(34), """") ), """")"),"") | G12: =IFERROR(__xludf.DUMMYFUNCTION("IFERROR(IF(SUMPRODUCT(('Σύνοψη'!$F$2:$F289=$A12)*('Σύνοψη'!$C$2:$C289=G$3)*('Σύνοψη'!$G$2:$G289=$B12))>0, TEXTJOIN(CHAR(10) & ""-----------------------"" & CHAR(10), TRUE, FILTER('Σύνοψη'!$E$2:$E289 & "" - "" & 'Σύνοψη'!$I$2:$I289 & "" ("" & 'Σύνοψη'!$J$2"&":$J289 & "")"", 'Σύνοψη'!$F$2:$F289=$A12, 'Σύνοψη'!$G$2:$G289=$B12, 'Σύνοψη'!$C$2:$C289=G$3)), IF(SUMPRODUCT(('Σύνοψη'!$F$2:$F289=$A12)*('Σύνοψη'!$C$2:$C289=G$3)*('Σύνοψη'!$G$2:$G289<$B12)*('Σύνοψη'!$H$2:$H289>$B12))>0, CHAR(34), """") ), """")"),"""") -> " | H12: =IFERROR(__xludf.DUMMYFUNCTION("IFERROR(IF(SUMPRODUCT(('Σύνοψη'!$F$2:$F289=$A12)*('Σύνοψη'!$C$2:$C289=H$3)*('Σύνοψη'!$G$2:$G289=$B12))>0, TEXTJOIN(CHAR(10) & ""-----------------------"" & CHAR(10), TRUE, FILTER('Σύνοψη'!$E$2:$E289 & "" - "" & 'Σύνοψη'!$I$2:$I289 & "" ("" & 'Σύνοψη'!$J$2"&":$J289 & "")"", 'Σύνοψη'!$F$2:$F289=$A12, 'Σύνοψη'!$G$2:$G289=$B12, 'Σύνοψη'!$C$2:$C289=H$3)), IF(SUMPRODUCT(('Σύνοψη'!$F$2:$F289=$A12)*('Σύνοψη'!$C$2:$C289=H$3)*('Σύνοψη'!$G$2:$G289<$B12)*('Σύνοψη'!$H$2:$H289>$B12))>0, CHAR(34), """") ), """")"),"")
A13: =$A$4 -> 46265 | B13: 0.70833333 | C13: =IFERROR(__xludf.DUMMYFUNCTION("IFERROR(IF(SUMPRODUCT(('Σύνοψη'!$F$2:$F289=$A13)*('Σύνοψη'!$C$2:$C289=C$3)*('Σύνοψη'!$G$2:$G289=$B13))>0, TEXTJOIN(CHAR(10) & ""-----------------------"" & CHAR(10), TRUE, FILTER('Σύνοψη'!$E$2:$E289 & "" - "" & 'Σύνοψη'!$I$2:$I289 & "" ("" & 'Σύνοψη'!$J$2"&":$J289 & "")"", 'Σύνοψη'!$F$2:$F289=$A13, 'Σύνοψη'!$G$2:$G289=$B13, 'Σύνοψη'!$C$2:$C289=C$3)), IF(SUMPRODUCT(('Σύνοψη'!$F$2:$F289=$A13)*('Σύνοψη'!$C$2:$C289=C$3)*('Σύνοψη'!$G$2:$G289<$B13)*('Σύνοψη'!$H$2:$H289>$B13))>0, CHAR(34), """") ), """")"),"") | D13: =IFERROR(__xludf.DUMMYFUNCTION("IFERROR(IF(SUMPRODUCT(('Σύνοψη'!$F$2:$F289=$A13)*('Σύνοψη'!$C$2:$C289=D$3)*('Σύνοψη'!$G$2:$G289=$B13))>0, TEXTJOIN(CHAR(10) & ""-----------------------"" & CHAR(10), TRUE, FILTER('Σύνοψη'!$E$2:$E289 & "" - "" & 'Σύνοψη'!$I$2:$I289 & "" ("" & 'Σύνοψη'!$J$2"&":$J289 & "")"", 'Σύνοψη'!$F$2:$F289=$A13, 'Σύνοψη'!$G$2:$G289=$B13, 'Σύνοψη'!$C$2:$C289=D$3)), IF(SUMPRODUCT(('Σύνοψη'!$F$2:$F289=$A13)*('Σύνοψη'!$C$2:$C289=D$3)*('Σύνοψη'!$G$2:$G289<$B13)*('Σύνοψη'!$H$2:$H289>$B13))>0, CHAR(34), """") ), """")"),"""") -> " | E13: =IFERROR(__xludf.DUMMYFUNCTION("IFERROR(IF(SUMPRODUCT(('Σύνοψη'!$F$2:$F289=$A13)*('Σύνοψη'!$C$2:$C289=E$3)*('Σύνοψη'!$G$2:$G289=$B13))>0, TEXTJOIN(CHAR(10) & ""-----------------------"" & CHAR(10), TRUE, FILTER('Σύνοψη'!$E$2:$E289 & "" - "" & 'Σύνοψη'!$I$2:$I289 & "" ("" & 'Σύνοψη'!$J$2"&":$J289 & "")"", 'Σύνοψη'!$F$2:$F289=$A13, 'Σύνοψη'!$G$2:$G289=$B13, 'Σύνοψη'!$C$2:$C289=E$3)), IF(SUMPRODUCT(('Σύνοψη'!$F$2:$F289=$A13)*('Σύνοψη'!$C$2:$C289=E$3)*('Σύνοψη'!$G$2:$G289<$B13)*('Σύνοψη'!$H$2:$H289>$B13))>0, CHAR(34), """") ), """")"),"") | F13: =IFERROR(__xludf.DUMMYFUNCTION("IFERROR(IF(SUMPRODUCT(('Σύνοψη'!$F$2:$F289=$A13)*('Σύνοψη'!$C$2:$C289=F$3)*('Σύνοψη'!$G$2:$G289=$B13))>0, TEXTJOIN(CHAR(10) & ""-----------------------"" & CHAR(10), TRUE, FILTER('Σύνοψη'!$E$2:$E289 & "" - "" & 'Σύνοψη'!$I$2:$I289 & "" ("" & 'Σύνοψη'!$J$2"&":$J289 & "")"", 'Σύνοψη'!$F$2:$F289=$A13, 'Σύνοψη'!$G$2:$G289=$B13, 'Σύνοψη'!$C$2:$C289=F$3)), IF(SUMPRODUCT(('Σύνοψη'!$F$2:$F289=$A13)*('Σύνοψη'!$C$2:$C289=F$3)*('Σύνοψη'!$G$2:$G289<$B13)*('Σύνοψη'!$H$2:$H289>$B13))>0, CHAR(34), """") ), """")"),"") | G13: =IFERROR(__xludf.DUMMYFUNCTION("IFERROR(IF(SUMPRODUCT(('Σύνοψη'!$F$2:$F289=$A13)*('Σύνοψη'!$C$2:$C289=G$3)*('Σύνοψη'!$G$2:$G289=$B13))>0, TEXTJOIN(CHAR(10) & ""-----------------------"" & CHAR(10), TRUE, FILTER('Σύνοψη'!$E$2:$E289 & "" - "" & 'Σύνοψη'!$I$2:$I289 & "" ("" & 'Σύνοψη'!$J$2"&":$J289 & "")"", 'Σύνοψη'!$F$2:$F289=$A13, 'Σύνοψη'!$G$2:$G289=$B13, 'Σύνοψη'!$C$2:$C289=G$3)), IF(SUMPRODUCT(('Σύνοψη'!$F$2:$F289=$A13)*('Σύνοψη'!$C$2:$C289=G$3)*('Σύνοψη'!$G$2:$G289<$B13)*('Σύνοψη'!$H$2:$H289>$B13))>0, CHAR(34), """") ), """")"),"") | H13: =IFERROR(__xludf.DUMMYFUNCTION("IFERROR(IF(SUMPRODUCT(('Σύνοψη'!$F$2:$F289=$A13)*('Σύνοψη'!$C$2:$C289=H$3)*('Σύνοψη'!$G$2:$G289=$B13))>0, TEXTJOIN(CHAR(10) & ""-----------------------"" & CHAR(10), TRUE, FILTER('Σύνοψη'!$E$2:$E289 & "" - "" & 'Σύνοψη'!$I$2:$I289 & "" ("" & 'Σύνοψη'!$J$2"&":$J289 & "")"", 'Σύνοψη'!$F$2:$F289=$A13, 'Σύνοψη'!$G$2:$G289=$B13, 'Σύνοψη'!$C$2:$C289=H$3)), IF(SUMPRODUCT(('Σύνοψη'!$F$2:$F289=$A13)*('Σύνοψη'!$C$2:$C289=H$3)*('Σύνοψη'!$G$2:$G289<$B13)*('Σύνοψη'!$H$2:$H289>$B13))>0, CHAR(34), """") ), """")"),"")
A14: =$A$4 -> 46265 | B14: 0.75 | C14: =IFERROR(__xludf.DUMMYFUNCTION("IFERROR(IF(SUMPRODUCT(('Σύνοψη'!$F$2:$F289=$A14)*('Σύνοψη'!$C$2:$C289=C$3)*('Σύνοψη'!$G$2:$G289=$B14))>0, TEXTJOIN(CHAR(10) & ""-----------------------"" & CHAR(10), TRUE, FILTER('Σύνοψη'!$E$2:$E289 & "" - "" & 'Σύνοψη'!$I$2:$I289 & "" ("" & 'Σύνοψη'!$J$2"&":$J289 & "")"", 'Σύνοψη'!$F$2:$F289=$A14, 'Σύνοψη'!$G$2:$G289=$B14, 'Σύνοψη'!$C$2:$C289=C$3)), IF(SUMPRODUCT(('Σύνοψη'!$F$2:$F289=$A14)*('Σύνοψη'!$C$2:$C289=C$3)*('Σύνοψη'!$G$2:$G289<$B14)*('Σύνοψη'!$H$2:$H289>$B14))>0, CHAR(34), """") ), """")"),"Οικολογία - 18:00 - 21:00 (Αμφιθέατρα)") -> Οικολογία - 18:00 - 21:00 (Αμφιθέατρα) | D14: =IFERROR(__xludf.DUMMYFUNCTION("IFERROR(IF(SUMPRODUCT(('Σύνοψη'!$F$2:$F289=$A14)*('Σύνοψη'!$C$2:$C289=D$3)*('Σύνοψη'!$G$2:$G289=$B14))>0, TEXTJOIN(CHAR(10) & ""-----------------------"" & CHAR(10), TRUE, FILTER('Σύνοψη'!$E$2:$E289 & "" - "" & 'Σύνοψη'!$I$2:$I289 & "" ("" & 'Σύνοψη'!$J$2"&":$J289 & "")"", 'Σύνοψη'!$F$2:$F289=$A14, 'Σύνοψη'!$G$2:$G289=$B14, 'Σύνοψη'!$C$2:$C289=D$3)), IF(SUMPRODUCT(('Σύνοψη'!$F$2:$F289=$A14)*('Σύνοψη'!$C$2:$C289=D$3)*('Σύνοψη'!$G$2:$G289<$B14)*('Σύνοψη'!$H$2:$H289>$B14))>0, CHAR(34), """") ), """")"),"") | E14: =IFERROR(__xludf.DUMMYFUNCTION("IFERROR(IF(SUMPRODUCT(('Σύνοψη'!$F$2:$F289=$A14)*('Σύνοψη'!$C$2:$C289=E$3)*('Σύνοψη'!$G$2:$G289=$B14))>0, TEXTJOIN(CHAR(10) & ""-----------------------"" & CHAR(10), TRUE, FILTER('Σύνοψη'!$E$2:$E289 & "" - "" & 'Σύνοψη'!$I$2:$I289 & "" ("" & 'Σύνοψη'!$J$2"&":$J289 & "")"", 'Σύνοψη'!$F$2:$F289=$A14, 'Σύνοψη'!$G$2:$G289=$B14, 'Σύνοψη'!$C$2:$C289=E$3)), IF(SUMPRODUCT(('Σύνοψη'!$F$2:$F289=$A14)*('Σύνοψη'!$C$2:$C289=E$3)*('Σύνοψη'!$G$2:$G289<$B14)*('Σύνοψη'!$H$2:$H289>$B14))>0, CHAR(34), """") ), """")"),"") | F14: =IFERROR(__xludf.DUMMYFUNCTION("IFERROR(IF(SUMPRODUCT(('Σύνοψη'!$F$2:$F289=$A14)*('Σύνοψη'!$C$2:$C289=F$3)*('Σύνοψη'!$G$2:$G289=$B14))>0, TEXTJOIN(CHAR(10) & ""-----------------------"" & CHAR(10), TRUE, FILTER('Σύνοψη'!$E$2:$E289 & "" - "" & 'Σύνοψη'!$I$2:$I289 & "" ("" & 'Σύνοψη'!$J$2"&":$J289 & "")"", 'Σύνοψη'!$F$2:$F289=$A14, 'Σύνοψη'!$G$2:$G289=$B14, 'Σύνοψη'!$C$2:$C289=F$3)), IF(SUMPRODUCT(('Σύνοψη'!$F$2:$F289=$A14)*('Σύνοψη'!$C$2:$C289=F$3)*('Σύνοψη'!$G$2:$G289<$B14)*('Σύνοψη'!$H$2:$H289>$B14))>0, CHAR(34), """") ), """")"),"") | G14: =IFERROR(__xludf.DUMMYFUNCTION("IFERROR(IF(SUMPRODUCT(('Σύνοψη'!$F$2:$F289=$A14)*('Σύνοψη'!$C$2:$C289=G$3)*('Σύνοψη'!$G$2:$G289=$B14))>0, TEXTJOIN(CHAR(10) & ""-----------------------"" & CHAR(10), TRUE, FILTER('Σύνοψη'!$E$2:$E289 & "" - "" & 'Σύνοψη'!$I$2:$I289 & "" ("" & 'Σύνοψη'!$J$2"&":$J289 & "")"", 'Σύνοψη'!$F$2:$F289=$A14, 'Σύνοψη'!$G$2:$G289=$B14, 'Σύνοψη'!$C$2:$C289=G$3)), IF(SUMPRODUCT(('Σύνοψη'!$F$2:$F289=$A14)*('Σύνοψη'!$C$2:$C289=G$3)*('Σύνοψη'!$G$2:$G289<$B14)*('Σύνοψη'!$H$2:$H289>$B14))>0, CHAR(34), """") ), """")"),"Όγκοι των Ζώων Συντροφιάς - 18:00 - 21:00 (Αίθουσα Έναντι Χειρουργικής)") -> Όγκοι των Ζώων Συντροφιάς - 18:00 - 21:00 (Αίθουσα Έναντι Χειρουργικής) | H14: =IFERROR(__xludf.DUMMYFUNCTION("IFERROR(IF(SUMPRODUCT(('Σύνοψη'!$F$2:$F289=$A14)*('Σύνοψη'!$C$2:$C289=H$3)*('Σύνοψη'!$G$2:$G289=$B14))>0, TEXTJOIN(CHAR(10) & ""-----------------------"" & CHAR(10), TRUE, FILTER('Σύνοψη'!$E$2:$E289 & "" - "" & 'Σύνοψη'!$I$2:$I289 & "" ("" & 'Σύνοψη'!$J$2"&":$J289 & "")"", 'Σύνοψη'!$F$2:$F289=$A14, 'Σύνοψη'!$G$2:$G289=$B14, 'Σύνοψη'!$C$2:$C289=H$3)), IF(SUMPRODUCT(('Σύνοψη'!$F$2:$F289=$A14)*('Σύνοψη'!$C$2:$C289=H$3)*('Σύνοψη'!$G$2:$G289<$B14)*('Σύνοψη'!$H$2:$H289>$B14))>0, CHAR(34), """") ), """")"),"")
A15: =$A$4 -> 46265 | B15: 0.79166667 | C15: =IFERROR(__xludf.DUMMYFUNCTION("IFERROR(IF(SUMPRODUCT(('Σύνοψη'!$F$2:$F289=$A15)*('Σύνοψη'!$C$2:$C289=C$3)*('Σύνοψη'!$G$2:$G289=$B15))>0, TEXTJOIN(CHAR(10) & ""-----------------------"" & CHAR(10), TRUE, FILTER('Σύνοψη'!$E$2:$E289 & "" - "" & 'Σύνοψη'!$I$2:$I289 & "" ("" & 'Σύνοψη'!$J$2"&":$J289 & "")"", 'Σύνοψη'!$F$2:$F289=$A15, 'Σύνοψη'!$G$2:$G289=$B15, 'Σύνοψη'!$C$2:$C289=C$3)), IF(SUMPRODUCT(('Σύνοψη'!$F$2:$F289=$A15)*('Σύνοψη'!$C$2:$C289=C$3)*('Σύνοψη'!$G$2:$G289<$B15)*('Σύνοψη'!$H$2:$H289>$B15))>0, CHAR(34), """") ), """")"),"""") -> " | D15: =IFERROR(__xludf.DUMMYFUNCTION("IFERROR(IF(SUMPRODUCT(('Σύνοψη'!$F$2:$F289=$A15)*('Σύνοψη'!$C$2:$C289=D$3)*('Σύνοψη'!$G$2:$G289=$B15))>0, TEXTJOIN(CHAR(10) & ""-----------------------"" & CHAR(10), TRUE, FILTER('Σύνοψη'!$E$2:$E289 & "" - "" & 'Σύνοψη'!$I$2:$I289 & "" ("" & 'Σύνοψη'!$J$2"&":$J289 & "")"", 'Σύνοψη'!$F$2:$F289=$A15, 'Σύνοψη'!$G$2:$G289=$B15, 'Σύνοψη'!$C$2:$C289=D$3)), IF(SUMPRODUCT(('Σύνοψη'!$F$2:$F289=$A15)*('Σύνοψη'!$C$2:$C289=D$3)*('Σύνοψη'!$G$2:$G289<$B15)*('Σύνοψη'!$H$2:$H289>$B15))>0, CHAR(34), """") ), """")"),"") | E15: =IFERROR(__xludf.DUMMYFUNCTION("IFERROR(IF(SUMPRODUCT(('Σύνοψη'!$F$2:$F289=$A15)*('Σύνοψη'!$C$2:$C289=E$3)*('Σύνοψη'!$G$2:$G289=$B15))>0, TEXTJOIN(CHAR(10) & ""-----------------------"" & CHAR(10), TRUE, FILTER('Σύνοψη'!$E$2:$E289 & "" - "" & 'Σύνοψη'!$I$2:$I289 & "" ("" & 'Σύνοψη'!$J$2"&":$J289 & "")"", 'Σύνοψη'!$F$2:$F289=$A15, 'Σύνοψη'!$G$2:$G289=$B15, 'Σύνοψη'!$C$2:$C289=E$3)), IF(SUMPRODUCT(('Σύνοψη'!$F$2:$F289=$A15)*('Σύνοψη'!$C$2:$C289=E$3)*('Σύνοψη'!$G$2:$G289<$B15)*('Σύνοψη'!$H$2:$H289>$B15))>0, CHAR(34), """") ), """")"),"") | F15: =IFERROR(__xludf.DUMMYFUNCTION("IFERROR(IF(SUMPRODUCT(('Σύνοψη'!$F$2:$F289=$A15)*('Σύνοψη'!$C$2:$C289=F$3)*('Σύνοψη'!$G$2:$G289=$B15))>0, TEXTJOIN(CHAR(10) & ""-----------------------"" & CHAR(10), TRUE, FILTER('Σύνοψη'!$E$2:$E289 & "" - "" & 'Σύνοψη'!$I$2:$I289 & "" ("" & 'Σύνοψη'!$J$2"&":$J289 & "")"", 'Σύνοψη'!$F$2:$F289=$A15, 'Σύνοψη'!$G$2:$G289=$B15, 'Σύνοψη'!$C$2:$C289=F$3)), IF(SUMPRODUCT(('Σύνοψη'!$F$2:$F289=$A15)*('Σύνοψη'!$C$2:$C289=F$3)*('Σύνοψη'!$G$2:$G289<$B15)*('Σύνοψη'!$H$2:$H289>$B15))>0, CHAR(34), """") ), """")"),"") | G15: =IFERROR(__xludf.DUMMYFUNCTION("IFERROR(IF(SUMPRODUCT(('Σύνοψη'!$F$2:$F289=$A15)*('Σύνοψη'!$C$2:$C289=G$3)*('Σύνοψη'!$G$2:$G289=$B15))>0, TEXTJOIN(CHAR(10) & ""-----------------------"" & CHAR(10), TRUE, FILTER('Σύνοψη'!$E$2:$E289 & "" - "" & 'Σύνοψη'!$I$2:$I289 & "" ("" & 'Σύνοψη'!$J$2"&":$J289 & "")"", 'Σύνοψη'!$F$2:$F289=$A15, 'Σύνοψη'!$G$2:$G289=$B15, 'Σύνοψη'!$C$2:$C289=G$3)), IF(SUMPRODUCT(('Σύνοψη'!$F$2:$F289=$A15)*('Σύνοψη'!$C$2:$C289=G$3)*('Σύνοψη'!$G$2:$G289<$B15)*('Σύνοψη'!$H$2:$H289>$B15))>0, CHAR(34), """") ), """")"),"""") -> " | H15: =IFERROR(__xludf.DUMMYFUNCTION("IFERROR(IF(SUMPRODUCT(('Σύνοψη'!$F$2:$F289=$A15)*('Σύνοψη'!$C$2:$C289=H$3)*('Σύνοψη'!$G$2:$G289=$B15))>0, TEXTJOIN(CHAR(10) & ""-----------------------"" & CHAR(10), TRUE, FILTER('Σύνοψη'!$E$2:$E289 & "" - "" & 'Σύνοψη'!$I$2:$I289 & "" ("" & 'Σύνοψη'!$J$2"&":$J289 & "")"", 'Σύνοψη'!$F$2:$F289=$A15, 'Σύνοψη'!$G$2:$G289=$B15, 'Σύνοψη'!$C$2:$C289=H$3)), IF(SUMPRODUCT(('Σύνοψη'!$F$2:$F289=$A15)*('Σύνοψη'!$C$2:$C289=H$3)*('Σύνοψη'!$G$2:$G289<$B15)*('Σύνοψη'!$H$2:$H289>$B15))>0, CHAR(34), """") ), """")"),"")
A16: =$A$4 -> 46265 | B16: 0.83333333 | C16: =IFERROR(__xludf.DUMMYFUNCTION("IFERROR(IF(SUMPRODUCT(('Σύνοψη'!$F$2:$F289=$A16)*('Σύνοψη'!$C$2:$C289=C$3)*('Σύνοψη'!$G$2:$G289=$B16))>0, TEXTJOIN(CHAR(10) & ""-----------------------"" & CHAR(10), TRUE, FILTER('Σύνοψη'!$E$2:$E289 & "" - "" & 'Σύνοψη'!$I$2:$I289 & "" ("" & 'Σύνοψη'!$J$2"&":$J289 & "")"", 'Σύνοψη'!$F$2:$F289=$A16, 'Σύνοψη'!$G$2:$G289=$B16, 'Σύνοψη'!$C$2:$C289=C$3)), IF(SUMPRODUCT(('Σύνοψη'!$F$2:$F289=$A16)*('Σύνοψη'!$C$2:$C289=C$3)*('Σύνοψη'!$G$2:$G289<$B16)*('Σύνοψη'!$H$2:$H289>$B16))>0, CHAR(34), """") ), """")"),"""") -> " | D16: =IFERROR(__xludf.DUMMYFUNCTION("IFERROR(IF(SUMPRODUCT(('Σύνοψη'!$F$2:$F289=$A16)*('Σύνοψη'!$C$2:$C289=D$3)*('Σύνοψη'!$G$2:$G289=$B16))>0, TEXTJOIN(CHAR(10) & ""-----------------------"" & CHAR(10), TRUE, FILTER('Σύνοψη'!$E$2:$E289 & "" - "" & 'Σύνοψη'!$I$2:$I289 & "" ("" & 'Σύνοψη'!$J$2"&":$J289 & "")"", 'Σύνοψη'!$F$2:$F289=$A16, 'Σύνοψη'!$G$2:$G289=$B16, 'Σύνοψη'!$C$2:$C289=D$3)), IF(SUMPRODUCT(('Σύνοψη'!$F$2:$F289=$A16)*('Σύνοψη'!$C$2:$C289=D$3)*('Σύνοψη'!$G$2:$G289<$B16)*('Σύνοψη'!$H$2:$H289>$B16))>0, CHAR(34), """") ), """")"),"") | E16: =IFERROR(__xludf.DUMMYFUNCTION("IFERROR(IF(SUMPRODUCT(('Σύνοψη'!$F$2:$F289=$A16)*('Σύνοψη'!$C$2:$C289=E$3)*('Σύνοψη'!$G$2:$G289=$B16))>0, TEXTJOIN(CHAR(10) & ""-----------------------"" & CHAR(10), TRUE, FILTER('Σύνοψη'!$E$2:$E289 & "" - "" & 'Σύνοψη'!$I$2:$I289 & "" ("" & 'Σύνοψη'!$J$2"&":$J289 & "")"", 'Σύνοψη'!$F$2:$F289=$A16, 'Σύνοψη'!$G$2:$G289=$B16, 'Σύνοψη'!$C$2:$C289=E$3)), IF(SUMPRODUCT(('Σύνοψη'!$F$2:$F289=$A16)*('Σύνοψη'!$C$2:$C289=E$3)*('Σύνοψη'!$G$2:$G289<$B16)*('Σύνοψη'!$H$2:$H289>$B16))>0, CHAR(34), """") ), """")"),"") | F16: =IFERROR(__xludf.DUMMYFUNCTION("IFERROR(IF(SUMPRODUCT(('Σύνοψη'!$F$2:$F289=$A16)*('Σύνοψη'!$C$2:$C289=F$3)*('Σύνοψη'!$G$2:$G289=$B16))>0, TEXTJOIN(CHAR(10) & ""-----------------------"" & CHAR(10), TRUE, FILTER('Σύνοψη'!$E$2:$E289 & "" - "" & 'Σύνοψη'!$I$2:$I289 & "" ("" & 'Σύνοψη'!$J$2"&":$J289 & "")"", 'Σύνοψη'!$F$2:$F289=$A16, 'Σύνοψη'!$G$2:$G289=$B16, 'Σύνοψη'!$C$2:$C289=F$3)), IF(SUMPRODUCT(('Σύνοψη'!$F$2:$F289=$A16)*('Σύνοψη'!$C$2:$C289=F$3)*('Σύνοψη'!$G$2:$G289<$B16)*('Σύνοψη'!$H$2:$H289>$B16))>0, CHAR(34), """") ), """")"),"") | G16: =IFERROR(__xludf.DUMMYFUNCTION("IFERROR(IF(SUMPRODUCT(('Σύνοψη'!$F$2:$F289=$A16)*('Σύνοψη'!$C$2:$C289=G$3)*('Σύνοψη'!$G$2:$G289=$B16))>0, TEXTJOIN(CHAR(10) & ""-----------------------"" & CHAR(10), TRUE, FILTER('Σύνοψη'!$E$2:$E289 & "" - "" & 'Σύνοψη'!$I$2:$I289 & "" ("" & 'Σύνοψη'!$J$2"&":$J289 & "")"", 'Σύνοψη'!$F$2:$F289=$A16, 'Σύνοψη'!$G$2:$G289=$B16, 'Σύνοψη'!$C$2:$C289=G$3)), IF(SUMPRODUCT(('Σύνοψη'!$F$2:$F289=$A16)*('Σύνοψη'!$C$2:$C289=G$3)*('Σύνοψη'!$G$2:$G289<$B16)*('Σύνοψη'!$H$2:$H289>$B16))>0, CHAR(34), """") ), """")"),"""") -> " | H16: =IFERROR(__xludf.DUMMYFUNCTION("IFERROR(IF(SUMPRODUCT(('Σύνοψη'!$F$2:$F289=$A16)*('Σύνοψη'!$C$2:$C289=H$3)*('Σύνοψη'!$G$2:$G289=$B16))>0, TEXTJOIN(CHAR(10) & ""-----------------------"" & CHAR(10), TRUE, FILTER('Σύνοψη'!$E$2:$E289 & "" - "" & 'Σύνοψη'!$I$2:$I289 & "" ("" & 'Σύνοψη'!$J$2"&":$J289 & "")"", 'Σύνοψη'!$F$2:$F289=$A16, 'Σύνοψη'!$G$2:$G289=$B16, 'Σύνοψη'!$C$2:$C289=H$3)), IF(SUMPRODUCT(('Σύνοψη'!$F$2:$F289=$A16)*('Σύνοψη'!$C$2:$C289=H$3)*('Σύνοψη'!$G$2:$G289<$B16)*('Σύνοψη'!$H$2:$H289>$B16))>0, CHAR(34), """") ), """")"),"")
A17: =$A$4 -> 46265 | B17: 0.875 | C17: =IFERROR(__xludf.DUMMYFUNCTION("IFERROR(IF(SUMPRODUCT(('Σύνοψη'!$F$2:$F289=$A17)*('Σύνοψη'!$C$2:$C289=C$3)*('Σύνοψη'!$G$2:$G289=$B17))>0, TEXTJOIN(CHAR(10) & ""-----------------------"" & CHAR(10), TRUE, FILTER('Σύνοψη'!$E$2:$E289 & "" - "" & 'Σύνοψη'!$I$2:$I289 & "" ("" & 'Σύνοψη'!$J$2"&":$J289 & "")"", 'Σύνοψη'!$F$2:$F289=$A17, 'Σύνοψη'!$G$2:$G289=$B17, 'Σύνοψη'!$C$2:$C289=C$3)), IF(SUMPRODUCT(('Σύνοψη'!$F$2:$F289=$A17)*('Σύνοψη'!$C$2:$C289=C$3)*('Σύνοψη'!$G$2:$G289<$B17)*('Σύνοψη'!$H$2:$H289>$B17))>0, CHAR(34), """") ), """")"),"") | D17: =IFERROR(__xludf.DUMMYFUNCTION("IFERROR(IF(SUMPRODUCT(('Σύνοψη'!$F$2:$F289=$A17)*('Σύνοψη'!$C$2:$C289=D$3)*('Σύνοψη'!$G$2:$G289=$B17))>0, TEXTJOIN(CHAR(10) & ""-----------------------"" & CHAR(10), TRUE, FILTER('Σύνοψη'!$E$2:$E289 & "" - "" & 'Σύνοψη'!$I$2:$I289 & "" ("" & 'Σύνοψη'!$J$2"&":$J289 & "")"", 'Σύνοψη'!$F$2:$F289=$A17, 'Σύνοψη'!$G$2:$G289=$B17, 'Σύνοψη'!$C$2:$C289=D$3)), IF(SUMPRODUCT(('Σύνοψη'!$F$2:$F289=$A17)*('Σύνοψη'!$C$2:$C289=D$3)*('Σύνοψη'!$G$2:$G289<$B17)*('Σύνοψη'!$H$2:$H289>$B17))>0, CHAR(34), """") ), """")"),"") | E17: =IFERROR(__xludf.DUMMYFUNCTION("IFERROR(IF(SUMPRODUCT(('Σύνοψη'!$F$2:$F289=$A17)*('Σύνοψη'!$C$2:$C289=E$3)*('Σύνοψη'!$G$2:$G289=$B17))>0, TEXTJOIN(CHAR(10) & ""-----------------------"" & CHAR(10), TRUE, FILTER('Σύνοψη'!$E$2:$E289 & "" - "" & 'Σύνοψη'!$I$2:$I289 & "" ("" & 'Σύνοψη'!$J$2"&":$J289 & "")"", 'Σύνοψη'!$F$2:$F289=$A17, 'Σύνοψη'!$G$2:$G289=$B17, 'Σύνοψη'!$C$2:$C289=E$3)), IF(SUMPRODUCT(('Σύνοψη'!$F$2:$F289=$A17)*('Σύνοψη'!$C$2:$C289=E$3)*('Σύνοψη'!$G$2:$G289<$B17)*('Σύνοψη'!$H$2:$H289>$B17))>0, CHAR(34), """") ), """")"),"") | F17: =IFERROR(__xludf.DUMMYFUNCTION("IFERROR(IF(SUMPRODUCT(('Σύνοψη'!$F$2:$F289=$A17)*('Σύνοψη'!$C$2:$C289=F$3)*('Σύνοψη'!$G$2:$G289=$B17))>0, TEXTJOIN(CHAR(10) & ""-----------------------"" & CHAR(10), TRUE, FILTER('Σύνοψη'!$E$2:$E289 & "" - "" & 'Σύνοψη'!$I$2:$I289 & "" ("" & 'Σύνοψη'!$J$2"&":$J289 & "")"", 'Σύνοψη'!$F$2:$F289=$A17, 'Σύνοψη'!$G$2:$G289=$B17, 'Σύνοψη'!$C$2:$C289=F$3)), IF(SUMPRODUCT(('Σύνοψη'!$F$2:$F289=$A17)*('Σύνοψη'!$C$2:$C289=F$3)*('Σύνοψη'!$G$2:$G289<$B17)*('Σύνοψη'!$H$2:$H289>$B17))>0, CHAR(34), """") ), """")"),"") | G17: =IFERROR(__xludf.DUMMYFUNCTION("IFERROR(IF(SUMPRODUCT(('Σύνοψη'!$F$2:$F289=$A17)*('Σύνοψη'!$C$2:$C289=G$3)*('Σύνοψη'!$G$2:$G289=$B17))>0, TEXTJOIN(CHAR(10) & ""-----------------------"" & CHAR(10), TRUE, FILTER('Σύνοψη'!$E$2:$E289 & "" - "" & 'Σύνοψη'!$I$2:$I289 & "" ("" & 'Σύνοψη'!$J$2"&":$J289 & "")"", 'Σύνοψη'!$F$2:$F289=$A17, 'Σύνοψη'!$G$2:$G289=$B17, 'Σύνοψη'!$C$2:$C289=G$3)), IF(SUMPRODUCT(('Σύνοψη'!$F$2:$F289=$A17)*('Σύνοψη'!$C$2:$C289=G$3)*('Σύνοψη'!$G$2:$G289<$B17)*('Σύνοψη'!$H$2:$H289>$B17))>0, CHAR(34), """") ), """")"),"") | H17: =IFERROR(__xludf.DUMMYFUNCTION("IFERROR(IF(SUMPRODUCT(('Σύνοψη'!$F$2:$F289=$A17)*('Σύνοψη'!$C$2:$C289=H$3)*('Σύνοψη'!$G$2:$G289=$B17))>0, TEXTJOIN(CHAR(10) & ""-----------------------"" & CHAR(10), TRUE, FILTER('Σύνοψη'!$E$2:$E289 & "" - "" & 'Σύνοψη'!$I$2:$I289 & "" ("" & 'Σύνοψη'!$J$2"&":$J289 & "")"", 'Σύνοψη'!$F$2:$F289=$A17, 'Σύνοψη'!$G$2:$G289=$B17, 'Σύνοψη'!$C$2:$C289=H$3)), IF(SUMPRODUCT(('Σύνοψη'!$F$2:$F289=$A17)*('Σύνοψη'!$C$2:$C289=H$3)*('Σύνοψη'!$G$2:$G289<$B17)*('Σύνοψη'!$H$2:$H289>$B17))>0, CHAR(34), """") ), """")"),"")
A18: =$D$1+1 -> 46266 | B18: 0.33333333 | C18: =IFERROR(__xludf.DUMMYFUNCTION("IFERROR(IF(SUMPRODUCT(('Σύνοψη'!$F$2:$F289=$A18)*('Σύνοψη'!$C$2:$C289=C$3)*('Σύνοψη'!$G$2:$G289=$B18))>0, TEXTJOIN(CHAR(10) & ""-----------------------"" & CHAR(10), TRUE, FILTER('Σύνοψη'!$E$2:$E289 & "" - "" & 'Σύνοψη'!$I$2:$I289 & "" ("" & 'Σύνοψη'!$J$2"&":$J289 & "")"", 'Σύνοψη'!$F$2:$F289=$A18, 'Σύνοψη'!$G$2:$G289=$B18, 'Σύνοψη'!$C$2:$C289=C$3)), IF(SUMPRODUCT(('Σύνοψη'!$F$2:$F289=$A18)*('Σύνοψη'!$C$2:$C289=C$3)*('Σύνοψη'!$G$2:$G289<$B18)*('Σύνοψη'!$H$2:$H289>$B18))>0, CHAR(34), """") ), """")"),"") | D18: =IFERROR(__xludf.DUMMYFUNCTION("IFERROR(IF(SUMPRODUCT(('Σύνοψη'!$F$2:$F289=$A18)*('Σύνοψη'!$C$2:$C289=D$3)*('Σύνοψη'!$G$2:$G289=$B18))>0, TEXTJOIN(CHAR(10) & ""-----------------------"" & CHAR(10), TRUE, FILTER('Σύνοψη'!$E$2:$E289 & "" - "" & 'Σύνοψη'!$I$2:$I289 & "" ("" & 'Σύνοψη'!$J$2"&":$J289 & "")"", 'Σύνοψη'!$F$2:$F289=$A18, 'Σύνοψη'!$G$2:$G289=$B18, 'Σύνοψη'!$C$2:$C289=D$3)), IF(SUMPRODUCT(('Σύνοψη'!$F$2:$F289=$A18)*('Σύνοψη'!$C$2:$C289=D$3)*('Σύνοψη'!$G$2:$G289<$B18)*('Σύνοψη'!$H$2:$H289>$B18))>0, CHAR(34), """") ), """")"),"") | E18: =IFERROR(__xludf.DUMMYFUNCTION("IFERROR(IF(SUMPRODUCT(('Σύνοψη'!$F$2:$F289=$A18)*('Σύνοψη'!$C$2:$C289=E$3)*('Σύνοψη'!$G$2:$G289=$B18))>0, TEXTJOIN(CHAR(10) & ""-----------------------"" & CHAR(10), TRUE, FILTER('Σύνοψη'!$E$2:$E289 & "" - "" & 'Σύνοψη'!$I$2:$I289 & "" ("" & 'Σύνοψη'!$J$2"&":$J289 & "")"", 'Σύνοψη'!$F$2:$F289=$A18, 'Σύνοψη'!$G$2:$G289=$B18, 'Σύνοψη'!$C$2:$C289=E$3)), IF(SUMPRODUCT(('Σύνοψη'!$F$2:$F289=$A18)*('Σύνοψη'!$C$2:$C289=E$3)*('Σύνοψη'!$G$2:$G289<$B18)*('Σύνοψη'!$H$2:$H289>$B18))>0, CHAR(34), """") ), """")"),"") | F18: =IFERROR(__xludf.DUMMYFUNCTION("IFERROR(IF(SUMPRODUCT(('Σύνοψη'!$F$2:$F289=$A18)*('Σύνοψη'!$C$2:$C289=F$3)*('Σύνοψη'!$G$2:$G289=$B18))>0, TEXTJOIN(CHAR(10) & ""-----------------------"" & CHAR(10), TRUE, FILTER('Σύνοψη'!$E$2:$E289 & "" - "" & 'Σύνοψη'!$I$2:$I289 & "" ("" & 'Σύνοψη'!$J$2"&":$J289 & "")"", 'Σύνοψη'!$F$2:$F289=$A18, 'Σύνοψη'!$G$2:$G289=$B18, 'Σύνοψη'!$C$2:$C289=F$3)), IF(SUMPRODUCT(('Σύνοψη'!$F$2:$F289=$A18)*('Σύνοψη'!$C$2:$C289=F$3)*('Σύνοψη'!$G$2:$G289<$B18)*('Σύνοψη'!$H$2:$H289>$B18))>0, CHAR(34), """") ), """")"),"") | G18: =IFERROR(__xludf.DUMMYFUNCTION("IFERROR(IF(SUMPRODUCT(('Σύνοψη'!$F$2:$F289=$A18)*('Σύνοψη'!$C$2:$C289=G$3)*('Σύνοψη'!$G$2:$G289=$B18))>0, TEXTJOIN(CHAR(10) & ""-----------------------"" & CHAR(10), TRUE, FILTER('Σύνοψη'!$E$2:$E289 & "" - "" & 'Σύνοψη'!$I$2:$I289 & "" ("" & 'Σύνοψη'!$J$2"&":$J289 & "")"", 'Σύνοψη'!$F$2:$F289=$A18, 'Σύνοψη'!$G$2:$G289=$B18, 'Σύνοψη'!$C$2:$C289=G$3)), IF(SUMPRODUCT(('Σύνοψη'!$F$2:$F289=$A18)*('Σύνοψη'!$C$2:$C289=G$3)*('Σύνοψη'!$G$2:$G289<$B18)*('Σύνοψη'!$H$2:$H289>$B18))>0, CHAR(34), """") ), """")"),"") | H18: =IFERROR(__xludf.DUMMYFUNCTION("IFERROR(IF(SUMPRODUCT(('Σύνοψη'!$F$2:$F289=$A18)*('Σύνοψη'!$C$2:$C289=H$3)*('Σύνοψη'!$G$2:$G289=$B18))>0, TEXTJOIN(CHAR(10) & ""-----------------------"" & CHAR(10), TRUE, FILTER('Σύνοψη'!$E$2:$E289 & "" - "" & 'Σύνοψη'!$I$2:$I289 & "" ("" & 'Σύνοψη'!$J$2"&":$J289 & "")"", 'Σύνοψη'!$F$2:$F289=$A18, 'Σύνοψη'!$G$2:$G289=$B18, 'Σύνοψη'!$C$2:$C289=H$3)), IF(SUMPRODUCT(('Σύνοψη'!$F$2:$F289=$A18)*('Σύνοψη'!$C$2:$C289=H$3)*('Σύνοψη'!$G$2:$G289<$B18)*('Σύνοψη'!$H$2:$H289>$B18))>0, CHAR(34), """") ), """")"),"")
A19: =$A$18 -> 46266 | B19: 0.375 | C19: =IFERROR(__xludf.DUMMYFUNCTION("IFERROR(IF(SUMPRODUCT(('Σύνοψη'!$F$2:$F289=$A19)*('Σύνοψη'!$C$2:$C289=C$3)*('Σύνοψη'!$G$2:$G289=$B19))>0, TEXTJOIN(CHAR(10) & ""-----------------------"" & CHAR(10), TRUE, FILTER('Σύνοψη'!$E$2:$E289 & "" - "" & 'Σύνοψη'!$I$2:$I289 & "" ("" & 'Σύνοψη'!$J$2"&":$J289 & "")"", 'Σύνοψη'!$F$2:$F289=$A19, 'Σύνοψη'!$G$2:$G289=$B19, 'Σύνοψη'!$C$2:$C289=C$3)), IF(SUMPRODUCT(('Σύνοψη'!$F$2:$F289=$A19)*('Σύνοψη'!$C$2:$C289=C$3)*('Σύνοψη'!$G$2:$G289<$B19)*('Σύνοψη'!$H$2:$H289>$B19))>0, CHAR(34), """") ), """")"),"Γενικές Αρχές Βιοχημείας - 09:00 - 11:00 (Νέες Αίθουσες)") -> Γενικές Αρχές Βιοχημείας - 09:00 - 11:00 (Νέες Αίθουσες) | D19: =IFERROR(__xludf.DUMMYFUNCTION("IFERROR(IF(SUMPRODUCT(('Σύνοψη'!$F$2:$F289=$A19)*('Σύνοψη'!$C$2:$C289=D$3)*('Σύνοψη'!$G$2:$G289=$B19))>0, TEXTJOIN(CHAR(10) & ""-----------------------"" & CHAR(10), TRUE, FILTER('Σύνοψη'!$E$2:$E289 & "" - "" & 'Σύνοψη'!$I$2:$I289 & "" ("" & 'Σύνοψη'!$J$2"&":$J289 & "")"", 'Σύνοψη'!$F$2:$F289=$A19, 'Σύνοψη'!$G$2:$G289=$B19, 'Σύνοψη'!$C$2:$C289=D$3)), IF(SUMPRODUCT(('Σύνοψη'!$F$2:$F289=$A19)*('Σύνοψη'!$C$2:$C289=D$3)*('Σύνοψη'!$G$2:$G289<$B19)*('Σύνοψη'!$H$2:$H289>$B19))>0, CHAR(34), """") ), """")"),"Προϊόντα Μελισσοκομίας - 09:00 - 12:00 (Αμφιθέατρα)") -> Προϊόντα Μελισσοκομίας - 09:00 - 12:00 (Αμφιθέατρα) | E19: =IFERROR(__xludf.DUMMYFUNCTION("IFERROR(IF(SUMPRODUCT(('Σύνοψη'!$F$2:$F289=$A19)*('Σύνοψη'!$C$2:$C289=E$3)*('Σύνοψη'!$G$2:$G289=$B19))>0, TEXTJOIN(CHAR(10) & ""-----------------------"" & CHAR(10), TRUE, FILTER('Σύνοψη'!$E$2:$E289 & "" - "" & 'Σύνοψη'!$I$2:$I289 & "" ("" & 'Σύνοψη'!$J$2"&":$J289 & "")"", 'Σύνοψη'!$F$2:$F289=$A19, 'Σύνοψη'!$G$2:$G289=$B19, 'Σύνοψη'!$C$2:$C289=E$3)), IF(SUMPRODUCT(('Σύνοψη'!$F$2:$F289=$A19)*('Σύνοψη'!$C$2:$C289=E$3)*('Σύνοψη'!$G$2:$G289<$B19)*('Σύνοψη'!$H$2:$H289>$B19))>0, CHAR(34), """") ), """")"),"") | F19: =IFERROR(__xludf.DUMMYFUNCTION("IFERROR(IF(SUMPRODUCT(('Σύνοψη'!$F$2:$F289=$A19)*('Σύνοψη'!$C$2:$C289=F$3)*('Σύνοψη'!$G$2:$G289=$B19))>0, TEXTJOIN(CHAR(10) & ""-----------------------"" & CHAR(10), TRUE, FILTER('Σύνοψη'!$E$2:$E289 & "" - "" & 'Σύνοψη'!$I$2:$I289 & "" ("" & 'Σύνοψη'!$J$2"&":$J289 & "")"", 'Σύνοψη'!$F$2:$F289=$A19, 'Σύνοψη'!$G$2:$G289=$B19, 'Σύνοψη'!$C$2:$C289=F$3)), IF(SUMPRODUCT(('Σύνοψη'!$F$2:$F289=$A19)*('Σύνοψη'!$C$2:$C289=F$3)*('Σύνοψη'!$G$2:$G289<$B19)*('Σύνοψη'!$H$2:$H289>$B19))>0, CHAR(34), """") ), """")"),"") | G19: =IFERROR(__xludf.DUMMYFUNCTION("IFERROR(IF(SUMPRODUCT(('Σύνοψη'!$F$2:$F289=$A19)*('Σύνοψη'!$C$2:$C289=G$3)*('Σύνοψη'!$G$2:$G289=$B19))>0, TEXTJOIN(CHAR(10) & ""-----------------------"" & CHAR(10), TRUE, FILTER('Σύνοψη'!$E$2:$E289 & "" - "" & 'Σύνοψη'!$I$2:$I289 & "" ("" & 'Σύνοψη'!$J$2"&":$J289 & "")"", 'Σύνοψη'!$F$2:$F289=$A19, 'Σύνοψη'!$G$2:$G289=$B19, 'Σύνοψη'!$C$2:$C289=G$3)), IF(SUMPRODUCT(('Σύνοψη'!$F$2:$F289=$A19)*('Σύνοψη'!$C$2:$C289=G$3)*('Σύνοψη'!$G$2:$G289<$B19)*('Σύνοψη'!$H$2:$H289>$B19))>0, CHAR(34), """") ), """")"),"") | H19: =IFERROR(__xludf.DUMMYFUNCTION("IFERROR(IF(SUMPRODUCT(('Σύνοψη'!$F$2:$F289=$A19)*('Σύνοψη'!$C$2:$C289=H$3)*('Σύνοψη'!$G$2:$G289=$B19))>0, TEXTJOIN(CHAR(10) & ""-----------------------"" & CHAR(10), TRUE, FILTER('Σύνοψη'!$E$2:$E289 & "" - "" & 'Σύνοψη'!$I$2:$I289 & "" ("" & 'Σύνοψη'!$J$2"&":$J289 & "")"", 'Σύνοψη'!$F$2:$F289=$A19, 'Σύνοψη'!$G$2:$G289=$B19, 'Σύνοψη'!$C$2:$C289=H$3)), IF(SUMPRODUCT(('Σύνοψη'!$F$2:$F289=$A19)*('Σύνοψη'!$C$2:$C289=H$3)*('Σύνοψη'!$G$2:$G289<$B19)*('Σύνοψη'!$H$2:$H289>$B19))>0, CHAR(34), """") ), """")"),"Αρχές Χημείας για Κτηνιατρική Επιστήμη (ΠΠΣ) - 09:00 - 11:00 (Νέες Αίθουσες)") -> Αρχές Χημείας για Κτηνιατρική Επιστήμη (ΠΠΣ) - 09:00 - 11:00 (Νέες Αίθουσες)
A20: =$A$18 -> 46266 | B20: 0.41666667 | C20: =IFERROR(__xludf.DUMMYFUNCTION("IFERROR(IF(SUMPRODUCT(('Σύνοψη'!$F$2:$F289=$A20)*('Σύνοψη'!$C$2:$C289=C$3)*('Σύνοψη'!$G$2:$G289=$B20))>0, TEXTJOIN(CHAR(10) & ""-----------------------"" & CHAR(10), TRUE, FILTER('Σύνοψη'!$E$2:$E289 & "" - "" & 'Σύνοψη'!$I$2:$I289 & "" ("" & 'Σύνοψη'!$J$2"&":$J289 & "")"", 'Σύνοψη'!$F$2:$F289=$A20, 'Σύνοψη'!$G$2:$G289=$B20, 'Σύνοψη'!$C$2:$C289=C$3)), IF(SUMPRODUCT(('Σύνοψη'!$F$2:$F289=$A20)*('Σύνοψη'!$C$2:$C289=C$3)*('Σύνοψη'!$G$2:$G289<$B20)*('Σύνοψη'!$H$2:$H289>$B20))>0, CHAR(34), """") ), """")"),"""") -> " | D20: =IFERROR(__xludf.DUMMYFUNCTION("IFERROR(IF(SUMPRODUCT(('Σύνοψη'!$F$2:$F289=$A20)*('Σύνοψη'!$C$2:$C289=D$3)*('Σύνοψη'!$G$2:$G289=$B20))>0, TEXTJOIN(CHAR(10) & ""-----------------------"" & CHAR(10), TRUE, FILTER('Σύνοψη'!$E$2:$E289 & "" - "" & 'Σύνοψη'!$I$2:$I289 & "" ("" & 'Σύνοψη'!$J$2"&":$J289 & "")"", 'Σύνοψη'!$F$2:$F289=$A20, 'Σύνοψη'!$G$2:$G289=$B20, 'Σύνοψη'!$C$2:$C289=D$3)), IF(SUMPRODUCT(('Σύνοψη'!$F$2:$F289=$A20)*('Σύνοψη'!$C$2:$C289=D$3)*('Σύνοψη'!$G$2:$G289<$B20)*('Σύνοψη'!$H$2:$H289>$B20))>0, CHAR(34), """") ), """")"),"""") -> " | E20: =IFERROR(__xludf.DUMMYFUNCTION("IFERROR(IF(SUMPRODUCT(('Σύνοψη'!$F$2:$F289=$A20)*('Σύνοψη'!$C$2:$C289=E$3)*('Σύνοψη'!$G$2:$G289=$B20))>0, TEXTJOIN(CHAR(10) & ""-----------------------"" & CHAR(10), TRUE, FILTER('Σύνοψη'!$E$2:$E289 & "" - "" & 'Σύνοψη'!$I$2:$I289 & "" ("" & 'Σύνοψη'!$J$2"&":$J289 & "")"", 'Σύνοψη'!$F$2:$F289=$A20, 'Σύνοψη'!$G$2:$G289=$B20, 'Σύνοψη'!$C$2:$C289=E$3)), IF(SUMPRODUCT(('Σύνοψη'!$F$2:$F289=$A20)*('Σύνοψη'!$C$2:$C289=E$3)*('Σύνοψη'!$G$2:$G289<$B20)*('Σύνοψη'!$H$2:$H289>$B20))>0, CHAR(34), """") ), """")"),"") | F20: =IFERROR(__xludf.DUMMYFUNCTION("IFERROR(IF(SUMPRODUCT(('Σύνοψη'!$F$2:$F289=$A20)*('Σύνοψη'!$C$2:$C289=F$3)*('Σύνοψη'!$G$2:$G289=$B20))>0, TEXTJOIN(CHAR(10) & ""-----------------------"" & CHAR(10), TRUE, FILTER('Σύνοψη'!$E$2:$E289 & "" - "" & 'Σύνοψη'!$I$2:$I289 & "" ("" & 'Σύνοψη'!$J$2"&":$J289 & "")"", 'Σύνοψη'!$F$2:$F289=$A20, 'Σύνοψη'!$G$2:$G289=$B20, 'Σύνοψη'!$C$2:$C289=F$3)), IF(SUMPRODUCT(('Σύνοψη'!$F$2:$F289=$A20)*('Σύνοψη'!$C$2:$C289=F$3)*('Σύνοψη'!$G$2:$G289<$B20)*('Σύνοψη'!$H$2:$H289>$B20))>0, CHAR(34), """") ), """")"),"") | G20: =IFERROR(__xludf.DUMMYFUNCTION("IFERROR(IF(SUMPRODUCT(('Σύνοψη'!$F$2:$F289=$A20)*('Σύνοψη'!$C$2:$C289=G$3)*('Σύνοψη'!$G$2:$G289=$B20))>0, TEXTJOIN(CHAR(10) & ""-----------------------"" & CHAR(10), TRUE, FILTER('Σύνοψη'!$E$2:$E289 & "" - "" & 'Σύνοψη'!$I$2:$I289 & "" ("" & 'Σύνοψη'!$J$2"&":$J289 & "")"", 'Σύνοψη'!$F$2:$F289=$A20, 'Σύνοψη'!$G$2:$G289=$B20, 'Σύνοψη'!$C$2:$C289=G$3)), IF(SUMPRODUCT(('Σύνοψη'!$F$2:$F289=$A20)*('Σύνοψη'!$C$2:$C289=G$3)*('Σύνοψη'!$G$2:$G289<$B20)*('Σύνοψη'!$H$2:$H289>$B20))>0, CHAR(34), """") ), """")"),"") | H20: =IFERROR(__xludf.DUMMYFUNCTION("IFERROR(IF(SUMPRODUCT(('Σύνοψη'!$F$2:$F289=$A20)*('Σύνοψη'!$C$2:$C289=H$3)*('Σύνοψη'!$G$2:$G289=$B20))>0, TEXTJOIN(CHAR(10) & ""-----------------------"" & CHAR(10), TRUE, FILTER('Σύνοψη'!$E$2:$E289 & "" - "" & 'Σύνοψη'!$I$2:$I289 & "" ("" & 'Σύνοψη'!$J$2"&":$J289 & "")"", 'Σύνοψη'!$F$2:$F289=$A20, 'Σύνοψη'!$G$2:$G289=$B20, 'Σύνοψη'!$C$2:$C289=H$3)), IF(SUMPRODUCT(('Σύνοψη'!$F$2:$F289=$A20)*('Σύνοψη'!$C$2:$C289=H$3)*('Σύνοψη'!$G$2:$G289<$B20)*('Σύνοψη'!$H$2:$H289>$B20))>0, CHAR(34), """") ), """")"),"""") -> "
